Back to Multiple platform build/check report for BioC 3.13
ABC[D]EFGHIJKLMNOPQRSTUVWXYZ

This page was generated on 2021-09-20 15:05:11 -0400 (Mon, 20 Sep 2021).

BUILD BIN results for DMCHMM on tokay2

To the developers/maintainers of the DMCHMM package:
- Please allow up to 24 hours (and sometimes 48 hours) for your latest push to git@git.bioconductor.org:packages/DMCHMM.git to
reflect on this report. See How and When does the builder pull? When will my changes propagate? here for more information.
- Make sure to use the following settings in order to reproduce any error or warning you see on this page.

raw results

Package 515/2041HostnameOS / ArchINSTALLBUILDCHECKBUILD BIN
DMCHMM 1.14.0  (landing page)
Farhad Shokoohi
Snapshot Date: 2021-09-19 04:50:10 -0400 (Sun, 19 Sep 2021)
git_url: https://git.bioconductor.org/packages/DMCHMM
git_branch: RELEASE_3_13
git_last_commit: d913bcf
git_last_commit_date: 2021-05-19 12:29:50 -0400 (Wed, 19 May 2021)
nebbiolo1Linux (Ubuntu 20.04.2 LTS) / x86_64  OK    OK    OK  UNNEEDED, same version is already published
tokay2Windows Server 2012 R2 Standard / x64  OK    OK    WARNINGS    OK  UNNEEDED, same version is already published
machv2macOS 10.14.6 Mojave / x86_64  OK    OK    OK    OK  UNNEEDED, same version is already published

Summary

Package: DMCHMM
Version: 1.14.0
Command: rm -rf DMCHMM.buildbin-libdir && mkdir DMCHMM.buildbin-libdir && C:\Users\biocbuild\bbs-3.13-bioc\R\bin\R.exe CMD INSTALL --merge-multiarch --build --library=DMCHMM.buildbin-libdir DMCHMM_1.14.0.tar.gz
StartedAt: 2021-09-20 08:27:49 -0400 (Mon, 20 Sep 2021)
EndedAt: 2021-09-20 08:28:56 -0400 (Mon, 20 Sep 2021)
EllapsedTime: 67.1 seconds
RetCode: 0
Status:   OK  
PackageFile: DMCHMM_1.14.0.zip
PackageFileSize: 996.3 KiB

Command output

##############################################################################
##############################################################################
###
### Running command:
###
###   rm -rf DMCHMM.buildbin-libdir && mkdir DMCHMM.buildbin-libdir && C:\Users\biocbuild\bbs-3.13-bioc\R\bin\R.exe CMD INSTALL --merge-multiarch --build --library=DMCHMM.buildbin-libdir DMCHMM_1.14.0.tar.gz
###
##############################################################################
##############################################################################



install for i386

* installing *source* package 'DMCHMM' ...
** using staged installation
** R
** inst
** byte-compile and prepare package for lazy loading
Warning: replacing previous import 'IRanges::windows' by 'grDevices::windows' when loading 'DMCHMM'
** help
*** installing help indices
  converting help for package 'DMCHMM'
    finding HTML links ... done
    BSDMCs-class                            html  
    BSData-class                            html  
    finding level-2 HTML links ... done

    DMCHMM-package                          html  
    cBSDMCs-method                          html  
    cBSData-method                          html  
    combine-method                          html  
    data                                    html  
    findDMCs-method                         html  
    manhattanDMCs-method                    html  
    methHMEM-method                         html  
    methHMMCMC-method                       html  
    methLevels-method                       html  
    methReads-method                        html  
    methStates-method                       html  
    methVars-method                         html  
    params                                  html  
    qqDMCs-method                           html  
    readBismark-method                      html  
    totalReads-method                       html  
    writeBED-method                         html  
** building package indices
** installing vignettes
** testing if installed package can be loaded from temporary location
Warning: replacing previous import 'IRanges::windows' by 'grDevices::windows' when loading 'DMCHMM'
** testing if installed package can be loaded from final location
Warning: replacing previous import 'IRanges::windows' by 'grDevices::windows' when loading 'DMCHMM'
** testing if installed package keeps a record of temporary installation path

install for x64

* installing *source* package 'DMCHMM' ...
** testing if installed package can be loaded
Warning: replacing previous import 'IRanges::windows' by 'grDevices::windows' when loading 'DMCHMM'
* MD5 sums
packaged installation of 'DMCHMM' as DMCHMM_1.14.0.zip
* DONE (DMCHMM)