Back to Multiple platform build/check report for BioC 3.13
ABC[D]EFGHIJKLMNOPQRSTUVWXYZ

This page was generated on 2021-09-20 15:05:11 -0400 (Mon, 20 Sep 2021).

BUILD results for DMCFB on tokay2

To the developers/maintainers of the DMCFB package:
- Please allow up to 24 hours (and sometimes 48 hours) for your latest push to git@git.bioconductor.org:packages/DMCFB.git to
reflect on this report. See How and When does the builder pull? When will my changes propagate? here for more information.
- Make sure to use the following settings in order to reproduce any error or warning you see on this page.

raw results

Package 514/2041HostnameOS / ArchINSTALLBUILDCHECKBUILD BIN
DMCFB 1.6.0  (landing page)
Farhad Shokoohi
Snapshot Date: 2021-09-19 04:50:10 -0400 (Sun, 19 Sep 2021)
git_url: https://git.bioconductor.org/packages/DMCFB
git_branch: RELEASE_3_13
git_last_commit: 802cb16
git_last_commit_date: 2021-05-19 12:46:41 -0400 (Wed, 19 May 2021)
nebbiolo1Linux (Ubuntu 20.04.2 LTS) / x86_64  OK    OK    OK  UNNEEDED, same version is already published
tokay2Windows Server 2012 R2 Standard / x64  OK    OK    OK    OK  UNNEEDED, same version is already published
machv2macOS 10.14.6 Mojave / x86_64  OK    OK    OK    OK  UNNEEDED, same version is already published

Summary

Package: DMCFB
Version: 1.6.0
Command: chmod a+r DMCFB -R && C:\Users\biocbuild\bbs-3.13-bioc\R\bin\R.exe CMD build --keep-empty-dirs --no-resave-data DMCFB
StartedAt: 2021-09-19 12:55:45 -0400 (Sun, 19 Sep 2021)
EndedAt: 2021-09-19 12:56:53 -0400 (Sun, 19 Sep 2021)
EllapsedTime: 68.3 seconds
RetCode: 0
Status:   OK  
PackageFile: DMCFB_1.6.0.tar.gz
PackageFileSize: 969.5 KiB

Command output

##############################################################################
##############################################################################
###
### Running command:
###
###   chmod a+r DMCFB -R && C:\Users\biocbuild\bbs-3.13-bioc\R\bin\R.exe CMD build --keep-empty-dirs --no-resave-data DMCFB
###
##############################################################################
##############################################################################


* checking for file 'DMCFB/DESCRIPTION' ... OK
* preparing 'DMCFB':
* checking DESCRIPTION meta-information ... OK
* installing the package to build vignettes
* creating vignettes ... OK
* checking for LF line-endings in source and make files and shell scripts
* checking for empty or unneeded directories
Omitted 'LazyData' from DESCRIPTION
* building 'DMCFB_1.6.0.tar.gz'