Back to Multiple platform build/check report for BioC 3.13
ABC[D]EFGHIJKLMNOPQRSTUVWXYZ

This page was generated on 2021-09-24 15:06:08 -0400 (Fri, 24 Sep 2021).

BUILD BIN results for DMCFB on tokay2

To the developers/maintainers of the DMCFB package:
- Please allow up to 24 hours (and sometimes 48 hours) for your latest push to git@git.bioconductor.org:packages/DMCFB.git to
reflect on this report. See How and When does the builder pull? When will my changes propagate? here for more information.
- Make sure to use the following settings in order to reproduce any error or warning you see on this page.

raw results

Package 514/2041HostnameOS / ArchINSTALLBUILDCHECKBUILD BIN
DMCFB 1.6.0  (landing page)
Farhad Shokoohi
Snapshot Date: 2021-09-23 04:50:12 -0400 (Thu, 23 Sep 2021)
git_url: https://git.bioconductor.org/packages/DMCFB
git_branch: RELEASE_3_13
git_last_commit: 802cb16
git_last_commit_date: 2021-05-19 12:46:41 -0400 (Wed, 19 May 2021)
nebbiolo1Linux (Ubuntu 20.04.2 LTS) / x86_64  OK    OK    OK  UNNEEDED, same version is already published
tokay2Windows Server 2012 R2 Standard / x64  OK    OK    OK    OK  UNNEEDED, same version is already published
machv2macOS 10.14.6 Mojave / x86_64  OK    OK    OK    OK  UNNEEDED, same version is already published

Summary

Package: DMCFB
Version: 1.6.0
Command: rm -rf DMCFB.buildbin-libdir && mkdir DMCFB.buildbin-libdir && C:\Users\biocbuild\bbs-3.13-bioc\R\bin\R.exe CMD INSTALL --merge-multiarch --build --library=DMCFB.buildbin-libdir DMCFB_1.6.0.tar.gz
StartedAt: 2021-09-24 08:09:24 -0400 (Fri, 24 Sep 2021)
EndedAt: 2021-09-24 08:10:41 -0400 (Fri, 24 Sep 2021)
EllapsedTime: 77.7 seconds
RetCode: 0
Status:   OK  
PackageFile: DMCFB_1.6.0.zip
PackageFileSize: 1.097 MiB

Command output

##############################################################################
##############################################################################
###
### Running command:
###
###   rm -rf DMCFB.buildbin-libdir && mkdir DMCFB.buildbin-libdir && C:\Users\biocbuild\bbs-3.13-bioc\R\bin\R.exe CMD INSTALL --merge-multiarch --build --library=DMCFB.buildbin-libdir DMCFB_1.6.0.tar.gz
###
##############################################################################
##############################################################################



install for i386

* installing *source* package 'DMCFB' ...
** using staged installation
** R
** inst
** byte-compile and prepare package for lazy loading
** help
*** installing help indices
  converting help for package 'DMCFB'
    finding HTML links ... done
    BSDMC-class                             html  
    finding level-2 HTML links ... done

    DMCFB-package                           html  
    cBSDMC-method                           html  
    combine-method                          html  
    findDMCFB-method                        html  
    methLevels-method                       html  
    methReads-method                        html  
    params                                  html  
    plotDMCFB-method                        html  
    readBismark-method                      html  
    totalReads-method                       html  
** building package indices
** installing vignettes
** testing if installed package can be loaded from temporary location
** testing if installed package can be loaded from final location
** testing if installed package keeps a record of temporary installation path

install for x64

* installing *source* package 'DMCFB' ...
** testing if installed package can be loaded
* MD5 sums
packaged installation of 'DMCFB' as DMCFB_1.6.0.zip
* DONE (DMCFB)