Back to Multiple platform build/check report for BioC 3.13
ABC[D]EFGHIJKLMNOPQRSTUVWXYZ

This page was generated on 2021-09-17 15:05:38 -0400 (Fri, 17 Sep 2021).

BUILD results for DExMA on nebbiolo1

To the developers/maintainers of the DExMA package:
- Please allow up to 24 hours (and sometimes 48 hours) for your latest push to git@git.bioconductor.org:packages/DExMA.git to
reflect on this report. See How and When does the builder pull? When will my changes propagate? here for more information.
- Make sure to use the following settings in order to reproduce any error or warning you see on this page.

raw results

Package 490/2041HostnameOS / ArchINSTALLBUILDCHECKBUILD BIN
DExMA 1.0.2  (landing page)
Juan Antonio Villatoro-García
Snapshot Date: 2021-09-16 04:50:11 -0400 (Thu, 16 Sep 2021)
git_url: https://git.bioconductor.org/packages/DExMA
git_branch: RELEASE_3_13
git_last_commit: 2f24d41
git_last_commit_date: 2021-07-26 06:58:06 -0400 (Mon, 26 Jul 2021)
nebbiolo1Linux (Ubuntu 20.04.2 LTS) / x86_64  OK    OK    OK  UNNEEDED, same version is already published
tokay2Windows Server 2012 R2 Standard / x64  OK    OK    OK    OK  UNNEEDED, same version is already published
machv2macOS 10.14.6 Mojave / x86_64  OK    OK    OK    OK  UNNEEDED, same version is already published

Summary

Package: DExMA
Version: 1.0.2
Command: /home/biocbuild/bbs-3.13-bioc/R/bin/R CMD build --keep-empty-dirs --no-resave-data DExMA
StartedAt: 2021-09-16 07:06:05 -0400 (Thu, 16 Sep 2021)
EndedAt: 2021-09-16 07:06:45 -0400 (Thu, 16 Sep 2021)
EllapsedTime: 40.0 seconds
RetCode: 0
Status:   OK  
PackageFile: DExMA_1.0.2.tar.gz
PackageFileSize: 285.5 KiB

Command output

##############################################################################
##############################################################################
###
### Running command:
###
###   /home/biocbuild/bbs-3.13-bioc/R/bin/R CMD build --keep-empty-dirs --no-resave-data DExMA
###
##############################################################################
##############################################################################


* checking for file ‘DExMA/DESCRIPTION’ ... OK
* preparing ‘DExMA’:
* checking DESCRIPTION meta-information ... OK
* installing the package to build vignettes
* creating vignettes ... OK
* checking for LF line-endings in source and make files and shell scripts
* checking for empty or unneeded directories
Omitted ‘LazyData’ from DESCRIPTION
* building ‘DExMA_1.0.2.tar.gz’