Back to Multiple platform build/check report for BioC 3.13
ABC[D]EFGHIJKLMNOPQRSTUVWXYZ

This page was generated on 2021-09-17 15:06:34 -0400 (Fri, 17 Sep 2021).

BUILD BIN results for DExMA on machv2

To the developers/maintainers of the DExMA package:
- Please allow up to 24 hours (and sometimes 48 hours) for your latest push to git@git.bioconductor.org:packages/DExMA.git to
reflect on this report. See How and When does the builder pull? When will my changes propagate? here for more information.
- Make sure to use the following settings in order to reproduce any error or warning you see on this page.

raw results

Package 490/2041HostnameOS / ArchINSTALLBUILDCHECKBUILD BIN
DExMA 1.0.2  (landing page)
Juan Antonio Villatoro-García
Snapshot Date: 2021-09-16 04:50:11 -0400 (Thu, 16 Sep 2021)
git_url: https://git.bioconductor.org/packages/DExMA
git_branch: RELEASE_3_13
git_last_commit: 2f24d41
git_last_commit_date: 2021-07-26 06:58:06 -0400 (Mon, 26 Jul 2021)
nebbiolo1Linux (Ubuntu 20.04.2 LTS) / x86_64  OK    OK    OK  UNNEEDED, same version is already published
tokay2Windows Server 2012 R2 Standard / x64  OK    OK    OK    OK  UNNEEDED, same version is already published
machv2macOS 10.14.6 Mojave / x86_64  OK    OK    OK    OK  UNNEEDED, same version is already published

Summary

Package: DExMA
Version: 1.0.2
Command: rm -rf DExMA.buildbin-libdir && mkdir DExMA.buildbin-libdir && /Users/biocbuild/BBS/utils/build-universal.sh DExMA_1.0.2.tar.gz /Library/Frameworks/R.framework/Versions/Current/Resources/bin/R DExMA.buildbin-libdir
StartedAt: 2021-09-17 02:19:14 -0400 (Fri, 17 Sep 2021)
EndedAt: 2021-09-17 02:20:24 -0400 (Fri, 17 Sep 2021)
EllapsedTime: 69.5 seconds
RetCode: 0
Status:   OK  
PackageFile: DExMA_1.0.2.tgz
PackageFileSize: 365.7 KiB

Command output

##############################################################################
##############################################################################
###
### Running command:
###
###   rm -rf DExMA.buildbin-libdir && mkdir DExMA.buildbin-libdir && /Users/biocbuild/BBS/utils/build-universal.sh DExMA_1.0.2.tar.gz /Library/Frameworks/R.framework/Versions/Current/Resources/bin/R DExMA.buildbin-libdir
###
##############################################################################
##############################################################################


>>>>>>> 
>>>>>>> INSTALLATION WITH 'R CMD INSTALL --preclean --no-multiarch --library=DExMA.buildbin-libdir DExMA_1.0.2.tar.gz'
>>>>>>> 

* installing *source* package ‘DExMA’ ...
** using staged installation
** R
** inst
** byte-compile and prepare package for lazy loading
** help
*** installing help indices
** building package indices
** installing vignettes
** testing if installed package can be loaded from temporary location
** testing if installed package can be loaded from final location
** testing if installed package keeps a record of temporary installation path
* DONE (DExMA)