Back to Multiple platform build/check report for BioC 3.13
ABC[D]EFGHIJKLMNOPQRSTUVWXYZ

This page was generated on 2021-07-21 15:05:19 -0400 (Wed, 21 Jul 2021).

BUILD results for DEsubs on tokay2

To the developers/maintainers of the DEsubs package:
- Please allow up to 24 hours (and sometimes 48 hours) for your latest push to git@git.bioconductor.org:packages/DEsubs.git to
reflect on this report. See How and When does the builder pull? When will my changes propagate? here for more information.
- Make sure to use the following settings in order to reproduce any error or warning you see on this page.

raw results

Package 488/2041HostnameOS / ArchINSTALLBUILDCHECKBUILD BIN
DEsubs 1.18.0  (landing page)
Aristidis G. Vrahatis , Panos Balomenos
Snapshot Date: 2021-07-20 04:50:13 -0400 (Tue, 20 Jul 2021)
URL: https://git.bioconductor.org/packages/DEsubs
Branch: RELEASE_3_13
Last Commit: 9c8fa85
Last Changed Date: 2021-05-19 12:23:24 -0400 (Wed, 19 May 2021)
nebbiolo1Linux (Ubuntu 20.04.2 LTS) / x86_64  OK    OK    OK  UNNEEDED, same version is already published
tokay2Windows Server 2012 R2 Standard / x64  OK    OK    OK    OK  UNNEEDED, same version is already published
machv2macOS 10.14.6 Mojave / x86_64  OK    OK    OK    OK  UNNEEDED, same version is already published

Summary

Package: DEsubs
Version: 1.18.0
Command: chmod a+r DEsubs -R && C:\Users\biocbuild\bbs-3.13-bioc\R\bin\R.exe CMD build --keep-empty-dirs --no-resave-data DEsubs
StartedAt: 2021-07-20 14:01:11 -0400 (Tue, 20 Jul 2021)
EndedAt: 2021-07-20 14:02:55 -0400 (Tue, 20 Jul 2021)
EllapsedTime: 104.0 seconds
RetCode: 0
Status:   OK  
PackageFile: DEsubs_1.18.0.tar.gz
PackageFileSize: 3.965 MiB

Command output

##############################################################################
##############################################################################
###
### Running command:
###
###   chmod a+r DEsubs -R && C:\Users\biocbuild\bbs-3.13-bioc\R\bin\R.exe CMD build --keep-empty-dirs --no-resave-data DEsubs
###
##############################################################################
##############################################################################


* checking for file 'DEsubs/DESCRIPTION' ... OK
* preparing 'DEsubs':
* checking DESCRIPTION meta-information ... OK
* installing the package to build vignettes
* creating vignettes ... OK
* checking for LF line-endings in source and make files and shell scripts
* checking for empty or unneeded directories
* building 'DEsubs_1.18.0.tar.gz'