Back to Multiple platform build/check report for BioC 3.13
ABC[D]EFGHIJKLMNOPQRSTUVWXYZ

This page was generated on 2021-07-23 15:06:32 -0400 (Fri, 23 Jul 2021).

BUILD BIN results for DEsubs on machv2

To the developers/maintainers of the DEsubs package:
- Please allow up to 24 hours (and sometimes 48 hours) for your latest push to git@git.bioconductor.org:packages/DEsubs.git to
reflect on this report. See How and When does the builder pull? When will my changes propagate? here for more information.
- Make sure to use the following settings in order to reproduce any error or warning you see on this page.

raw results

Package 488/2041HostnameOS / ArchINSTALLBUILDCHECKBUILD BIN
DEsubs 1.18.0  (landing page)
Aristidis G. Vrahatis , Panos Balomenos
Snapshot Date: 2021-07-22 04:50:13 -0400 (Thu, 22 Jul 2021)
URL: https://git.bioconductor.org/packages/DEsubs
Branch: RELEASE_3_13
Last Commit: 9c8fa85
Last Changed Date: 2021-05-19 12:23:24 -0400 (Wed, 19 May 2021)
nebbiolo1Linux (Ubuntu 20.04.2 LTS) / x86_64  OK    OK    OK  UNNEEDED, same version is already published
tokay2Windows Server 2012 R2 Standard / x64  OK    OK    OK    OK  UNNEEDED, same version is already published
machv2macOS 10.14.6 Mojave / x86_64  OK    OK    OK    OK  UNNEEDED, same version is already published

Summary

Package: DEsubs
Version: 1.18.0
Command: rm -rf DEsubs.buildbin-libdir && mkdir DEsubs.buildbin-libdir && /Users/biocbuild/BBS/utils/build-universal.sh DEsubs_1.18.0.tar.gz /Library/Frameworks/R.framework/Versions/Current/Resources/bin/R DEsubs.buildbin-libdir
StartedAt: 2021-07-23 01:45:16 -0400 (Fri, 23 Jul 2021)
EndedAt: 2021-07-23 01:46:06 -0400 (Fri, 23 Jul 2021)
EllapsedTime: 49.8 seconds
RetCode: 0
Status:   OK  
PackageFile: DEsubs_1.18.0.tgz
PackageFileSize: 3.734 MiB

Command output

##############################################################################
##############################################################################
###
### Running command:
###
###   rm -rf DEsubs.buildbin-libdir && mkdir DEsubs.buildbin-libdir && /Users/biocbuild/BBS/utils/build-universal.sh DEsubs_1.18.0.tar.gz /Library/Frameworks/R.framework/Versions/Current/Resources/bin/R DEsubs.buildbin-libdir
###
##############################################################################
##############################################################################


>>>>>>> 
>>>>>>> INSTALLATION WITH 'R CMD INSTALL --preclean --no-multiarch --library=DEsubs.buildbin-libdir DEsubs_1.18.0.tar.gz'
>>>>>>> 

* installing *source* package ‘DEsubs’ ...
** using staged installation
** R
** inst
** byte-compile and prepare package for lazy loading
** help
*** installing help indices
** building package indices
** installing vignettes
** testing if installed package can be loaded from temporary location
** testing if installed package can be loaded from final location
** testing if installed package keeps a record of temporary installation path
* DONE (DEsubs)