Back to Multiple platform build/check report for BioC 3.13
ABC[D]EFGHIJKLMNOPQRSTUVWXYZ

This page was generated on 2021-09-17 15:06:03 -0400 (Fri, 17 Sep 2021).

BUILD BIN results for DEXSeq on tokay2

To the developers/maintainers of the DEXSeq package:
- Please allow up to 24 hours (and sometimes 48 hours) for your latest push to git@git.bioconductor.org:packages/DEXSeq.git to
reflect on this report. See How and When does the builder pull? When will my changes propagate? here for more information.
- Make sure to use the following settings in order to reproduce any error or warning you see on this page.

raw results

Package 491/2041HostnameOS / ArchINSTALLBUILDCHECKBUILD BIN
DEXSeq 1.38.0  (landing page)
Alejandro Reyes
Snapshot Date: 2021-09-16 04:50:11 -0400 (Thu, 16 Sep 2021)
git_url: https://git.bioconductor.org/packages/DEXSeq
git_branch: RELEASE_3_13
git_last_commit: 62dc651
git_last_commit_date: 2021-05-19 11:48:55 -0400 (Wed, 19 May 2021)
nebbiolo1Linux (Ubuntu 20.04.2 LTS) / x86_64  OK    OK    OK  UNNEEDED, same version is already published
tokay2Windows Server 2012 R2 Standard / x64  OK    OK    OK    OK  UNNEEDED, same version is already published
machv2macOS 10.14.6 Mojave / x86_64  OK    OK    OK    OK  UNNEEDED, same version is already published

Summary

Package: DEXSeq
Version: 1.38.0
Command: rm -rf DEXSeq.buildbin-libdir && mkdir DEXSeq.buildbin-libdir && C:\Users\biocbuild\bbs-3.13-bioc\R\bin\R.exe CMD INSTALL --merge-multiarch --build --library=DEXSeq.buildbin-libdir DEXSeq_1.38.0.tar.gz
StartedAt: 2021-09-17 09:06:20 -0400 (Fri, 17 Sep 2021)
EndedAt: 2021-09-17 09:07:47 -0400 (Fri, 17 Sep 2021)
EllapsedTime: 87.4 seconds
RetCode: 0
Status:   OK  
PackageFile: DEXSeq_1.38.0.zip
PackageFileSize: 1018 KiB

Command output

##############################################################################
##############################################################################
###
### Running command:
###
###   rm -rf DEXSeq.buildbin-libdir && mkdir DEXSeq.buildbin-libdir && C:\Users\biocbuild\bbs-3.13-bioc\R\bin\R.exe CMD INSTALL --merge-multiarch --build --library=DEXSeq.buildbin-libdir DEXSeq_1.38.0.tar.gz
###
##############################################################################
##############################################################################



install for i386

* installing *source* package 'DEXSeq' ...
** using staged installation
** R
** inst
** byte-compile and prepare package for lazy loading
** help
*** installing help indices
  converting help for package 'DEXSeq'
    finding HTML links ... done
    DEXSeq-defunct                          html  
    DEXSeq                                  html  
    DEXSeqDataSet                           html  
    DEXSeqHTML                              html  
    DEXSeqResults                           html  
    accessors                               html  
    counts                                  html  
    estimateDispersions                     html  
    estimateExonFoldChanges                 html  
    estimateSizeFactors                     html  
    methods-gr                              html  
    otherMethods                            html  
    perGeneQValue                           html  
    plotDEXSeq                              html  
    plotDispEsts                            html  
    plotMA                                  html  
    testForDEU                              html  
** building package indices
** installing vignettes
** testing if installed package can be loaded from temporary location
** testing if installed package can be loaded from final location
** testing if installed package keeps a record of temporary installation path

install for x64

* installing *source* package 'DEXSeq' ...
** testing if installed package can be loaded
* MD5 sums
packaged installation of 'DEXSeq' as DEXSeq_1.38.0.zip
* DONE (DEXSeq)