Back to Multiple platform build/check report for BioC 3.13
ABC[D]EFGHIJKLMNOPQRSTUVWXYZ

This page was generated on 2021-09-13 15:06:23 -0400 (Mon, 13 Sep 2021).

BUILD BIN results for DEWSeq on tokay2

To the developers/maintainers of the DEWSeq package:
- Please allow up to 24 hours (and sometimes 48 hours) for your latest push to git@git.bioconductor.org:packages/DEWSeq.git to
reflect on this report. See How and When does the builder pull? When will my changes propagate? here for more information.
- Make sure to use the following settings in order to reproduce any error or warning you see on this page.

raw results

Package 489/2041HostnameOS / ArchINSTALLBUILDCHECKBUILD BIN
DEWSeq 1.6.0  (landing page)
bioinformatics team Hentze
Snapshot Date: 2021-09-12 04:50:10 -0400 (Sun, 12 Sep 2021)
git_url: https://git.bioconductor.org/packages/DEWSeq
git_branch: RELEASE_3_13
git_last_commit: 34f4829
git_last_commit_date: 2021-05-19 12:47:29 -0400 (Wed, 19 May 2021)
nebbiolo1Linux (Ubuntu 20.04.2 LTS) / x86_64  OK    OK    OK  UNNEEDED, same version is already published
tokay2Windows Server 2012 R2 Standard / x64  OK    OK    OK    OK  UNNEEDED, same version is already published
machv2macOS 10.14.6 Mojave / x86_64  OK    OK    OK    OK  UNNEEDED, same version is already published

Summary

Package: DEWSeq
Version: 1.6.0
Command: rm -rf DEWSeq.buildbin-libdir && mkdir DEWSeq.buildbin-libdir && C:\Users\biocbuild\bbs-3.13-bioc\R\bin\R.exe CMD INSTALL --merge-multiarch --build --library=DEWSeq.buildbin-libdir DEWSeq_1.6.0.tar.gz
StartedAt: 2021-09-13 08:27:47 -0400 (Mon, 13 Sep 2021)
EndedAt: 2021-09-13 08:29:10 -0400 (Mon, 13 Sep 2021)
EllapsedTime: 83.2 seconds
RetCode: 0
Status:   OK  
PackageFile: DEWSeq_1.6.0.zip
PackageFileSize: 2.386 MiB

Command output

##############################################################################
##############################################################################
###
### Running command:
###
###   rm -rf DEWSeq.buildbin-libdir && mkdir DEWSeq.buildbin-libdir && C:\Users\biocbuild\bbs-3.13-bioc\R\bin\R.exe CMD INSTALL --merge-multiarch --build --library=DEWSeq.buildbin-libdir DEWSeq_1.6.0.tar.gz
###
##############################################################################
##############################################################################



install for i386

* installing *source* package 'DEWSeq' ...
** using staged installation
** R
** data
** inst
** byte-compile and prepare package for lazy loading
** help
*** installing help indices
  converting help for package 'DEWSeq'
    finding HTML links ... done
    DESeqDataSetFromSlidingWindows          html  
    SLBP_K562_w50s20                        html  
    dot-readAnnotation                      html  
    extractRegions                          html  
    resultsDEWSeq                           html  
    finding level-2 HTML links ... done

    slbpDds                                 html  
    slbpRegions                             html  
    slbpVst                                 html  
    slbpWindows                             html  
    toBED                                   html  
    topWindowStats                          html  
** building package indices
** installing vignettes
** testing if installed package can be loaded from temporary location
** testing if installed package can be loaded from final location
** testing if installed package keeps a record of temporary installation path

install for x64

* installing *source* package 'DEWSeq' ...
** testing if installed package can be loaded
* MD5 sums
packaged installation of 'DEWSeq' as DEWSeq_1.6.0.zip
* DONE (DEWSeq)