Back to Multiple platform build/check report for BioC 3.13
ABC[D]EFGHIJKLMNOPQRSTUVWXYZ

This page was generated on 2021-09-22 15:05:13 -0400 (Wed, 22 Sep 2021).

BUILD results for DESeq2 on tokay2

To the developers/maintainers of the DESeq2 package:
- Please allow up to 24 hours (and sometimes 48 hours) for your latest push to git@git.bioconductor.org:packages/DESeq2.git to
reflect on this report. See How and When does the builder pull? When will my changes propagate? here for more information.
- Make sure to use the following settings in order to reproduce any error or warning you see on this page.

raw results

Package 485/2041HostnameOS / ArchINSTALLBUILDCHECKBUILD BIN
DESeq2 1.32.0  (landing page)
Michael Love
Snapshot Date: 2021-09-21 04:50:12 -0400 (Tue, 21 Sep 2021)
git_url: https://git.bioconductor.org/packages/DESeq2
git_branch: RELEASE_3_13
git_last_commit: d2820e0
git_last_commit_date: 2021-05-19 11:57:45 -0400 (Wed, 19 May 2021)
nebbiolo1Linux (Ubuntu 20.04.2 LTS) / x86_64  OK    OK    OK  UNNEEDED, same version is already published
tokay2Windows Server 2012 R2 Standard / x64  OK    OK    OK    OK  UNNEEDED, same version is already published
machv2macOS 10.14.6 Mojave / x86_64  OK    OK    OK    OK  UNNEEDED, same version is already published

Summary

Package: DESeq2
Version: 1.32.0
Command: chmod a+r DESeq2 -R && C:\Users\biocbuild\bbs-3.13-bioc\R\bin\R.exe CMD build --keep-empty-dirs --no-resave-data DESeq2
StartedAt: 2021-09-21 13:13:54 -0400 (Tue, 21 Sep 2021)
EndedAt: 2021-09-21 13:16:57 -0400 (Tue, 21 Sep 2021)
EllapsedTime: 183.0 seconds
RetCode: 0
Status:   OK  
PackageFile: DESeq2_1.32.0.tar.gz
PackageFileSize: 1.329 MiB

Command output

##############################################################################
##############################################################################
###
### Running command:
###
###   chmod a+r DESeq2 -R && C:\Users\biocbuild\bbs-3.13-bioc\R\bin\R.exe CMD build --keep-empty-dirs --no-resave-data DESeq2
###
##############################################################################
##############################################################################


* checking for file 'DESeq2/DESCRIPTION' ... OK
* preparing 'DESeq2':
* checking DESCRIPTION meta-information ... OK
* cleaning src
* installing the package to build vignettes
* creating vignettes ... OK
* cleaning src
* checking for LF line-endings in source and make files and shell scripts
* checking for empty or unneeded directories
* building 'DESeq2_1.32.0.tar.gz'