Back to Multiple platform build/check report for BioC 3.13
ABC[D]EFGHIJKLMNOPQRSTUVWXYZ

This page was generated on 2021-09-24 15:06:07 -0400 (Fri, 24 Sep 2021).

INSTALL results for DEGreport on tokay2

To the developers/maintainers of the DEGreport package:
- Please allow up to 24 hours (and sometimes 48 hours) for your latest push to git@git.bioconductor.org:packages/DEGreport.git to
reflect on this report. See How and When does the builder pull? When will my changes propagate? here for more information.
- Make sure to use the following settings in order to reproduce any error or warning you see on this page.

raw results

Package 467/2041HostnameOS / ArchINSTALLBUILDCHECKBUILD BIN
DEGreport 1.28.0  (landing page)
Lorena Pantano
Snapshot Date: 2021-09-23 04:50:12 -0400 (Thu, 23 Sep 2021)
git_url: https://git.bioconductor.org/packages/DEGreport
git_branch: RELEASE_3_13
git_last_commit: c9d2eef
git_last_commit_date: 2021-05-19 12:05:35 -0400 (Wed, 19 May 2021)
nebbiolo1Linux (Ubuntu 20.04.2 LTS) / x86_64  OK    OK    OK  UNNEEDED, same version is already published
tokay2Windows Server 2012 R2 Standard / x64  OK    OK    OK    OK  UNNEEDED, same version is already published
machv2macOS 10.14.6 Mojave / x86_64  OK    OK    OK    OK  UNNEEDED, same version is already published

Summary

Package: DEGreport
Version: 1.28.0
Command: C:\cygwin\bin\curl.exe -O http://155.52.207.165/BBS/3.13/bioc/src/contrib/DEGreport_1.28.0.tar.gz && rm -rf DEGreport.buildbin-libdir && mkdir DEGreport.buildbin-libdir && C:\Users\biocbuild\bbs-3.13-bioc\R\bin\R.exe CMD INSTALL --merge-multiarch --build --library=DEGreport.buildbin-libdir DEGreport_1.28.0.tar.gz && C:\Users\biocbuild\bbs-3.13-bioc\R\bin\R.exe CMD INSTALL DEGreport_1.28.0.zip && rm DEGreport_1.28.0.tar.gz DEGreport_1.28.0.zip
StartedAt: 2021-09-23 09:17:32 -0400 (Thu, 23 Sep 2021)
EndedAt: 2021-09-23 09:19:05 -0400 (Thu, 23 Sep 2021)
EllapsedTime: 93.5 seconds
RetCode: 0
Status:   OK  

Command output

##############################################################################
##############################################################################
###
### Running command:
###
###   C:\cygwin\bin\curl.exe -O http://155.52.207.165/BBS/3.13/bioc/src/contrib/DEGreport_1.28.0.tar.gz && rm -rf DEGreport.buildbin-libdir && mkdir DEGreport.buildbin-libdir && C:\Users\biocbuild\bbs-3.13-bioc\R\bin\R.exe CMD INSTALL --merge-multiarch --build --library=DEGreport.buildbin-libdir DEGreport_1.28.0.tar.gz && C:\Users\biocbuild\bbs-3.13-bioc\R\bin\R.exe CMD INSTALL DEGreport_1.28.0.zip && rm DEGreport_1.28.0.tar.gz DEGreport_1.28.0.zip
###
##############################################################################
##############################################################################


  % Total    % Received % Xferd  Average Speed   Time    Time     Time  Current
                                 Dload  Upload   Total   Spent    Left  Speed

  0     0    0     0    0     0      0      0 --:--:-- --:--:-- --:--:--     0
  0 18.1M    0 93173    0     0   439k      0  0:00:42 --:--:--  0:00:42  439k
 10 18.1M   10 1877k    0     0  1565k      0  0:00:11  0:00:01  0:00:10 1565k
 10 18.1M   10 1915k    0     0   872k      0  0:00:21  0:00:02  0:00:19  872k
 12 18.1M   12 2330k    0     0   730k      0  0:00:25  0:00:03  0:00:22  730k
 22 18.1M   22 4121k    0     0   982k      0  0:00:18  0:00:04  0:00:14  982k
 36 18.1M   36 6813k    0     0  1306k      0  0:00:14  0:00:05  0:00:09 1342k
 54 18.1M   54  9.9M    0     0  1638k      0  0:00:11  0:00:06  0:00:05 1656k
 77 18.1M   77 13.9M    0     0  1987k      0  0:00:09  0:00:07  0:00:02 2478k
100 18.1M  100 18.1M    0     0  2295k      0  0:00:08  0:00:08 --:--:-- 3319k

install for i386

* installing *source* package 'DEGreport' ...
** using staged installation
** R
** data
** inst
** byte-compile and prepare package for lazy loading
** help
*** installing help indices
  converting help for package 'DEGreport'
    finding HTML links ... done
    DEGSet                                  html  
    DEGreport-deprecated                    html  
    createReport                            html  
    deg                                     html  
    degCheckFactors                         html  
    degColors                               html  
    degComps                                html  
    degCorCov                               html  
    degCovariates                           html  
    degDefault                              html  
    degFilter                               html  
    degMA                                   html  
    finding level-2 HTML links ... done

    degMB                                   html  
    degMDS                                  html  
    degMV                                   html  
    degMean                                 html  
    degMerge                                html  
    degObj                                  html  
    degPCA                                  html  
    degPatterns                             html  
    degPlot                                 html  
    degPlotCluster                          html  
    degPlotWide                             html  
    degQC                                   html  
    degResults                              html  
    degSignature                            html  
    degSummary                              html  
    degVB                                   html  
    degVar                                  html  
    degVolcano                              html  
    geneInfo                                html  
    geom_cor                                html  
    humanGender                             html  
    significants                            html  
** building package indices
** installing vignettes
** testing if installed package can be loaded from temporary location
** testing if installed package can be loaded from final location
** testing if installed package keeps a record of temporary installation path

install for x64

* installing *source* package 'DEGreport' ...
** testing if installed package can be loaded
* MD5 sums
packaged installation of 'DEGreport' as DEGreport_1.28.0.zip
* DONE (DEGreport)
* installing to library 'C:/Users/biocbuild/bbs-3.13-bioc/R/library'
package 'DEGreport' successfully unpacked and MD5 sums checked