Back to Multiple platform build/check report for BioC 3.13
ABC[D]EFGHIJKLMNOPQRSTUVWXYZ

This page was generated on 2021-07-23 15:06:01 -0400 (Fri, 23 Jul 2021).

INSTALL results for DEFormats on tokay2

To the developers/maintainers of the DEFormats package:
- Please allow up to 24 hours (and sometimes 48 hours) for your latest push to git@git.bioconductor.org:packages/DEFormats.git to
reflect on this report. See How and When does the builder pull? When will my changes propagate? here for more information.
- Make sure to use the following settings in order to reproduce any error or warning you see on this page.

raw results

Package 464/2041HostnameOS / ArchINSTALLBUILDCHECKBUILD BIN
DEFormats 1.20.0  (landing page)
Andrzej OleĊ›
Snapshot Date: 2021-07-22 04:50:13 -0400 (Thu, 22 Jul 2021)
URL: https://git.bioconductor.org/packages/DEFormats
Branch: RELEASE_3_13
Last Commit: ae1b30e
Last Changed Date: 2021-05-19 12:19:12 -0400 (Wed, 19 May 2021)
nebbiolo1Linux (Ubuntu 20.04.2 LTS) / x86_64  OK    OK    OK  UNNEEDED, same version is already published
tokay2Windows Server 2012 R2 Standard / x64  OK    OK    OK    OK  UNNEEDED, same version is already published
machv2macOS 10.14.6 Mojave / x86_64  OK    OK    OK    OK  UNNEEDED, same version is already published

Summary

Package: DEFormats
Version: 1.20.0
Command: C:\cygwin\bin\curl.exe -O http://155.52.207.165/BBS/3.13/bioc/src/contrib/DEFormats_1.20.0.tar.gz && rm -rf DEFormats.buildbin-libdir && mkdir DEFormats.buildbin-libdir && C:\Users\biocbuild\bbs-3.13-bioc\R\bin\R.exe CMD INSTALL --merge-multiarch --build --library=DEFormats.buildbin-libdir DEFormats_1.20.0.tar.gz && C:\Users\biocbuild\bbs-3.13-bioc\R\bin\R.exe CMD INSTALL DEFormats_1.20.0.zip && rm DEFormats_1.20.0.tar.gz DEFormats_1.20.0.zip
StartedAt: 2021-07-22 09:37:10 -0400 (Thu, 22 Jul 2021)
EndedAt: 2021-07-22 09:38:09 -0400 (Thu, 22 Jul 2021)
EllapsedTime: 59.4 seconds
RetCode: 0
Status:   OK  

Command output

##############################################################################
##############################################################################
###
### Running command:
###
###   C:\cygwin\bin\curl.exe -O http://155.52.207.165/BBS/3.13/bioc/src/contrib/DEFormats_1.20.0.tar.gz && rm -rf DEFormats.buildbin-libdir && mkdir DEFormats.buildbin-libdir && C:\Users\biocbuild\bbs-3.13-bioc\R\bin\R.exe CMD INSTALL --merge-multiarch --build --library=DEFormats.buildbin-libdir DEFormats_1.20.0.tar.gz && C:\Users\biocbuild\bbs-3.13-bioc\R\bin\R.exe CMD INSTALL DEFormats_1.20.0.zip && rm DEFormats_1.20.0.tar.gz DEFormats_1.20.0.zip
###
##############################################################################
##############################################################################


  % Total    % Received % Xferd  Average Speed   Time    Time     Time  Current
                                 Dload  Upload   Total   Spent    Left  Speed

  0     0    0     0    0     0      0      0 --:--:-- --:--:-- --:--:--     0
100  9227  100  9227    0     0   158k      0 --:--:-- --:--:-- --:--:--  160k

install for i386

* installing *source* package 'DEFormats' ...
** using staged installation
** R
** inst
** byte-compile and prepare package for lazy loading
Creating a generic function for 'DGEList' from 'edgeR' in package 'DEFormats'
    (from the saved implicit definition)
** help
*** installing help indices
  converting help for package 'DEFormats'
    finding HTML links ... done
    DEFormats                               html  
    finding level-2 HTML links ... done

    DGEList                                 html  
    as.DESeqDataSet                         html  
    as.DGEList                              html  
    simulateNormFactors                     html  
    simulateRnaSeqData                      html  
** building package indices
** installing vignettes
** testing if installed package can be loaded from temporary location
** testing if installed package can be loaded from final location
** testing if installed package keeps a record of temporary installation path

install for x64

* installing *source* package 'DEFormats' ...
** testing if installed package can be loaded
* MD5 sums
packaged installation of 'DEFormats' as DEFormats_1.20.0.zip
* DONE (DEFormats)
* installing to library 'C:/Users/biocbuild/bbs-3.13-bioc/R/library'
package 'DEFormats' successfully unpacked and MD5 sums checked