Back to Multiple platform build/check report for BioC 3.13
ABC[D]EFGHIJKLMNOPQRSTUVWXYZ

All results for package DEFormats

This page was generated on 2021-06-14 14:04:23 -0400 (Mon, 14 Jun 2021).

Package 464/2041HostnameOS / ArchINSTALLBUILDCHECKBUILD BIN
DEFormats 1.20.0  (landing page)
Andrzej OleĊ›
Snapshot Date: 2021-06-13 06:50:09 -0400 (Sun, 13 Jun 2021)
URL: https://git.bioconductor.org/packages/DEFormats
Branch: RELEASE_3_13
Last Commit: ae1b30e
Last Changed Date: 2021-05-19 12:19:12 -0400 (Wed, 19 May 2021)
nebbiolo1Linux (Ubuntu 20.04.2 LTS) / x86_64  OK    OK    OK  UNNEEDED, same version is already published
tokay2Windows Server 2012 R2 Standard / x64  OK    OK    OK    OK  UNNEEDED, same version is already published
machv2macOS 10.14.6 Mojave / x86_64  OK    OK    OK    OK  UNNEEDED, same version is already published

Results for Bioconductor software packages that depend directly on package DEFormats

QUICK STATSOS / ArchINSTALLBUILDCHECKBUILD BIN
nebbiolo1Linux (Ubuntu 20.04.2 LTS) / x86_64
001
001
0100
tokay2Windows Server 2012 R2 Standard / x64
001
001
0001
001
machv2macOS 10.14.6 Mojave / x86_64
001
001
0100
001
Package 1/1HostnameOS / ArchINSTALLBUILDCHECKBUILD BIN
regionReport 1.26.0  (landing page)
Leonardo Collado-Torres
Last Commit: 985fa5a
Last Changed Date: 2021-05-19 12:08:17 -0400
nebbiolo1Linux (Ubuntu 20.04.2 LTS) / x86_64  OK    OK    ERROR  
tokay2Windows Server 2012 R2 Standard / x64  OK    OK    OK    OK  UNNEEDED, same version is already published
machv2macOS 10.14.6 Mojave / x86_64  OK    OK    ERROR    OK