Back to Multiple platform build/check report for BioC 3.13
ABC[D]EFGHIJKLMNOPQRSTUVWXYZ

This page was generated on 2021-09-22 15:05:12 -0400 (Wed, 22 Sep 2021).

BUILD results for DECIPHER on tokay2

To the developers/maintainers of the DECIPHER package:
- Please allow up to 24 hours (and sometimes 48 hours) for your latest push to git@git.bioconductor.org:packages/DECIPHER.git to
reflect on this report. See How and When does the builder pull? When will my changes propagate? here for more information.
- Make sure to use the following settings in order to reproduce any error or warning you see on this page.

raw results

Package 454/2041HostnameOS / ArchINSTALLBUILDCHECKBUILD BIN
DECIPHER 2.20.0  (landing page)
Erik Wright
Snapshot Date: 2021-09-21 04:50:12 -0400 (Tue, 21 Sep 2021)
git_url: https://git.bioconductor.org/packages/DECIPHER
git_branch: RELEASE_3_13
git_last_commit: bcd35a8
git_last_commit_date: 2021-05-19 11:50:12 -0400 (Wed, 19 May 2021)
nebbiolo1Linux (Ubuntu 20.04.2 LTS) / x86_64  OK    OK    OK  UNNEEDED, same version is already published
tokay2Windows Server 2012 R2 Standard / x64  OK    OK    OK    OK  UNNEEDED, same version is already published
machv2macOS 10.14.6 Mojave / x86_64  OK    OK    OK    OK  UNNEEDED, same version is already published

Summary

Package: DECIPHER
Version: 2.20.0
Command: chmod a+r DECIPHER -R && C:\Users\biocbuild\bbs-3.13-bioc\R\bin\R.exe CMD build --keep-empty-dirs --no-resave-data DECIPHER
StartedAt: 2021-09-21 13:05:44 -0400 (Tue, 21 Sep 2021)
EndedAt: 2021-09-21 13:13:23 -0400 (Tue, 21 Sep 2021)
EllapsedTime: 458.5 seconds
RetCode: 0
Status:   OK  
PackageFile: DECIPHER_2.20.0.tar.gz
PackageFileSize: 15.85 MiB

Command output

##############################################################################
##############################################################################
###
### Running command:
###
###   chmod a+r DECIPHER -R && C:\Users\biocbuild\bbs-3.13-bioc\R\bin\R.exe CMD build --keep-empty-dirs --no-resave-data DECIPHER
###
##############################################################################
##############################################################################


* checking for file 'DECIPHER/DESCRIPTION' ... OK
* preparing 'DECIPHER':
* checking DESCRIPTION meta-information ... OK
* cleaning src
* installing the package to build vignettes
* creating vignettes ... OK
* cleaning src
* checking for LF line-endings in source and make files and shell scripts
* checking for empty or unneeded directories
* looking to see if a 'data/datalist' file should be added
* building 'DECIPHER_2.20.0.tar.gz'