Back to Multiple platform build/check report for BioC 3.13
ABC[D]EFGHIJKLMNOPQRSTUVWXYZ

This page was generated on 2021-09-22 15:05:41 -0400 (Wed, 22 Sep 2021).

CHECK results for DECIPHER on machv2

To the developers/maintainers of the DECIPHER package:
- Please allow up to 24 hours (and sometimes 48 hours) for your latest push to git@git.bioconductor.org:packages/DECIPHER.git to
reflect on this report. See How and When does the builder pull? When will my changes propagate? here for more information.
- Make sure to use the following settings in order to reproduce any error or warning you see on this page.

raw results

Package 454/2041HostnameOS / ArchINSTALLBUILDCHECKBUILD BIN
DECIPHER 2.20.0  (landing page)
Erik Wright
Snapshot Date: 2021-09-21 04:50:12 -0400 (Tue, 21 Sep 2021)
git_url: https://git.bioconductor.org/packages/DECIPHER
git_branch: RELEASE_3_13
git_last_commit: bcd35a8
git_last_commit_date: 2021-05-19 11:50:12 -0400 (Wed, 19 May 2021)
nebbiolo1Linux (Ubuntu 20.04.2 LTS) / x86_64  OK    OK    OK  UNNEEDED, same version is already published
tokay2Windows Server 2012 R2 Standard / x64  OK    OK    OK    OK  UNNEEDED, same version is already published
machv2macOS 10.14.6 Mojave / x86_64  OK    OK    OK    OK  UNNEEDED, same version is already published

Summary

Package: DECIPHER
Version: 2.20.0
Command: /Library/Frameworks/R.framework/Versions/Current/Resources/bin/R CMD check --install=check:DECIPHER.install-out.txt --library=/Library/Frameworks/R.framework/Versions/Current/Resources/library --no-vignettes --timings DECIPHER_2.20.0.tar.gz
StartedAt: 2021-09-21 18:11:34 -0400 (Tue, 21 Sep 2021)
EndedAt: 2021-09-21 18:30:24 -0400 (Tue, 21 Sep 2021)
EllapsedTime: 1130.0 seconds
RetCode: 0
Status:   OK  
CheckDir: DECIPHER.Rcheck
Warnings: 0

Command output

##############################################################################
##############################################################################
###
### Running command:
###
###   /Library/Frameworks/R.framework/Versions/Current/Resources/bin/R CMD check --install=check:DECIPHER.install-out.txt --library=/Library/Frameworks/R.framework/Versions/Current/Resources/library --no-vignettes --timings DECIPHER_2.20.0.tar.gz
###
##############################################################################
##############################################################################


* using log directory ‘/Users/biocbuild/bbs-3.13-bioc/meat/DECIPHER.Rcheck’
* using R version 4.1.1 (2021-08-10)
* using platform: x86_64-apple-darwin17.0 (64-bit)
* using session charset: UTF-8
* using option ‘--no-vignettes’
* checking for file ‘DECIPHER/DESCRIPTION’ ... OK
* checking extension type ... Package
* this is package ‘DECIPHER’ version ‘2.20.0’
* checking package namespace information ... OK
* checking package dependencies ... OK
* checking if this is a source package ... OK
* checking if there is a namespace ... OK
* checking for hidden files and directories ... NOTE
Found the following hidden files and directories:
  .git_fetch_output.txt
  .git_merge_output.txt
These were most likely included in error. See section ‘Package
structure’ in the ‘Writing R Extensions’ manual.
* checking for portable file names ... OK
* checking for sufficient/correct file permissions ... OK
* checking whether package ‘DECIPHER’ can be installed ... OK
* checking installed package size ... NOTE
  installed size is 12.4Mb
  sub-directories of 1Mb or more:
    R         2.0Mb
    data      7.3Mb
    extdata   2.2Mb
* checking package directory ... OK
* checking ‘build’ directory ... OK
* checking DESCRIPTION meta-information ... OK
* checking top-level files ... OK
* checking for left-over files ... OK
* checking index information ... OK
* checking package subdirectories ... OK
* checking R files for non-ASCII characters ... OK
* checking R files for syntax errors ... OK
* checking whether the package can be loaded ... OK
* checking whether the package can be loaded with stated dependencies ... OK
* checking whether the package can be unloaded cleanly ... OK
* checking whether the namespace can be loaded with stated dependencies ... OK
* checking whether the namespace can be unloaded cleanly ... OK
* checking dependencies in R code ... OK
* checking S3 generic/method consistency ... OK
* checking replacement functions ... OK
* checking foreign function calls ... OK
* checking R code for possible problems ... NOTE
DesignSignatures: no visible binding for global variable ‘deltaHrules’
FindGenes: no visible binding for global variable ‘deltaHrulesRNA’
FindNonCoding: no visible binding for global variable ‘deltaHrulesRNA’
LearnNonCoding: no visible binding for global variable ‘deltaHrulesRNA’
PredictDBN: no visible binding for global variable ‘deltaHrulesRNA’
Undefined global functions or variables:
  deltaHrules deltaHrulesRNA
* checking Rd files ... OK
* checking Rd metadata ... OK
* checking Rd cross-references ... OK
* checking for missing documentation entries ... OK
* checking for code/documentation mismatches ... OK
* checking Rd \usage sections ... OK
* checking Rd contents ... OK
* checking for unstated dependencies in examples ... OK
* checking contents of ‘data’ directory ... OK
* checking data for non-ASCII characters ... OK
* checking data for ASCII and uncompressed saves ... OK
* checking line endings in C/C++/Fortran sources/headers ... OK
* checking line endings in Makefiles ... OK
* checking compilation flags in Makevars ... OK
* checking for GNU extensions in Makefiles ... OK
* checking for portable use of $(BLAS_LIBS) and $(LAPACK_LIBS) ... OK
* checking use of PKG_*FLAGS in Makefiles ... OK
* checking compiled code ... NOTE
Note: information on .o files is not available
* checking sizes of PDF files under ‘inst/doc’ ... OK
* checking files in ‘vignettes’ ... OK
* checking examples ... OK
Examples with CPU (user + system) or elapsed time > 5s
                      user system elapsed
PredictDBN         161.533  1.429 163.135
DetectRepeats      155.323  0.262 155.695
BrowseSeqs          75.193  0.731  76.119
FindNonCoding       61.669  4.569  66.399
LearnNonCoding      54.183  3.606  57.842
Genes-class         47.124  1.068  54.319
ExtractGenes        42.746  0.900  43.698
FindGenes           42.565  0.923  43.517
MapCharacters       38.636  0.210  38.916
WriteGenes          37.479  1.203  38.709
AlignSeqs           32.512  0.200  32.823
CorrectFrameshifts  27.715  0.837  28.625
AlignTranslation    20.409  0.171  20.600
StaggerAlignment    19.384  0.093  19.520
Taxa-class          14.645  0.604  15.292
IdTaxa              12.430  0.330  12.774
LearnTaxa            7.224  1.581   8.825
Array2Matrix         6.989  0.049   7.066
DesignArray          6.803  0.016   6.822
TileSeqs             6.725  0.044   6.773
* checking for unstated dependencies in vignettes ... OK
* checking package vignettes in ‘inst/doc’ ... OK
* checking running R code from vignettes ... SKIPPED
* checking re-building of vignette outputs ... SKIPPED
* checking PDF version of manual ... OK
* DONE

Status: 4 NOTEs
See
  ‘/Users/biocbuild/bbs-3.13-bioc/meat/DECIPHER.Rcheck/00check.log’
for details.



Installation output

DECIPHER.Rcheck/00install.out

##############################################################################
##############################################################################
###
### Running command:
###
###   /Library/Frameworks/R.framework/Versions/Current/Resources/bin/R CMD INSTALL DECIPHER
###
##############################################################################
##############################################################################


* installing to library ‘/Library/Frameworks/R.framework/Versions/4.1/Resources/library’
* installing *source* package ‘DECIPHER’ ...
** using staged installation
** libs
clang -mmacosx-version-min=10.13 -I"/Library/Frameworks/R.framework/Resources/include" -DNDEBUG  -I'/Library/Frameworks/R.framework/Versions/4.1/Resources/library/Biostrings/include' -I'/Library/Frameworks/R.framework/Versions/4.1/Resources/library/S4Vectors/include' -I'/Library/Frameworks/R.framework/Versions/4.1/Resources/library/IRanges/include' -I'/Library/Frameworks/R.framework/Versions/4.1/Resources/library/XVector/include' -I/usr/local/include   -fPIC  -Wall -g -O2  -c AlignProfiles.c -o AlignProfiles.o
AlignProfiles.c:67:6: warning: unused variable 'nthreads' [-Wunused-variable]
        int nthreads = asInteger(nThreads);
            ^
AlignProfiles.c:780:6: warning: unused variable 'nthreads' [-Wunused-variable]
        int nthreads = asInteger(nThreads);
            ^
2 warnings generated.
clang -mmacosx-version-min=10.13 -I"/Library/Frameworks/R.framework/Resources/include" -DNDEBUG  -I'/Library/Frameworks/R.framework/Versions/4.1/Resources/library/Biostrings/include' -I'/Library/Frameworks/R.framework/Versions/4.1/Resources/library/S4Vectors/include' -I'/Library/Frameworks/R.framework/Versions/4.1/Resources/library/IRanges/include' -I'/Library/Frameworks/R.framework/Versions/4.1/Resources/library/XVector/include' -I/usr/local/include   -fPIC  -Wall -g -O2  -c AssignIndels.c -o AssignIndels.o
clang -mmacosx-version-min=10.13 -I"/Library/Frameworks/R.framework/Resources/include" -DNDEBUG  -I'/Library/Frameworks/R.framework/Versions/4.1/Resources/library/Biostrings/include' -I'/Library/Frameworks/R.framework/Versions/4.1/Resources/library/S4Vectors/include' -I'/Library/Frameworks/R.framework/Versions/4.1/Resources/library/IRanges/include' -I'/Library/Frameworks/R.framework/Versions/4.1/Resources/library/XVector/include' -I/usr/local/include   -fPIC  -Wall -g -O2  -c Biostrings_stubs.c -o Biostrings_stubs.o
clang -mmacosx-version-min=10.13 -I"/Library/Frameworks/R.framework/Resources/include" -DNDEBUG  -I'/Library/Frameworks/R.framework/Versions/4.1/Resources/library/Biostrings/include' -I'/Library/Frameworks/R.framework/Versions/4.1/Resources/library/S4Vectors/include' -I'/Library/Frameworks/R.framework/Versions/4.1/Resources/library/IRanges/include' -I'/Library/Frameworks/R.framework/Versions/4.1/Resources/library/XVector/include' -I/usr/local/include   -fPIC  -Wall -g -O2  -c CalculateDeltaG.c -o CalculateDeltaG.o
clang -mmacosx-version-min=10.13 -I"/Library/Frameworks/R.framework/Resources/include" -DNDEBUG  -I'/Library/Frameworks/R.framework/Versions/4.1/Resources/library/Biostrings/include' -I'/Library/Frameworks/R.framework/Versions/4.1/Resources/library/S4Vectors/include' -I'/Library/Frameworks/R.framework/Versions/4.1/Resources/library/IRanges/include' -I'/Library/Frameworks/R.framework/Versions/4.1/Resources/library/XVector/include' -I/usr/local/include   -fPIC  -Wall -g -O2  -c CalculateFISH.c -o CalculateFISH.o
CalculateFISH.c:26:3: warning: suggest braces around initialization of subobject [-Wmissing-braces]
                -11.5, -7.8, -7, -8.3,
                ^~~~~~~~~~~~~~~~~~~~~
                {                    }
CalculateFISH.c:27:3: warning: suggest braces around initialization of subobject [-Wmissing-braces]
                -10.4, -12.8, -16.3, -9.1,
                ^~~~~~~~~~~~~~~~~~~~~~~~~
                {                        }
CalculateFISH.c:28:3: warning: suggest braces around initialization of subobject [-Wmissing-braces]
                -8.6, -8, -9.3, -5.9,
                ^~~~~~~~~~~~~~~~~~~~
                {                   }
CalculateFISH.c:29:3: warning: suggest braces around initialization of subobject [-Wmissing-braces]
                -7.8, -5.5, -9, -7.8
                ^~~~~~~~~~~~~~~~~~~~
                {                   }
CalculateFISH.c:32:3: warning: suggest braces around initialization of subobject [-Wmissing-braces]
                -36.4, -21.6, -19.7, -23.9,
                ^~~~~~~~~~~~~~~~~~~~~~~~~~
                {                         }
CalculateFISH.c:33:3: warning: suggest braces around initialization of subobject [-Wmissing-braces]
                -28.4, -31.9, -47.1, -23.5,
                ^~~~~~~~~~~~~~~~~~~~~~~~~~
                {                         }
CalculateFISH.c:34:3: warning: suggest braces around initialization of subobject [-Wmissing-braces]
                -22.9, -17.1, -23.2, -12.3,
                ^~~~~~~~~~~~~~~~~~~~~~~~~~
                {                         }
CalculateFISH.c:35:3: warning: suggest braces around initialization of subobject [-Wmissing-braces]
                -23.2, -13.5, -26.1, -21.9
                ^~~~~~~~~~~~~~~~~~~~~~~~~~
                {                         }
CalculateFISH.c:38:3: warning: suggest braces around initialization of subobject [-Wmissing-braces]
                -7.9, -8.4, -7.8, -7.2,
                ^~~~~~~~~~~~~~~~~~~~~~
                {                     }
CalculateFISH.c:39:3: warning: suggest braces around initialization of subobject [-Wmissing-braces]
                -8.5, -8, -10.6, -7.8,
                ^~~~~~~~~~~~~~~~~~~~~
                {                    }
CalculateFISH.c:40:3: warning: suggest braces around initialization of subobject [-Wmissing-braces]
                -8.2, -9.8, -8, -8.4,
                ^~~~~~~~~~~~~~~~~~~~
                {                   }
CalculateFISH.c:41:3: warning: suggest braces around initialization of subobject [-Wmissing-braces]
                -7.2, -8.2, -8.5, -7.9
                ^~~~~~~~~~~~~~~~~~~~~~
                {                     }
CalculateFISH.c:44:3: warning: suggest braces around initialization of subobject [-Wmissing-braces]
                -22.2, -22.4, -21, -20.4,
                ^~~~~~~~~~~~~~~~~~~~~~~~
                {                       }
CalculateFISH.c:45:3: warning: suggest braces around initialization of subobject [-Wmissing-braces]
                -22.7, -19.9, -27.2, -21,
                ^~~~~~~~~~~~~~~~~~~~~~~~
                {                       }
CalculateFISH.c:46:3: warning: suggest braces around initialization of subobject [-Wmissing-braces]
                -22.2, -24.4, -19.9, -22.4,
                ^~~~~~~~~~~~~~~~~~~~~~~~~~
                {                         }
CalculateFISH.c:47:3: warning: suggest braces around initialization of subobject [-Wmissing-braces]
                -21.3, -22.2, -22.7, -22.2
                ^~~~~~~~~~~~~~~~~~~~~~~~~~
                {                         }
CalculateFISH.c:50:3: warning: suggest braces around initialization of subobject [-Wmissing-braces]
                -6.6, -10.17, -7.65, -5.76,
                ^~~~~~~~~~~~~~~~~~~~~~~~~~
                {                         }
CalculateFISH.c:51:3: warning: suggest braces around initialization of subobject [-Wmissing-braces]
                -10.56, -12.21, -7.95, -7.65,
                ^~~~~~~~~~~~~~~~~~~~~~~~~~~~
                {                           }
CalculateFISH.c:52:3: warning: suggest braces around initialization of subobject [-Wmissing-braces]
                -13.37, -14.21, -12.21, -10.17,
                ^~~~~~~~~~~~~~~~~~~~~~~~~~~~~~
                {                             }
CalculateFISH.c:53:3: warning: suggest braces around initialization of subobject [-Wmissing-braces]
                -8.11, -13.37, -10.56, -6.6
                ^~~~~~~~~~~~~~~~~~~~~~~~~~~
                {                          }
CalculateFISH.c:56:3: warning: suggest braces around initialization of subobject [-Wmissing-braces]
                -18.38, -26.03, -19.18, -15.67,
                ^~~~~~~~~~~~~~~~~~~~~~~~~~~~~~
                {                             }
CalculateFISH.c:57:3: warning: suggest braces around initialization of subobject [-Wmissing-braces]
                -28.25, -30.02, -19.18, -19.18,
                ^~~~~~~~~~~~~~~~~~~~~~~~~~~~~~
                {                             }
CalculateFISH.c:58:3: warning: suggest braces around initialization of subobject [-Wmissing-braces]
                -35.68, -34.85, -30.02, -26.03,
                ^~~~~~~~~~~~~~~~~~~~~~~~~~~~~~
                {                             }
CalculateFISH.c:59:3: warning: suggest braces around initialization of subobject [-Wmissing-braces]
                -22.59, -35.68, -28.25, -18.38
                ^~~~~~~~~~~~~~~~~~~~~~~~~~~~~~
                {                             }
24 warnings generated.
clang -mmacosx-version-min=10.13 -I"/Library/Frameworks/R.framework/Resources/include" -DNDEBUG  -I'/Library/Frameworks/R.framework/Versions/4.1/Resources/library/Biostrings/include' -I'/Library/Frameworks/R.framework/Versions/4.1/Resources/library/S4Vectors/include' -I'/Library/Frameworks/R.framework/Versions/4.1/Resources/library/IRanges/include' -I'/Library/Frameworks/R.framework/Versions/4.1/Resources/library/XVector/include' -I/usr/local/include   -fPIC  -Wall -g -O2  -c ChainSegments.c -o ChainSegments.o
clang -mmacosx-version-min=10.13 -I"/Library/Frameworks/R.framework/Resources/include" -DNDEBUG  -I'/Library/Frameworks/R.framework/Versions/4.1/Resources/library/Biostrings/include' -I'/Library/Frameworks/R.framework/Versions/4.1/Resources/library/S4Vectors/include' -I'/Library/Frameworks/R.framework/Versions/4.1/Resources/library/IRanges/include' -I'/Library/Frameworks/R.framework/Versions/4.1/Resources/library/XVector/include' -I/usr/local/include   -fPIC  -Wall -g -O2  -c Cluster.c -o Cluster.o
clang -mmacosx-version-min=10.13 -I"/Library/Frameworks/R.framework/Resources/include" -DNDEBUG  -I'/Library/Frameworks/R.framework/Versions/4.1/Resources/library/Biostrings/include' -I'/Library/Frameworks/R.framework/Versions/4.1/Resources/library/S4Vectors/include' -I'/Library/Frameworks/R.framework/Versions/4.1/Resources/library/IRanges/include' -I'/Library/Frameworks/R.framework/Versions/4.1/Resources/library/XVector/include' -I/usr/local/include   -fPIC  -Wall -g -O2  -c ClusterML.c -o ClusterML.o
ClusterML.c:402:6: warning: unused variable 'nthreads' [-Wunused-variable]
        int nthreads = asInteger(nThreads);
            ^
1 warning generated.
clang -mmacosx-version-min=10.13 -I"/Library/Frameworks/R.framework/Resources/include" -DNDEBUG  -I'/Library/Frameworks/R.framework/Versions/4.1/Resources/library/Biostrings/include' -I'/Library/Frameworks/R.framework/Versions/4.1/Resources/library/S4Vectors/include' -I'/Library/Frameworks/R.framework/Versions/4.1/Resources/library/IRanges/include' -I'/Library/Frameworks/R.framework/Versions/4.1/Resources/library/XVector/include' -I/usr/local/include   -fPIC  -Wall -g -O2  -c CommonGaps.c -o CommonGaps.o
clang -mmacosx-version-min=10.13 -I"/Library/Frameworks/R.framework/Resources/include" -DNDEBUG  -I'/Library/Frameworks/R.framework/Versions/4.1/Resources/library/Biostrings/include' -I'/Library/Frameworks/R.framework/Versions/4.1/Resources/library/S4Vectors/include' -I'/Library/Frameworks/R.framework/Versions/4.1/Resources/library/IRanges/include' -I'/Library/Frameworks/R.framework/Versions/4.1/Resources/library/XVector/include' -I/usr/local/include   -fPIC  -Wall -g -O2  -c Compositions.c -o Compositions.o
clang -mmacosx-version-min=10.13 -I"/Library/Frameworks/R.framework/Resources/include" -DNDEBUG  -I'/Library/Frameworks/R.framework/Versions/4.1/Resources/library/Biostrings/include' -I'/Library/Frameworks/R.framework/Versions/4.1/Resources/library/S4Vectors/include' -I'/Library/Frameworks/R.framework/Versions/4.1/Resources/library/IRanges/include' -I'/Library/Frameworks/R.framework/Versions/4.1/Resources/library/XVector/include' -I/usr/local/include   -fPIC  -Wall -g -O2  -c Compression.c -o Compression.o
Compression.c:520:6: warning: unused variable 'nthreads' [-Wunused-variable]
        int nthreads = asInteger(nThreads);
            ^
Compression.c:1405:6: warning: unused variable 'nthreads' [-Wunused-variable]
        int nthreads = asInteger(nThreads);
            ^
Compression.c:1701:6: warning: unused variable 'nthreads' [-Wunused-variable]
        int nthreads = asInteger(nThreads);
            ^
3 warnings generated.
clang -mmacosx-version-min=10.13 -I"/Library/Frameworks/R.framework/Resources/include" -DNDEBUG  -I'/Library/Frameworks/R.framework/Versions/4.1/Resources/library/Biostrings/include' -I'/Library/Frameworks/R.framework/Versions/4.1/Resources/library/S4Vectors/include' -I'/Library/Frameworks/R.framework/Versions/4.1/Resources/library/IRanges/include' -I'/Library/Frameworks/R.framework/Versions/4.1/Resources/library/XVector/include' -I/usr/local/include   -fPIC  -Wall -g -O2  -c ConsensusSequence.c -o ConsensusSequence.o
clang -mmacosx-version-min=10.13 -I"/Library/Frameworks/R.framework/Resources/include" -DNDEBUG  -I'/Library/Frameworks/R.framework/Versions/4.1/Resources/library/Biostrings/include' -I'/Library/Frameworks/R.framework/Versions/4.1/Resources/library/S4Vectors/include' -I'/Library/Frameworks/R.framework/Versions/4.1/Resources/library/IRanges/include' -I'/Library/Frameworks/R.framework/Versions/4.1/Resources/library/XVector/include' -I/usr/local/include   -fPIC  -Wall -g -O2  -c ConsolidateGaps.c -o ConsolidateGaps.o
clang -mmacosx-version-min=10.13 -I"/Library/Frameworks/R.framework/Resources/include" -DNDEBUG  -I'/Library/Frameworks/R.framework/Versions/4.1/Resources/library/Biostrings/include' -I'/Library/Frameworks/R.framework/Versions/4.1/Resources/library/S4Vectors/include' -I'/Library/Frameworks/R.framework/Versions/4.1/Resources/library/IRanges/include' -I'/Library/Frameworks/R.framework/Versions/4.1/Resources/library/XVector/include' -I/usr/local/include   -fPIC  -Wall -g -O2  -c DesignProbes.c -o DesignProbes.o
DesignProbes.c:71:3: warning: suggest braces around initialization of subobject [-Wmissing-braces]
                -0.816507461,-2.5401714,-1.647430026,-1.184658548
                ^~~~~~~~~~~~~~~~~~~~~~~~~~~~~~~~~~~~~~~~~~~~~~~~~
                {                                                }
DesignProbes.c:72:4: warning: suggest braces around initialization of subobject [-Wmissing-braces]
                ,-1.854740485,-2.479102613,-2.826248182,-1.647430026
                 ^~~~~~~~~~~~~~~~~~~~~~~~~~~~~~~~~~~~~~~~~~~~~~~~~~~
                 {                                                  }
DesignProbes.c:73:4: warning: suggest braces around initialization of subobject [-Wmissing-braces]
                ,-2.48761723,-4.694133177,-2.479102613,-2.5401714
                 ^~~~~~~~~~~~~~~~~~~~~~~~~~~~~~~~~~~~~~~~~~~~~~~~
                 {                                               }
DesignProbes.c:74:4: warning: suggest braces around initialization of subobject [-Wmissing-braces]
                ,-0.495794417,-2.48761723,-1.854740485,-0.816507461
                 ^~~~~~~~~~~~~~~~~~~~~~~~~~~~~~~~~~~~~~~~~~~~~~~~~~
                 {                                                 }
DesignProbes.c:78:3: warning: suggest braces around initialization of subobject [-Wmissing-braces]
                -0.141370102,-0.439805276,-0.285236035,-0.205111781
                ^~~~~~~~~~~~~~~~~~~~~~~~~~~~~~~~~~~~~~~~~~~~~~~~~~~
                {                                                  }
DesignProbes.c:79:4: warning: suggest braces around initialization of subobject [-Wmissing-braces]
                ,-0.321129768,-0.429231826,-0.48933661,-0.285236035
                 ^~~~~~~~~~~~~~~~~~~~~~~~~~~~~~~~~~~~~~~~~~~~~~~~~~
                 {                                                 }
DesignProbes.c:80:4: warning: suggest braces around initialization of subobject [-Wmissing-braces]
                ,-0.430706047,-0.812742218,-0.429231826,-0.439805276
                 ^~~~~~~~~~~~~~~~~~~~~~~~~~~~~~~~~~~~~~~~~~~~~~~~~~~
                 {                                                  }
DesignProbes.c:81:4: warning: suggest braces around initialization of subobject [-Wmissing-braces]
                ,-0.085841845,-0.430706047,-0.321129768,-0.141370102
                 ^~~~~~~~~~~~~~~~~~~~~~~~~~~~~~~~~~~~~~~~~~~~~~~~~~~
                 {                                                  }
DesignProbes.c:85:3: warning: suggest braces around initialization of subobject [-Wmissing-braces]
                0,0,0,0
                ^~~~~~~
                {      }
DesignProbes.c:86:4: warning: suggest braces around initialization of subobject [-Wmissing-braces]
                ,1.545032445,1.254355018,1.491691514,1.329138183
                 ^~~~~~~~~~~~~~~~~~~~~~~~~~~~~~~~~~~~~~~~~~~~~~~
                 {                                              }
DesignProbes.c:87:4: warning: suggest braces around initialization of subobject [-Wmissing-braces]
                ,1.150635633,0.582415494,1.075877275,1.187937642
                 ^~~~~~~~~~~~~~~~~~~~~~~~~~~~~~~~~~~~~~~~~~~~~~~
                 {                                              }
DesignProbes.c:88:4: warning: suggest braces around initialization of subobject [-Wmissing-braces]
                ,1.203555051,1.001540513,0.864287715,0.717125848
                 ^~~~~~~~~~~~~~~~~~~~~~~~~~~~~~~~~~~~~~~~~~~~~~~
                 {                                              }
DesignProbes.c:89:4: warning: suggest braces around initialization of subobject [-Wmissing-braces]
                ,0.75,0.65,0.69,0.78
                 ^~~~~~~~~~~~~~~~~~~
                 {                  }
DesignProbes.c:85:3: warning: suggest braces around initialization of subobject [-Wmissing-braces]
                0,0,0,0
                ^~~~~~~
                {
DesignProbes.c:90:4: warning: suggest braces around initialization of subobject [-Wmissing-braces]
                ,0.630005348,0.18553379,0.730763505,0.709272397
                 ^~~~~~~~~~~~~~~~~~~~~~~~~~~~~~~~~~~~~~~~~~~~~~
                 {                                             }
DesignProbes.c:91:4: warning: suggest braces around initialization of subobject [-Wmissing-braces]
                ,0,0,0,0
                 ^~~~~~~
                 {      }
DesignProbes.c:92:4: warning: suggest braces around initialization of subobject [-Wmissing-braces]
                ,0.856582783,-0.143236405,0.716721488,0.603652831
                 ^~~~~~~~~~~~~~~~~~~~~~~~~~~~~~~~~~~~~~~~~~~~~~~~
                 {                                               }
DesignProbes.c:93:4: warning: suggest braces around initialization of subobject [-Wmissing-braces]
                ,0.851622883,0.653168672,0.676545316,1.187937642
                 ^~~~~~~~~~~~~~~~~~~~~~~~~~~~~~~~~~~~~~~~~~~~~~~
                 {                                              }
DesignProbes.c:94:4: warning: suggest braces around initialization of subobject [-Wmissing-braces]
                ,0.75,0.65,0.69,0.78
                 ^~~~~~~~~~~~~~~~~~~
                 {                  }
DesignProbes.c:90:4: warning: suggest braces around initialization of subobject [-Wmissing-braces]
                ,0.630005348,0.18553379,0.730763505,0.709272397
                 ^~~~~~~~~~~~~~~~~~~~~~~~~~~~~~~~~~~~~~~~~~~~~~
                 {
DesignProbes.c:95:4: warning: suggest braces around initialization of subobject [-Wmissing-braces]
                ,1.231861002,0.746214538,1.087821916,0.989140748
                 ^~~~~~~~~~~~~~~~~~~~~~~~~~~~~~~~~~~~~~~~~~~~~~~
                 {                                              }
DesignProbes.c:96:4: warning: suggest braces around initialization of subobject [-Wmissing-braces]
                ,1.822113278,1.270687029,1.336192565,1.364584949
                 ^~~~~~~~~~~~~~~~~~~~~~~~~~~~~~~~~~~~~~~~~~~~~~~
                 {                                              }
DesignProbes.c:97:4: warning: suggest braces around initialization of subobject [-Wmissing-braces]
                ,0,0,0,0
                 ^~~~~~~
                 {      }
DesignProbes.c:98:4: warning: suggest braces around initialization of subobject [-Wmissing-braces]
                ,1.443665704,1.385046493,1.256013166,1.329138183
                 ^~~~~~~~~~~~~~~~~~~~~~~~~~~~~~~~~~~~~~~~~~~~~~~
                 {                                              }
DesignProbes.c:99:4: warning: suggest braces around initialization of subobject [-Wmissing-braces]
                ,0.75,0.65,0.69,0.78
                 ^~~~~~~~~~~~~~~~~~~
                 {                  }
DesignProbes.c:95:4: warning: suggest braces around initialization of subobject [-Wmissing-braces]
                ,1.231861002,0.746214538,1.087821916,0.989140748
                 ^~~~~~~~~~~~~~~~~~~~~~~~~~~~~~~~~~~~~~~~~~~~~~~
                 {
DesignProbes.c:100:4: warning: suggest braces around initialization of subobject [-Wmissing-braces]
                ,1.478009492,0.882097231,1.20450984,1.061002478
                 ^~~~~~~~~~~~~~~~~~~~~~~~~~~~~~~~~~~~~~~~~~~~~~
                 {                                             }
DesignProbes.c:101:4: warning: suggest braces around initialization of subobject [-Wmissing-braces]
                ,1.496720812,0.846496194,0.967868114,0.989140748
                 ^~~~~~~~~~~~~~~~~~~~~~~~~~~~~~~~~~~~~~~~~~~~~~~
                 {                                              }
DesignProbes.c:102:4: warning: suggest braces around initialization of subobject [-Wmissing-braces]
                ,0.766581547,-0.024857805,0.50754303,0.709272397
                 ^~~~~~~~~~~~~~~~~~~~~~~~~~~~~~~~~~~~~~~~~~~~~~~
                 {                                              }
DesignProbes.c:103:4: warning: suggest braces around initialization of subobject [-Wmissing-braces]
                ,0,0,0,0
                 ^~~~~~~
                 {      }
DesignProbes.c:104:4: warning: suggest braces around initialization of subobject [-Wmissing-braces]
                ,0.75,0.65,0.69,0.78
                 ^~~~~~~~~~~~~~~~~~~
                 {                  }
DesignProbes.c:100:4: warning: suggest braces around initialization of subobject [-Wmissing-braces]
                ,1.478009492,0.882097231,1.20450984,1.061002478
                 ^~~~~~~~~~~~~~~~~~~~~~~~~~~~~~~~~~~~~~~~~~~~~~
                 {
DesignProbes.c:105:4: warning: suggest braces around initialization of subobject [-Wmissing-braces]
                ,0.75,0.65,0.69,0.78
                 ^~~~~~~~~~~~~~~~~~~
                 {                  }
DesignProbes.c:106:4: warning: suggest braces around initialization of subobject [-Wmissing-braces]
                ,0.75,0.65,0.69,0.78
                 ^~~~~~~~~~~~~~~~~~~
                 {                  }
DesignProbes.c:107:4: warning: suggest braces around initialization of subobject [-Wmissing-braces]
                ,0.75,0.65,0.69,0.78
                 ^~~~~~~~~~~~~~~~~~~
                 {                  }
DesignProbes.c:108:4: warning: suggest braces around initialization of subobject [-Wmissing-braces]
                ,0.76,0.65,0.69,0.78
                 ^~~~~~~~~~~~~~~~~~~
                 {                  }
DesignProbes.c:109:4: warning: suggest braces around initialization of subobject [-Wmissing-braces]
                ,0,0,0,0
                 ^~~~~~~
                 {      }
DesignProbes.c:105:4: warning: suggest braces around initialization of subobject [-Wmissing-braces]
                ,0.75,0.65,0.69,0.78
                 ^~~~~~~~~~~~~~~~~~~
                 {
DesignProbes.c:85:3: warning: suggest braces around initialization of subobject [-Wmissing-braces]
                0,0,0,0
                ^~~~~~~
                {
DesignProbes.c:110:4: warning: suggest braces around initialization of subobject [-Wmissing-braces]
                ,0,0,0,0
                 ^~~~~~~
                 {      }
DesignProbes.c:111:4: warning: suggest braces around initialization of subobject [-Wmissing-braces]
                ,1.295827995,0.84547091,0.91019099,1.256013166
                 ^~~~~~~~~~~~~~~~~~~~~~~~~~~~~~~~~~~~~~~~~~~~~
                 {                                            }
DesignProbes.c:112:4: warning: suggest braces around initialization of subobject [-Wmissing-braces]
                ,0.755889609,0.241428373,0.396379912,0.676545316
                 ^~~~~~~~~~~~~~~~~~~~~~~~~~~~~~~~~~~~~~~~~~~~~~~
                 {                                              }
DesignProbes.c:113:4: warning: suggest braces around initialization of subobject [-Wmissing-braces]
                ,0.99945386,0.740323132,0.435659206,0.864287715
                 ^~~~~~~~~~~~~~~~~~~~~~~~~~~~~~~~~~~~~~~~~~~~~~
                 {                                             }
DesignProbes.c:114:4: warning: suggest braces around initialization of subobject [-Wmissing-braces]
                ,0.65,0.55,0.48,0.69
                 ^~~~~~~~~~~~~~~~~~~
                 {                  }
DesignProbes.c:110:4: warning: suggest braces around initialization of subobject [-Wmissing-braces]
                ,0,0,0,0
                 ^~~~~~~
                 {
DesignProbes.c:115:4: warning: suggest braces around initialization of subobject [-Wmissing-braces]
                ,0.843147406,0.101248351,0.49063599,0.50754303
                 ^~~~~~~~~~~~~~~~~~~~~~~~~~~~~~~~~~~~~~~~~~~~~
                 {                                            }
DesignProbes.c:116:4: warning: suggest braces around initialization of subobject [-Wmissing-braces]
                ,0,0,0,0
                 ^~~~~~~
                 {      }
DesignProbes.c:117:4: warning: suggest braces around initialization of subobject [-Wmissing-braces]
                ,1.0651638,0.249934344,0.699352949,0.716721488
                 ^~~~~~~~~~~~~~~~~~~~~~~~~~~~~~~~~~~~~~~~~~~~~
                 {                                            }
DesignProbes.c:118:4: warning: suggest braces around initialization of subobject [-Wmissing-braces]
                ,0.871921533,0.59458138,0.396379912,1.075877275
                 ^~~~~~~~~~~~~~~~~~~~~~~~~~~~~~~~~~~~~~~~~~~~~~
                 {                                             }
DesignProbes.c:119:4: warning: suggest braces around initialization of subobject [-Wmissing-braces]
                ,0.65,0.56,0.49,0.69
                 ^~~~~~~~~~~~~~~~~~~
                 {                  }
DesignProbes.c:115:4: warning: suggest braces around initialization of subobject [-Wmissing-braces]
                ,0.843147406,0.101248351,0.49063599,0.50754303
                 ^~~~~~~~~~~~~~~~~~~~~~~~~~~~~~~~~~~~~~~~~~~~~
                 {
DesignProbes.c:120:4: warning: suggest braces around initialization of subobject [-Wmissing-braces]
                ,1.07531714,0.318907854,0.653287717,0.967868114
                 ^~~~~~~~~~~~~~~~~~~~~~~~~~~~~~~~~~~~~~~~~~~~~~
                 {                                             }
DesignProbes.c:121:4: warning: suggest braces around initialization of subobject [-Wmissing-braces]
                ,1.099899195,0.730184613,0.661798984,1.336192565
                 ^~~~~~~~~~~~~~~~~~~~~~~~~~~~~~~~~~~~~~~~~~~~~~~
                 {                                              }
DesignProbes.c:122:4: warning: suggest braces around initialization of subobject [-Wmissing-braces]
                ,0,0,0,0
                 ^~~~~~~
                 {      }
DesignProbes.c:123:4: warning: suggest braces around initialization of subobject [-Wmissing-braces]
                ,1.45897431,1.318532145,0.91019099,1.491691514
                 ^~~~~~~~~~~~~~~~~~~~~~~~~~~~~~~~~~~~~~~~~~~~~
                 {                                            }
DesignProbes.c:124:4: warning: suggest braces around initialization of subobject [-Wmissing-braces]
                ,0.65,0.56,0.49,0.69
                 ^~~~~~~~~~~~~~~~~~~
                 {                  }
DesignProbes.c:120:4: warning: suggest braces around initialization of subobject [-Wmissing-braces]
                ,1.07531714,0.318907854,0.653287717,0.967868114
                 ^~~~~~~~~~~~~~~~~~~~~~~~~~~~~~~~~~~~~~~~~~~~~~
                 {
DesignProbes.c:125:4: warning: suggest braces around initialization of subobject [-Wmissing-braces]
                ,1.242135174,0.894838095,1.108555445,1.20450984
                 ^~~~~~~~~~~~~~~~~~~~~~~~~~~~~~~~~~~~~~~~~~~~~~
                 {                                             }
DesignProbes.c:126:4: warning: suggest braces around initialization of subobject [-Wmissing-braces]
                ,0.911428974,0.524430101,0.653287717,1.087821916
                 ^~~~~~~~~~~~~~~~~~~~~~~~~~~~~~~~~~~~~~~~~~~~~~~
                 {                                              }
DesignProbes.c:127:4: warning: suggest braces around initialization of subobject [-Wmissing-braces]
                ,0.503209827,0.274849491,0.49063599,0.730763505
                 ^~~~~~~~~~~~~~~~~~~~~~~~~~~~~~~~~~~~~~~~~~~~~~
                 {                                             }
DesignProbes.c:128:4: warning: suggest braces around initialization of subobject [-Wmissing-braces]
                ,0,0,0,0
                 ^~~~~~~
                 {      }
DesignProbes.c:129:4: warning: suggest braces around initialization of subobject [-Wmissing-braces]
                ,0.65,0.55,0.48,0.69
                 ^~~~~~~~~~~~~~~~~~~
                 {                  }
DesignProbes.c:125:4: warning: suggest braces around initialization of subobject [-Wmissing-braces]
                ,1.242135174,0.894838095,1.108555445,1.20450984
                 ^~~~~~~~~~~~~~~~~~~~~~~~~~~~~~~~~~~~~~~~~~~~~~
                 {
DesignProbes.c:130:4: warning: suggest braces around initialization of subobject [-Wmissing-braces]
                ,0.65,0.55,0.48,0.69
                 ^~~~~~~~~~~~~~~~~~~
                 {                  }
DesignProbes.c:131:4: warning: suggest braces around initialization of subobject [-Wmissing-braces]
                ,0.65,0.56,0.49,0.69
                 ^~~~~~~~~~~~~~~~~~~
                 {                  }
DesignProbes.c:132:4: warning: suggest braces around initialization of subobject [-Wmissing-braces]
                ,0.65,0.56,0.49,0.69
                 ^~~~~~~~~~~~~~~~~~~
                 {                  }
DesignProbes.c:133:4: warning: suggest braces around initialization of subobject [-Wmissing-braces]
                ,0.65,0.55,0.48,0.69
                 ^~~~~~~~~~~~~~~~~~~
                 {                  }
DesignProbes.c:134:4: warning: suggest braces around initialization of subobject [-Wmissing-braces]
                ,0,0,0,0
                 ^~~~~~~
                 {      }
DesignProbes.c:130:4: warning: suggest braces around initialization of subobject [-Wmissing-braces]
                ,0.65,0.55,0.48,0.69
                 ^~~~~~~~~~~~~~~~~~~
                 {
DesignProbes.c:110:4: warning: suggest braces around initialization of subobject [-Wmissing-braces]
                ,0,0,0,0
                 ^~~~~~~
                 {
DesignProbes.c:135:4: warning: suggest braces around initialization of subobject [-Wmissing-braces]
                ,0,0,0,0
                 ^~~~~~~
                 {      }
DesignProbes.c:136:4: warning: suggest braces around initialization of subobject [-Wmissing-braces]
                ,1.100661785,0.969784756,1.318532145,1.385046493
                 ^~~~~~~~~~~~~~~~~~~~~~~~~~~~~~~~~~~~~~~~~~~~~~~
                 {                                              }
DesignProbes.c:137:4: warning: suggest braces around initialization of subobject [-Wmissing-braces]
                ,0.565895968,-0.060347902,0.59458138,0.653168672
                 ^~~~~~~~~~~~~~~~~~~~~~~~~~~~~~~~~~~~~~~~~~~~~~~
                 {                                              }
DesignProbes.c:138:4: warning: suggest braces around initialization of subobject [-Wmissing-braces]
                ,0.782168488,0.788161238,0.740323132,1.001540513
                 ^~~~~~~~~~~~~~~~~~~~~~~~~~~~~~~~~~~~~~~~~~~~~~~
                 {                                              }
DesignProbes.c:139:4: warning: suggest braces around initialization of subobject [-Wmissing-braces]
                ,0.68,0.46,0.55,0.65
                 ^~~~~~~~~~~~~~~~~~~
                 {                  }
DesignProbes.c:135:4: warning: suggest braces around initialization of subobject [-Wmissing-braces]
                ,0,0,0,0
                 ^~~~~~~
                 {
DesignProbes.c:140:4: warning: suggest braces around initialization of subobject [-Wmissing-braces]
                ,0.468913405,-0.469855984,0.274849491,-0.024857805
                 ^~~~~~~~~~~~~~~~~~~~~~~~~~~~~~~~~~~~~~~~~~~~~~~~~
                 {                                                }
DesignProbes.c:141:4: warning: suggest braces around initialization of subobject [-Wmissing-braces]
                ,0,0,0,0
                 ^~~~~~~
                 {      }
DesignProbes.c:142:4: warning: suggest braces around initialization of subobject [-Wmissing-braces]
                ,0.258195131,-0.70438632,0.249934344,-0.143236405
                 ^~~~~~~~~~~~~~~~~~~~~~~~~~~~~~~~~~~~~~~~~~~~~~~~
                 {                                               }
DesignProbes.c:143:4: warning: suggest braces around initialization of subobject [-Wmissing-braces]
                ,0.502914193,-0.060347902,0.241428373,0.582415494
                 ^~~~~~~~~~~~~~~~~~~~~~~~~~~~~~~~~~~~~~~~~~~~~~~~
                 {                                               }
DesignProbes.c:144:4: warning: suggest braces around initialization of subobject [-Wmissing-braces]
                ,0.68,0.47,0.56,0.65
                 ^~~~~~~~~~~~~~~~~~~
                 {                  }
DesignProbes.c:140:4: warning: suggest braces around initialization of subobject [-Wmissing-braces]
                ,0.468913405,-0.469855984,0.274849491,-0.024857805
                 ^~~~~~~~~~~~~~~~~~~~~~~~~~~~~~~~~~~~~~~~~~~~~~~~~
                 {
DesignProbes.c:145:4: warning: suggest braces around initialization of subobject [-Wmissing-braces]
                ,0.584083861,0.258975454,0.524430101,0.846496194
                 ^~~~~~~~~~~~~~~~~~~~~~~~~~~~~~~~~~~~~~~~~~~~~~~
                 {                                              }
DesignProbes.c:146:4: warning: suggest braces around initialization of subobject [-Wmissing-braces]
                ,0.968040559,0.797499702,0.730184613,1.270687029
                 ^~~~~~~~~~~~~~~~~~~~~~~~~~~~~~~~~~~~~~~~~~~~~~~
                 {                                              }
DesignProbes.c:147:4: warning: suggest braces around initialization of subobject [-Wmissing-braces]
                ,0,0,0,0
                 ^~~~~~~
                 {      }
DesignProbes.c:148:4: warning: suggest braces around initialization of subobject [-Wmissing-braces]
                ,1.081040749,0.969784756,0.84547091,1.254355018
                 ^~~~~~~~~~~~~~~~~~~~~~~~~~~~~~~~~~~~~~~~~~~~~~
                 {                                             }
DesignProbes.c:149:4: warning: suggest braces around initialization of subobject [-Wmissing-braces]
                ,0.68,0.47,0.56,0.65
                 ^~~~~~~~~~~~~~~~~~~
                 {                  }
DesignProbes.c:145:4: warning: suggest braces around initialization of subobject [-Wmissing-braces]
                ,0.584083861,0.258975454,0.524430101,0.846496194
                 ^~~~~~~~~~~~~~~~~~~~~~~~~~~~~~~~~~~~~~~~~~~~~~~
                 {
DesignProbes.c:150:4: warning: suggest braces around initialization of subobject [-Wmissing-braces]
                ,1.048553951,0.728354541,0.894838095,0.882097231
                 ^~~~~~~~~~~~~~~~~~~~~~~~~~~~~~~~~~~~~~~~~~~~~~~
                 {                                              }
DesignProbes.c:151:4: warning: suggest braces around initialization of subobject [-Wmissing-braces]
                ,0.88611252,0.258975454,0.318907854,0.746214538
                 ^~~~~~~~~~~~~~~~~~~~~~~~~~~~~~~~~~~~~~~~~~~~~~
                 {                                             }
DesignProbes.c:152:4: warning: suggest braces around initialization of subobject [-Wmissing-braces]
                ,0.239520858,-0.469855984,0.101248351,0.18553379
                 ^~~~~~~~~~~~~~~~~~~~~~~~~~~~~~~~~~~~~~~~~~~~~~~
                 {                                              }
DesignProbes.c:153:4: warning: suggest braces around initialization of subobject [-Wmissing-braces]
                ,0,0,0,0
                 ^~~~~~~
                 {      }
DesignProbes.c:154:4: warning: suggest braces around initialization of subobject [-Wmissing-braces]
                ,0.68,0.46,0.55,0.65
                 ^~~~~~~~~~~~~~~~~~~
                 {                  }
DesignProbes.c:150:4: warning: suggest braces around initialization of subobject [-Wmissing-braces]
                ,1.048553951,0.728354541,0.894838095,0.882097231
                 ^~~~~~~~~~~~~~~~~~~~~~~~~~~~~~~~~~~~~~~~~~~~~~~
                 {
DesignProbes.c:155:4: warning: suggest braces around initialization of subobject [-Wmissing-braces]
                ,0.68,0.46,0.55,0.65
                 ^~~~~~~~~~~~~~~~~~~
                 {                  }
DesignProbes.c:156:4: warning: suggest braces around initialization of subobject [-Wmissing-braces]
                ,0.68,0.47,0.56,0.65
                 ^~~~~~~~~~~~~~~~~~~
                 {                  }
DesignProbes.c:157:4: warning: suggest braces around initialization of subobject [-Wmissing-braces]
                ,0.68,0.47,0.56,0.65
                 ^~~~~~~~~~~~~~~~~~~
                 {                  }
DesignProbes.c:158:4: warning: suggest braces around initialization of subobject [-Wmissing-braces]
                ,0.68,0.46,0.55,0.65
                 ^~~~~~~~~~~~~~~~~~~
                 {                  }
DesignProbes.c:159:4: warning: suggest braces around initialization of subobject [-Wmissing-braces]
                ,0,0,0,0
                 ^~~~~~~
                 {      }
DesignProbes.c:155:4: warning: suggest braces around initialization of subobject [-Wmissing-braces]
                ,0.68,0.46,0.55,0.65
                 ^~~~~~~~~~~~~~~~~~~
                 {
DesignProbes.c:135:4: warning: suggest braces around initialization of subobject [-Wmissing-braces]
                ,0,0,0,0
                 ^~~~~~~
                 {
DesignProbes.c:160:4: warning: suggest braces around initialization of subobject [-Wmissing-braces]
                ,0,0,0,0
                 ^~~~~~~
                 {      }
DesignProbes.c:161:4: warning: suggest braces around initialization of subobject [-Wmissing-braces]
                ,1.566899704,1.081040749,1.45897431,1.443665704
                 ^~~~~~~~~~~~~~~~~~~~~~~~~~~~~~~~~~~~~~~~~~~~~~
                 {                                             }
DesignProbes.c:162:4: warning: suggest braces around initialization of subobject [-Wmissing-braces]
                ,0.976725675,0.502914193,0.871921533,0.851622883
                 ^~~~~~~~~~~~~~~~~~~~~~~~~~~~~~~~~~~~~~~~~~~~~~~
                 {                                              }
DesignProbes.c:163:4: warning: suggest braces around initialization of subobject [-Wmissing-braces]
                ,1.482046826,0.782168488,0.99945386,1.203555051
                 ^~~~~~~~~~~~~~~~~~~~~~~~~~~~~~~~~~~~~~~~~~~~~~
                 {                                             }
DesignProbes.c:164:4: warning: suggest braces around initialization of subobject [-Wmissing-braces]
                ,0.85,0.68,0.65,0.76
                 ^~~~~~~~~~~~~~~~~~~
                 {                  }
DesignProbes.c:160:4: warning: suggest braces around initialization of subobject [-Wmissing-braces]
                ,0,0,0,0
                 ^~~~~~~
                 {
DesignProbes.c:165:4: warning: suggest braces around initialization of subobject [-Wmissing-braces]
                ,0.798628781,0.239520858,0.503209827,0.766581547
                 ^~~~~~~~~~~~~~~~~~~~~~~~~~~~~~~~~~~~~~~~~~~~~~~
                 {                                              }
DesignProbes.c:166:4: warning: suggest braces around initialization of subobject [-Wmissing-braces]
                ,0,0,0,0
                 ^~~~~~~
                 {      }
DesignProbes.c:167:4: warning: suggest braces around initialization of subobject [-Wmissing-braces]
                ,1.141098246,0.258195131,1.0651638,0.856582783
                 ^~~~~~~~~~~~~~~~~~~~~~~~~~~~~~~~~~~~~~~~~~~~~
                 {                                            }
DesignProbes.c:168:4: warning: suggest braces around initialization of subobject [-Wmissing-braces]
                ,0.976725675,0.565895968,0.755889609,1.150635633
                 ^~~~~~~~~~~~~~~~~~~~~~~~~~~~~~~~~~~~~~~~~~~~~~~
                 {                                              }
DesignProbes.c:169:4: warning: suggest braces around initialization of subobject [-Wmissing-braces]
                ,0.85,0.68,0.65,0.75
                 ^~~~~~~~~~~~~~~~~~~
                 {                  }
DesignProbes.c:165:4: warning: suggest braces around initialization of subobject [-Wmissing-braces]
                ,0.798628781,0.239520858,0.503209827,0.766581547
                 ^~~~~~~~~~~~~~~~~~~~~~~~~~~~~~~~~~~~~~~~~~~~~~~
                 {
DesignProbes.c:170:4: warning: suggest braces around initialization of subobject [-Wmissing-braces]
                ,1.125403302,0.88611252,0.911428974,1.496720812
                 ^~~~~~~~~~~~~~~~~~~~~~~~~~~~~~~~~~~~~~~~~~~~~~
                 {                                             }
DesignProbes.c:171:4: warning: suggest braces around initialization of subobject [-Wmissing-braces]
                ,1.68169282,0.968040559,1.099899195,1.822113278
                 ^~~~~~~~~~~~~~~~~~~~~~~~~~~~~~~~~~~~~~~~~~~~~~
                 {                                             }
DesignProbes.c:172:4: warning: suggest braces around initialization of subobject [-Wmissing-braces]
                ,0,0,0,0
                 ^~~~~~~
                 {      }
DesignProbes.c:173:4: warning: suggest braces around initialization of subobject [-Wmissing-braces]
                ,1.566899704,1.100661785,1.295827995,1.545032445
                 ^~~~~~~~~~~~~~~~~~~~~~~~~~~~~~~~~~~~~~~~~~~~~~~
                 {                                              }
DesignProbes.c:174:4: warning: suggest braces around initialization of subobject [-Wmissing-braces]
                ,0.85,0.68,0.65,0.75
                 ^~~~~~~~~~~~~~~~~~~
                 {                  }
DesignProbes.c:170:4: warning: suggest braces around initialization of subobject [-Wmissing-braces]
                ,1.125403302,0.88611252,0.911428974,1.496720812
                 ^~~~~~~~~~~~~~~~~~~~~~~~~~~~~~~~~~~~~~~~~~~~~~
                 {
DesignProbes.c:175:4: warning: suggest braces around initialization of subobject [-Wmissing-braces]
                ,1.35948517,1.048553951,1.242135174,1.478009492
                 ^~~~~~~~~~~~~~~~~~~~~~~~~~~~~~~~~~~~~~~~~~~~~~
                 {                                             }
DesignProbes.c:176:4: warning: suggest braces around initialization of subobject [-Wmissing-braces]
                ,1.125403302,0.584083861,1.07531714,1.231861002
                 ^~~~~~~~~~~~~~~~~~~~~~~~~~~~~~~~~~~~~~~~~~~~~~
                 {                                             }
DesignProbes.c:177:4: warning: suggest braces around initialization of subobject [-Wmissing-braces]
                ,0.798628781,0.468913405,0.843147406,0.630005348
                 ^~~~~~~~~~~~~~~~~~~~~~~~~~~~~~~~~~~~~~~~~~~~~~~
                 {                                              }
DesignProbes.c:178:4: warning: suggest braces around initialization of subobject [-Wmissing-braces]
                ,0,0,0,0
                 ^~~~~~~
                 {      }
DesignProbes.c:179:4: warning: suggest braces around initialization of subobject [-Wmissing-braces]
                ,0.85,0.68,0.65,0.75
                 ^~~~~~~~~~~~~~~~~~~
                 {                  }
DesignProbes.c:175:4: warning: suggest braces around initialization of subobject [-Wmissing-braces]
                ,1.35948517,1.048553951,1.242135174,1.478009492
                 ^~~~~~~~~~~~~~~~~~~~~~~~~~~~~~~~~~~~~~~~~~~~~~
                 {
DesignProbes.c:180:4: warning: suggest braces around initialization of subobject [-Wmissing-braces]
                ,0.85,0.68,0.65,0.75
                 ^~~~~~~~~~~~~~~~~~~
                 {                  }
DesignProbes.c:181:4: warning: suggest braces around initialization of subobject [-Wmissing-braces]
                ,0.85,0.68,0.65,0.75
                 ^~~~~~~~~~~~~~~~~~~
                 {                  }
DesignProbes.c:182:4: warning: suggest braces around initialization of subobject [-Wmissing-braces]
                ,0.85,0.68,0.65,0.75
                 ^~~~~~~~~~~~~~~~~~~
                 {                  }
DesignProbes.c:183:4: warning: suggest braces around initialization of subobject [-Wmissing-braces]
                ,0.85,0.68,0.65,0.75
                 ^~~~~~~~~~~~~~~~~~~
                 {                  }
DesignProbes.c:184:4: warning: suggest braces around initialization of subobject [-Wmissing-braces]
                ,0,0,0,0        
                 ^~~~~~~
                 {      }
DesignProbes.c:180:4: warning: suggest braces around initialization of subobject [-Wmissing-braces]
                ,0.85,0.68,0.65,0.75
                 ^~~~~~~~~~~~~~~~~~~
                 {
DesignProbes.c:160:4: warning: suggest braces around initialization of subobject [-Wmissing-braces]
                ,0,0,0,0
                 ^~~~~~~
                 {
DesignProbes.c:58:6: warning: unused variable 'nthreads' [-Wunused-variable]
        int nthreads = asInteger(nThreads);
            ^
133 warnings generated.
clang -mmacosx-version-min=10.13 -I"/Library/Frameworks/R.framework/Resources/include" -DNDEBUG  -I'/Library/Frameworks/R.framework/Versions/4.1/Resources/library/Biostrings/include' -I'/Library/Frameworks/R.framework/Versions/4.1/Resources/library/S4Vectors/include' -I'/Library/Frameworks/R.framework/Versions/4.1/Resources/library/IRanges/include' -I'/Library/Frameworks/R.framework/Versions/4.1/Resources/library/XVector/include' -I/usr/local/include   -fPIC  -Wall -g -O2  -c Diff.c -o Diff.o
clang -mmacosx-version-min=10.13 -I"/Library/Frameworks/R.framework/Resources/include" -DNDEBUG  -I'/Library/Frameworks/R.framework/Versions/4.1/Resources/library/Biostrings/include' -I'/Library/Frameworks/R.framework/Versions/4.1/Resources/library/S4Vectors/include' -I'/Library/Frameworks/R.framework/Versions/4.1/Resources/library/IRanges/include' -I'/Library/Frameworks/R.framework/Versions/4.1/Resources/library/XVector/include' -I/usr/local/include   -fPIC  -Wall -g -O2  -c DistanceMatrix.c -o DistanceMatrix.o
DistanceMatrix.c:239:6: warning: unused variable 'nthreads' [-Wunused-variable]
        int nthreads = asInteger(nThreads);
            ^
1 warning generated.
clang -mmacosx-version-min=10.13 -I"/Library/Frameworks/R.framework/Resources/include" -DNDEBUG  -I'/Library/Frameworks/R.framework/Versions/4.1/Resources/library/Biostrings/include' -I'/Library/Frameworks/R.framework/Versions/4.1/Resources/library/S4Vectors/include' -I'/Library/Frameworks/R.framework/Versions/4.1/Resources/library/IRanges/include' -I'/Library/Frameworks/R.framework/Versions/4.1/Resources/library/XVector/include' -I/usr/local/include   -fPIC  -Wall -g -O2  -c EnumerateSequence.c -o EnumerateSequence.o
clang -mmacosx-version-min=10.13 -I"/Library/Frameworks/R.framework/Resources/include" -DNDEBUG  -I'/Library/Frameworks/R.framework/Versions/4.1/Resources/library/Biostrings/include' -I'/Library/Frameworks/R.framework/Versions/4.1/Resources/library/S4Vectors/include' -I'/Library/Frameworks/R.framework/Versions/4.1/Resources/library/IRanges/include' -I'/Library/Frameworks/R.framework/Versions/4.1/Resources/library/XVector/include' -I/usr/local/include   -fPIC  -Wall -g -O2  -c ExpandAmbiguities.c -o ExpandAmbiguities.o
clang -mmacosx-version-min=10.13 -I"/Library/Frameworks/R.framework/Resources/include" -DNDEBUG  -I'/Library/Frameworks/R.framework/Versions/4.1/Resources/library/Biostrings/include' -I'/Library/Frameworks/R.framework/Versions/4.1/Resources/library/S4Vectors/include' -I'/Library/Frameworks/R.framework/Versions/4.1/Resources/library/IRanges/include' -I'/Library/Frameworks/R.framework/Versions/4.1/Resources/library/XVector/include' -I/usr/local/include   -fPIC  -Wall -g -O2  -c FindFrameshifts.c -o FindFrameshifts.o
clang -mmacosx-version-min=10.13 -I"/Library/Frameworks/R.framework/Resources/include" -DNDEBUG  -I'/Library/Frameworks/R.framework/Versions/4.1/Resources/library/Biostrings/include' -I'/Library/Frameworks/R.framework/Versions/4.1/Resources/library/S4Vectors/include' -I'/Library/Frameworks/R.framework/Versions/4.1/Resources/library/IRanges/include' -I'/Library/Frameworks/R.framework/Versions/4.1/Resources/library/XVector/include' -I/usr/local/include   -fPIC  -Wall -g -O2  -c GeneFinding.c -o GeneFinding.o
GeneFinding.c:3302:6: warning: unused variable 'nthreads' [-Wunused-variable]
        int nthreads = asInteger(nThreads);
            ^
GeneFinding.c:3377:6: warning: unused variable 'nthreads' [-Wunused-variable]
        int nthreads = asInteger(nThreads);
            ^
GeneFinding.c:3432:6: warning: unused variable 'nthreads' [-Wunused-variable]
        int nthreads = asInteger(nThreads);
            ^
3 warnings generated.
clang -mmacosx-version-min=10.13 -I"/Library/Frameworks/R.framework/Resources/include" -DNDEBUG  -I'/Library/Frameworks/R.framework/Versions/4.1/Resources/library/Biostrings/include' -I'/Library/Frameworks/R.framework/Versions/4.1/Resources/library/S4Vectors/include' -I'/Library/Frameworks/R.framework/Versions/4.1/Resources/library/IRanges/include' -I'/Library/Frameworks/R.framework/Versions/4.1/Resources/library/XVector/include' -I/usr/local/include   -fPIC  -Wall -g -O2  -c GetPools.c -o GetPools.o
clang -mmacosx-version-min=10.13 -I"/Library/Frameworks/R.framework/Resources/include" -DNDEBUG  -I'/Library/Frameworks/R.framework/Versions/4.1/Resources/library/Biostrings/include' -I'/Library/Frameworks/R.framework/Versions/4.1/Resources/library/S4Vectors/include' -I'/Library/Frameworks/R.framework/Versions/4.1/Resources/library/IRanges/include' -I'/Library/Frameworks/R.framework/Versions/4.1/Resources/library/XVector/include' -I/usr/local/include   -fPIC  -Wall -g -O2  -c Import.c -o Import.o
clang -mmacosx-version-min=10.13 -I"/Library/Frameworks/R.framework/Resources/include" -DNDEBUG  -I'/Library/Frameworks/R.framework/Versions/4.1/Resources/library/Biostrings/include' -I'/Library/Frameworks/R.framework/Versions/4.1/Resources/library/S4Vectors/include' -I'/Library/Frameworks/R.framework/Versions/4.1/Resources/library/IRanges/include' -I'/Library/Frameworks/R.framework/Versions/4.1/Resources/library/XVector/include' -I/usr/local/include   -fPIC  -Wall -g -O2  -c InformationContent.c -o InformationContent.o
clang -mmacosx-version-min=10.13 -I"/Library/Frameworks/R.framework/Resources/include" -DNDEBUG  -I'/Library/Frameworks/R.framework/Versions/4.1/Resources/library/Biostrings/include' -I'/Library/Frameworks/R.framework/Versions/4.1/Resources/library/S4Vectors/include' -I'/Library/Frameworks/R.framework/Versions/4.1/Resources/library/IRanges/include' -I'/Library/Frameworks/R.framework/Versions/4.1/Resources/library/XVector/include' -I/usr/local/include   -fPIC  -Wall -g -O2  -c InsertGaps.c -o InsertGaps.o
InsertGaps.c:48:6: warning: unused variable 'nthreads' [-Wunused-variable]
        int nthreads = asInteger(nThreads);
            ^
1 warning generated.
clang -mmacosx-version-min=10.13 -I"/Library/Frameworks/R.framework/Resources/include" -DNDEBUG  -I'/Library/Frameworks/R.framework/Versions/4.1/Resources/library/Biostrings/include' -I'/Library/Frameworks/R.framework/Versions/4.1/Resources/library/S4Vectors/include' -I'/Library/Frameworks/R.framework/Versions/4.1/Resources/library/IRanges/include' -I'/Library/Frameworks/R.framework/Versions/4.1/Resources/library/XVector/include' -I/usr/local/include   -fPIC  -Wall -g -O2  -c IntDist.c -o IntDist.o
clang -mmacosx-version-min=10.13 -I"/Library/Frameworks/R.framework/Resources/include" -DNDEBUG  -I'/Library/Frameworks/R.framework/Versions/4.1/Resources/library/Biostrings/include' -I'/Library/Frameworks/R.framework/Versions/4.1/Resources/library/S4Vectors/include' -I'/Library/Frameworks/R.framework/Versions/4.1/Resources/library/IRanges/include' -I'/Library/Frameworks/R.framework/Versions/4.1/Resources/library/XVector/include' -I/usr/local/include   -fPIC  -Wall -g -O2  -c MeltPolymer.c -o MeltPolymer.o
MeltPolymer.c:80:3: warning: suggest braces around initialization of subobject [-Wmissing-braces]
                -7.9,-8.4,-7.8,-7.2
                ^~~~~~~~~~~~~~~~~~~
                {                  }
MeltPolymer.c:81:4: warning: suggest braces around initialization of subobject [-Wmissing-braces]
                ,-8.5,-8.0,-10.6,-7.8
                 ^~~~~~~~~~~~~~~~~~~~
                 {                   }
MeltPolymer.c:82:4: warning: suggest braces around initialization of subobject [-Wmissing-braces]
                ,-8.2,-9.8,-8.0,-8.4
                 ^~~~~~~~~~~~~~~~~~~
                 {                  }
MeltPolymer.c:83:4: warning: suggest braces around initialization of subobject [-Wmissing-braces]
                ,-7.2,-8.2,-8.5,-7.9
                 ^~~~~~~~~~~~~~~~~~~
                 {                  }
MeltPolymer.c:89:3: warning: suggest braces around initialization of subobject [-Wmissing-braces]
                -22.2,-22.4,-21.0,-20.4
                ^~~~~~~~~~~~~~~~~~~~~~~
                {                      }
MeltPolymer.c:90:4: warning: suggest braces around initialization of subobject [-Wmissing-braces]
                ,-22.7,-19.9,-27.2,-21.0
                 ^~~~~~~~~~~~~~~~~~~~~~~
                 {                      }
MeltPolymer.c:91:4: warning: suggest braces around initialization of subobject [-Wmissing-braces]
                ,-22.2,-24.4,-19.9,-22.4
                 ^~~~~~~~~~~~~~~~~~~~~~~
                 {                      }
MeltPolymer.c:92:4: warning: suggest braces around initialization of subobject [-Wmissing-braces]
                ,-21.3,-22.2,-22.7,-22.2
                 ^~~~~~~~~~~~~~~~~~~~~~~
                 {                      }
8 warnings generated.
clang -mmacosx-version-min=10.13 -I"/Library/Frameworks/R.framework/Resources/include" -DNDEBUG  -I'/Library/Frameworks/R.framework/Versions/4.1/Resources/library/Biostrings/include' -I'/Library/Frameworks/R.framework/Versions/4.1/Resources/library/S4Vectors/include' -I'/Library/Frameworks/R.framework/Versions/4.1/Resources/library/IRanges/include' -I'/Library/Frameworks/R.framework/Versions/4.1/Resources/library/XVector/include' -I/usr/local/include   -fPIC  -Wall -g -O2  -c MovingAverage.c -o MovingAverage.o
clang -mmacosx-version-min=10.13 -I"/Library/Frameworks/R.framework/Resources/include" -DNDEBUG  -I'/Library/Frameworks/R.framework/Versions/4.1/Resources/library/Biostrings/include' -I'/Library/Frameworks/R.framework/Versions/4.1/Resources/library/S4Vectors/include' -I'/Library/Frameworks/R.framework/Versions/4.1/Resources/library/IRanges/include' -I'/Library/Frameworks/R.framework/Versions/4.1/Resources/library/XVector/include' -I/usr/local/include   -fPIC  -Wall -g -O2  -c MultiMatch.c -o MultiMatch.o
MultiMatch.c:217:6: warning: unused variable 'nthreads' [-Wunused-variable]
        int nthreads = asInteger(nThreads);
            ^
MultiMatch.c:246:6: warning: unused variable 'nthreads' [-Wunused-variable]
        int nthreads = asInteger(nThreads);
            ^
MultiMatch.c:354:6: warning: unused variable 'nthreads' [-Wunused-variable]
        int nthreads = asInteger(nThreads);
            ^
MultiMatch.c:456:6: warning: unused variable 'nthreads' [-Wunused-variable]
        int nthreads = asInteger(nThreads);
            ^
MultiMatch.c:568:6: warning: unused variable 'nthreads' [-Wunused-variable]
        int nthreads = asInteger(nThreads);
            ^
5 warnings generated.
clang -mmacosx-version-min=10.13 -I"/Library/Frameworks/R.framework/Resources/include" -DNDEBUG  -I'/Library/Frameworks/R.framework/Versions/4.1/Resources/library/Biostrings/include' -I'/Library/Frameworks/R.framework/Versions/4.1/Resources/library/S4Vectors/include' -I'/Library/Frameworks/R.framework/Versions/4.1/Resources/library/IRanges/include' -I'/Library/Frameworks/R.framework/Versions/4.1/Resources/library/XVector/include' -I/usr/local/include   -fPIC  -Wall -g -O2  -c NNLS.c -o NNLS.o
NNLS.c:49:6: warning: unused variable 'nthreads' [-Wunused-variable]
        int nthreads = asInteger(nThreads);
            ^
1 warning generated.
clang -mmacosx-version-min=10.13 -I"/Library/Frameworks/R.framework/Resources/include" -DNDEBUG  -I'/Library/Frameworks/R.framework/Versions/4.1/Resources/library/Biostrings/include' -I'/Library/Frameworks/R.framework/Versions/4.1/Resources/library/S4Vectors/include' -I'/Library/Frameworks/R.framework/Versions/4.1/Resources/library/IRanges/include' -I'/Library/Frameworks/R.framework/Versions/4.1/Resources/library/XVector/include' -I/usr/local/include   -fPIC  -Wall -g -O2  -c Order.c -o Order.o
clang -mmacosx-version-min=10.13 -I"/Library/Frameworks/R.framework/Resources/include" -DNDEBUG  -I'/Library/Frameworks/R.framework/Versions/4.1/Resources/library/Biostrings/include' -I'/Library/Frameworks/R.framework/Versions/4.1/Resources/library/S4Vectors/include' -I'/Library/Frameworks/R.framework/Versions/4.1/Resources/library/IRanges/include' -I'/Library/Frameworks/R.framework/Versions/4.1/Resources/library/XVector/include' -I/usr/local/include   -fPIC  -Wall -g -O2  -c PredictDBN.c -o PredictDBN.o
PredictDBN.c:159:6: warning: unused variable 'nthreads' [-Wunused-variable]
        int nthreads = asInteger(nThreads);
            ^
1 warning generated.
clang -mmacosx-version-min=10.13 -I"/Library/Frameworks/R.framework/Resources/include" -DNDEBUG  -I'/Library/Frameworks/R.framework/Versions/4.1/Resources/library/Biostrings/include' -I'/Library/Frameworks/R.framework/Versions/4.1/Resources/library/S4Vectors/include' -I'/Library/Frameworks/R.framework/Versions/4.1/Resources/library/IRanges/include' -I'/Library/Frameworks/R.framework/Versions/4.1/Resources/library/XVector/include' -I/usr/local/include   -fPIC  -Wall -g -O2  -c PredictHEC.c -o PredictHEC.o
clang -mmacosx-version-min=10.13 -I"/Library/Frameworks/R.framework/Resources/include" -DNDEBUG  -I'/Library/Frameworks/R.framework/Versions/4.1/Resources/library/Biostrings/include' -I'/Library/Frameworks/R.framework/Versions/4.1/Resources/library/S4Vectors/include' -I'/Library/Frameworks/R.framework/Versions/4.1/Resources/library/IRanges/include' -I'/Library/Frameworks/R.framework/Versions/4.1/Resources/library/XVector/include' -I/usr/local/include   -fPIC  -Wall -g -O2  -c R_init_decipher.c -o R_init_decipher.o
clang -mmacosx-version-min=10.13 -I"/Library/Frameworks/R.framework/Resources/include" -DNDEBUG  -I'/Library/Frameworks/R.framework/Versions/4.1/Resources/library/Biostrings/include' -I'/Library/Frameworks/R.framework/Versions/4.1/Resources/library/S4Vectors/include' -I'/Library/Frameworks/R.framework/Versions/4.1/Resources/library/IRanges/include' -I'/Library/Frameworks/R.framework/Versions/4.1/Resources/library/XVector/include' -I/usr/local/include   -fPIC  -Wall -g -O2  -c RemoveGaps.c -o RemoveGaps.o
RemoveGaps.c:45:6: warning: unused variable 'nthreads' [-Wunused-variable]
        int nthreads = asInteger(nThreads);
            ^
RemoveGaps.c:167:6: warning: unused variable 'nthreads' [-Wunused-variable]
        int nthreads = asInteger(nThreads);
            ^
2 warnings generated.
clang -mmacosx-version-min=10.13 -I"/Library/Frameworks/R.framework/Resources/include" -DNDEBUG  -I'/Library/Frameworks/R.framework/Versions/4.1/Resources/library/Biostrings/include' -I'/Library/Frameworks/R.framework/Versions/4.1/Resources/library/S4Vectors/include' -I'/Library/Frameworks/R.framework/Versions/4.1/Resources/library/IRanges/include' -I'/Library/Frameworks/R.framework/Versions/4.1/Resources/library/XVector/include' -I/usr/local/include   -fPIC  -Wall -g -O2  -c ReplaceChars.c -o ReplaceChars.o
clang -mmacosx-version-min=10.13 -I"/Library/Frameworks/R.framework/Resources/include" -DNDEBUG  -I'/Library/Frameworks/R.framework/Versions/4.1/Resources/library/Biostrings/include' -I'/Library/Frameworks/R.framework/Versions/4.1/Resources/library/S4Vectors/include' -I'/Library/Frameworks/R.framework/Versions/4.1/Resources/library/IRanges/include' -I'/Library/Frameworks/R.framework/Versions/4.1/Resources/library/XVector/include' -I/usr/local/include   -fPIC  -Wall -g -O2  -c S4Vectors_stubs.c -o S4Vectors_stubs.o
clang -mmacosx-version-min=10.13 -I"/Library/Frameworks/R.framework/Resources/include" -DNDEBUG  -I'/Library/Frameworks/R.framework/Versions/4.1/Resources/library/Biostrings/include' -I'/Library/Frameworks/R.framework/Versions/4.1/Resources/library/S4Vectors/include' -I'/Library/Frameworks/R.framework/Versions/4.1/Resources/library/IRanges/include' -I'/Library/Frameworks/R.framework/Versions/4.1/Resources/library/XVector/include' -I/usr/local/include   -fPIC  -Wall -g -O2  -c TerminalMismatch.c -o TerminalMismatch.o
TerminalMismatch.c:40:6: warning: unused variable 'nthreads' [-Wunused-variable]
        int nthreads = asInteger(nThreads);
            ^
1 warning generated.
clang -mmacosx-version-min=10.13 -I"/Library/Frameworks/R.framework/Resources/include" -DNDEBUG  -I'/Library/Frameworks/R.framework/Versions/4.1/Resources/library/Biostrings/include' -I'/Library/Frameworks/R.framework/Versions/4.1/Resources/library/S4Vectors/include' -I'/Library/Frameworks/R.framework/Versions/4.1/Resources/library/IRanges/include' -I'/Library/Frameworks/R.framework/Versions/4.1/Resources/library/XVector/include' -I/usr/local/include   -fPIC  -Wall -g -O2  -c Translate.c -o Translate.o
clang -mmacosx-version-min=10.13 -I"/Library/Frameworks/R.framework/Resources/include" -DNDEBUG  -I'/Library/Frameworks/R.framework/Versions/4.1/Resources/library/Biostrings/include' -I'/Library/Frameworks/R.framework/Versions/4.1/Resources/library/S4Vectors/include' -I'/Library/Frameworks/R.framework/Versions/4.1/Resources/library/IRanges/include' -I'/Library/Frameworks/R.framework/Versions/4.1/Resources/library/XVector/include' -I/usr/local/include   -fPIC  -Wall -g -O2  -c VectorSums.c -o VectorSums.o
VectorSums.c:82:6: warning: unused variable 'nthreads' [-Wunused-variable]
        int nthreads = asInteger(nThreads);
            ^
1 warning generated.
clang -mmacosx-version-min=10.13 -I"/Library/Frameworks/R.framework/Resources/include" -DNDEBUG  -I'/Library/Frameworks/R.framework/Versions/4.1/Resources/library/Biostrings/include' -I'/Library/Frameworks/R.framework/Versions/4.1/Resources/library/S4Vectors/include' -I'/Library/Frameworks/R.framework/Versions/4.1/Resources/library/IRanges/include' -I'/Library/Frameworks/R.framework/Versions/4.1/Resources/library/XVector/include' -I/usr/local/include   -fPIC  -Wall -g -O2  -c XVector_stubs.c -o XVector_stubs.o
clang -mmacosx-version-min=10.13 -dynamiclib -Wl,-headerpad_max_install_names -undefined dynamic_lookup -single_module -multiply_defined suppress -L/Library/Frameworks/R.framework/Resources/lib -L/usr/local/lib -o DECIPHER.so AlignProfiles.o AssignIndels.o Biostrings_stubs.o CalculateDeltaG.o CalculateFISH.o ChainSegments.o Cluster.o ClusterML.o CommonGaps.o Compositions.o Compression.o ConsensusSequence.o ConsolidateGaps.o DesignProbes.o Diff.o DistanceMatrix.o EnumerateSequence.o ExpandAmbiguities.o FindFrameshifts.o GeneFinding.o GetPools.o Import.o InformationContent.o InsertGaps.o IntDist.o MeltPolymer.o MovingAverage.o MultiMatch.o NNLS.o Order.o PredictDBN.o PredictHEC.o R_init_decipher.o RemoveGaps.o ReplaceChars.o S4Vectors_stubs.o TerminalMismatch.o Translate.o VectorSums.o XVector_stubs.o -F/Library/Frameworks/R.framework/.. -framework R -Wl,-framework -Wl,CoreFoundation
installing to /Library/Frameworks/R.framework/Versions/4.1/Resources/library/00LOCK-DECIPHER/00new/DECIPHER/libs
** R
** data
** inst
** byte-compile and prepare package for lazy loading
** help
*** installing help indices
** building package indices
** installing vignettes
** testing if installed package can be loaded from temporary location
** checking absolute paths in shared objects and dynamic libraries
** testing if installed package can be loaded from final location
** testing if installed package keeps a record of temporary installation path
* DONE (DECIPHER)

Tests output


Example timings

DECIPHER.Rcheck/DECIPHER-Ex.timings

nameusersystemelapsed
AA_REDUCED0.0630.0140.077
Add2DB0.4420.0170.460
AdjustAlignment0.2830.0130.298
AlignDB1.2520.0331.286
AlignProfiles0.9060.0250.936
AlignSeqs32.512 0.20032.823
AlignSynteny4.2530.0284.285
AlignTranslation20.409 0.17120.600
AmplifyDNA0.0030.0030.007
Array2Matrix6.9890.0497.066
BrowseDB0.0400.0020.042
BrowseSeqs75.193 0.73176.119
CalculateEfficiencyArray0.0230.0040.028
CalculateEfficiencyFISH0.0090.0000.008
CalculateEfficiencyPCR0.0060.0000.007
Codec1.2580.0061.264
ConsensusSequence0.2800.0080.288
Cophenetic1.6430.0061.650
CorrectFrameshifts27.715 0.83728.625
CreateChimeras1.1530.0051.158
DB2Seqs0.020.010.03
DesignArray6.8030.0166.822
DesignPrimers0.0010.0010.001
DesignProbes0.0000.0010.001
DesignSignatures0.0010.0020.002
DetectRepeats155.323 0.262155.695
DigestDNA0.1940.0080.201
Disambiguate0.0540.0020.056
DistanceMatrix0.0330.0030.037
ExtractGenes42.746 0.90043.698
FindChimeras0.0900.0040.093
FindGenes42.565 0.92343.517
FindNonCoding61.669 4.56966.399
FindSynteny2.3330.0802.416
FormGroups0.0840.0040.089
Genes-class47.124 1.06854.319
HEC_MI0.3410.0180.360
IdClusters0.8760.0280.906
IdConsensus1.0670.0431.146
IdLengths0.0180.0020.019
IdTaxa12.430 0.33012.774
IdentifyByRank0.0310.0010.032
LearnNonCoding54.183 3.60657.842
LearnTaxa7.2241.5818.825
MIQS0.0540.0100.066
MODELS0.0000.0010.000
MapCharacters38.636 0.21038.916
MaskAlignment0.7460.0290.777
MeltDNA0.0530.0030.056
NNLS0.0050.0010.007
NonCoding-class0.0920.0180.110
NonCodingRNA0.1510.0270.178
OrientNucleotides1.3330.0091.343
PFASUM0.0380.0060.044
PredictDBN161.533 1.429163.135
PredictHEC0.3730.0120.386
RESTRICTION_ENZYMES0.0050.0110.016
ReadDendrogram0.0700.0040.074
RemoveGaps0.0150.0010.016
SearchDB0.0470.0050.051
Seqs2DB0.1230.0020.126
StaggerAlignment19.384 0.09319.520
Synteny-class3.1900.0393.237
Taxa-class14.645 0.60415.292
TerminalChar0.0170.0010.018
TileSeqs6.7250.0446.773
TrainingSet_16S3.6370.0323.672
TrimDNA0.0920.0040.097
WriteDendrogram0.0050.0010.006
WriteGenes37.479 1.20338.709
deltaGrules0.0220.0080.030
deltaHrules0.0340.0100.044
deltaHrulesRNA0.0330.0080.040
deltaSrules0.1050.0040.109
deltaSrulesRNA0.0240.0080.032