Back to Multiple platform build/check report for BioC 3.13
ABC[D]EFGHIJKLMNOPQRSTUVWXYZ

This page was generated on 2021-07-23 15:06:01 -0400 (Fri, 23 Jul 2021).

BUILD results for DAPAR on tokay2

To the developers/maintainers of the DAPAR package:
- Please allow up to 24 hours (and sometimes 48 hours) for your latest push to git@git.bioconductor.org:packages/DAPAR.git to
reflect on this report. See How and When does the builder pull? When will my changes propagate? here for more information.
- Make sure to use the following settings in order to reproduce any error or warning you see on this page.

raw results

Package 442/2041HostnameOS / ArchINSTALLBUILDCHECKBUILD BIN
DAPAR 1.24.6  (landing page)
Samuel Wieczorek
Snapshot Date: 2021-07-22 04:50:13 -0400 (Thu, 22 Jul 2021)
URL: https://git.bioconductor.org/packages/DAPAR
Branch: RELEASE_3_13
Last Commit: d33d563
Last Changed Date: 2021-07-05 07:01:37 -0400 (Mon, 05 Jul 2021)
nebbiolo1Linux (Ubuntu 20.04.2 LTS) / x86_64  OK    OK    OK  UNNEEDED, same version is already published
tokay2Windows Server 2012 R2 Standard / x64  OK    OK    OK    OK  UNNEEDED, same version is already published
machv2macOS 10.14.6 Mojave / x86_64  OK    OK    OK    OK  UNNEEDED, same version is already published

Summary

Package: DAPAR
Version: 1.24.6
Command: chmod a+r DAPAR -R && C:\Users\biocbuild\bbs-3.13-bioc\R\bin\R.exe CMD build --keep-empty-dirs --no-resave-data DAPAR
StartedAt: 2021-07-22 13:33:38 -0400 (Thu, 22 Jul 2021)
EndedAt: 2021-07-22 13:34:57 -0400 (Thu, 22 Jul 2021)
EllapsedTime: 78.9 seconds
RetCode: 0
Status:   OK  
PackageFile: DAPAR_1.24.6.tar.gz
PackageFileSize: 5.481 MiB

Command output

##############################################################################
##############################################################################
###
### Running command:
###
###   chmod a+r DAPAR -R && C:\Users\biocbuild\bbs-3.13-bioc\R\bin\R.exe CMD build --keep-empty-dirs --no-resave-data DAPAR
###
##############################################################################
##############################################################################


* checking for file 'DAPAR/DESCRIPTION' ... OK
* preparing 'DAPAR':
* checking DESCRIPTION meta-information ... OK
* installing the package to build vignettes
* creating vignettes ... OK
* checking for LF line-endings in source and make files and shell scripts
* checking for empty or unneeded directories
* building 'DAPAR_1.24.6.tar.gz'