Back to Multiple platform build/check report for BioC 3.13
ABC[D]EFGHIJKLMNOPQRSTUVWXYZ

This page was generated on 2021-09-24 15:06:07 -0400 (Fri, 24 Sep 2021).

BUILD BIN results for DAMEfinder on tokay2

To the developers/maintainers of the DAMEfinder package:
- Please allow up to 24 hours (and sometimes 48 hours) for your latest push to git@git.bioconductor.org:packages/DAMEfinder.git to
reflect on this report. See How and When does the builder pull? When will my changes propagate? here for more information.
- Make sure to use the following settings in order to reproduce any error or warning you see on this page.

raw results

Package 440/2041HostnameOS / ArchINSTALLBUILDCHECKBUILD BIN
DAMEfinder 1.4.0  (landing page)
Stephany Orjuela
Snapshot Date: 2021-09-23 04:50:12 -0400 (Thu, 23 Sep 2021)
git_url: https://git.bioconductor.org/packages/DAMEfinder
git_branch: RELEASE_3_13
git_last_commit: a0da475
git_last_commit_date: 2021-05-19 12:49:06 -0400 (Wed, 19 May 2021)
nebbiolo1Linux (Ubuntu 20.04.2 LTS) / x86_64  OK    OK    OK  UNNEEDED, same version is already published
tokay2Windows Server 2012 R2 Standard / x64  OK    OK    OK    OK  UNNEEDED, same version is already published
machv2macOS 10.14.6 Mojave / x86_64  OK    OK    OK    OK  UNNEEDED, same version is already published

Summary

Package: DAMEfinder
Version: 1.4.0
Command: rm -rf DAMEfinder.buildbin-libdir && mkdir DAMEfinder.buildbin-libdir && C:\Users\biocbuild\bbs-3.13-bioc\R\bin\R.exe CMD INSTALL --merge-multiarch --build --library=DAMEfinder.buildbin-libdir DAMEfinder_1.4.0.tar.gz
StartedAt: 2021-09-24 07:59:42 -0400 (Fri, 24 Sep 2021)
EndedAt: 2021-09-24 08:00:45 -0400 (Fri, 24 Sep 2021)
EllapsedTime: 63.1 seconds
RetCode: 0
Status:   OK  
PackageFile: DAMEfinder_1.4.0.zip
PackageFileSize: 3.171 MiB

Command output

##############################################################################
##############################################################################
###
### Running command:
###
###   rm -rf DAMEfinder.buildbin-libdir && mkdir DAMEfinder.buildbin-libdir && C:\Users\biocbuild\bbs-3.13-bioc\R\bin\R.exe CMD INSTALL --merge-multiarch --build --library=DAMEfinder.buildbin-libdir DAMEfinder_1.4.0.tar.gz
###
##############################################################################
##############################################################################



install for i386

* installing *source* package 'DAMEfinder' ...
** using staged installation
** R
** data
** inst
** byte-compile and prepare package for lazy loading
** help
*** installing help indices
  converting help for package 'DAMEfinder'
    finding HTML links ... done
    DAMEfinder                              html  
    calc_asm                                html  
    calc_derivedasm                         html  
    finding level-2 HTML links ... done

    calc_logodds                            html  
    calc_score                              html  
    calc_weight                             html  
    dame_track                              html  
    dame_track_mean                         html  
    empirical_pval                          html  
    extract_bams                            html  
    extractbams_output                      html  
    find_dames                              html  
    getMD                                   html  
    get_tstats                              html  
    methyl_MDS_plot                         html  
    methyl_circle_plot                      html  
    methyl_circle_plotCpG                   html  
    modulus_sqrt                            html  
    read_tuples                             html  
    readtuples_output                       html  
    simes_pval                              html  
    splitReads                              html  
** building package indices
** installing vignettes
** testing if installed package can be loaded from temporary location
** testing if installed package can be loaded from final location
** testing if installed package keeps a record of temporary installation path

install for x64

* installing *source* package 'DAMEfinder' ...
** testing if installed package can be loaded
* MD5 sums
packaged installation of 'DAMEfinder' as DAMEfinder_1.4.0.zip
* DONE (DAMEfinder)