Index of /checkResults/release/bioc-LATEST/DAMEfinder/raw-results/nebbiolo1

[ICO]NameLast modifiedSizeDescription

[DIR]Parent Directory  -  
[TXT]buildsrc-out.txt10-Jul-2024 06:39 881  
[   ]buildsrc-summary.dcf10-Jul-2024 06:39 427  
[TXT]checksrc-out.txt10-Jul-2024 06:39 3.7K 
[   ]checksrc-summary.dcf10-Jul-2024 06:39 426  
[TXT]install-out.txt10-Jul-2024 06:39 969  
[   ]install-summary.dcf10-Jul-2024 06:39 265