Index of /checkResults/release/bioc-LATEST/DAMEfinder/raw-results/merida1

[ICO]NameLast modifiedSizeDescription

[DIR]Parent Directory  -  
[TXT]buildbin-out.txt17-Jul-2024 06:40 1.2K 
[   ]buildbin-summary.dcf17-Jul-2024 06:40 548  
[TXT]buildsrc-out.txt17-Jul-2024 06:40 891  
[   ]buildsrc-summary.dcf17-Jul-2024 06:40 437  
[TXT]checksrc-out.txt17-Jul-2024 06:40 3.9K 
[   ]checksrc-summary.dcf17-Jul-2024 06:40 456  
[TXT]install-out.txt17-Jul-2024 06:40 1.0K 
[   ]install-summary.dcf17-Jul-2024 06:40 275