Index of /checkResults/release/bioc-LATEST/DAMEfinder/raw-results/kjohnson1

[ICO]NameLast modifiedSizeDescription

[DIR]Parent Directory  -  
[TXT]buildbin-out.txt17-Jul-2024 06:42 1.2K 
[   ]buildbin-summary.dcf17-Jul-2024 06:42 547  
[TXT]buildsrc-out.txt17-Jul-2024 06:42 891  
[   ]buildsrc-summary.dcf17-Jul-2024 06:42 436  
[TXT]checksrc-out.txt17-Jul-2024 06:42 3.8K 
[   ]checksrc-summary.dcf17-Jul-2024 06:42 456  
[TXT]install-out.txt17-Jul-2024 06:42 1.0K 
[   ]install-summary.dcf17-Jul-2024 06:42 275