Back to Multiple platform build/check report for BioC 3.13
ABC[D]EFGHIJKLMNOPQRSTUVWXYZ

This page was generated on 2021-09-20 15:05:39 -0400 (Mon, 20 Sep 2021).

BUILD BIN results for DAMEfinder on machv2

To the developers/maintainers of the DAMEfinder package:
- Please allow up to 24 hours (and sometimes 48 hours) for your latest push to git@git.bioconductor.org:packages/DAMEfinder.git to
reflect on this report. See How and When does the builder pull? When will my changes propagate? here for more information.
- Make sure to use the following settings in order to reproduce any error or warning you see on this page.

raw results

Package 440/2041HostnameOS / ArchINSTALLBUILDCHECKBUILD BIN
DAMEfinder 1.4.0  (landing page)
Stephany Orjuela
Snapshot Date: 2021-09-19 04:50:10 -0400 (Sun, 19 Sep 2021)
git_url: https://git.bioconductor.org/packages/DAMEfinder
git_branch: RELEASE_3_13
git_last_commit: a0da475
git_last_commit_date: 2021-05-19 12:49:06 -0400 (Wed, 19 May 2021)
nebbiolo1Linux (Ubuntu 20.04.2 LTS) / x86_64  OK    OK    OK  UNNEEDED, same version is already published
tokay2Windows Server 2012 R2 Standard / x64  OK    OK    OK    OK  UNNEEDED, same version is already published
machv2macOS 10.14.6 Mojave / x86_64  OK    OK    OK    OK  UNNEEDED, same version is already published

Summary

Package: DAMEfinder
Version: 1.4.0
Command: rm -rf DAMEfinder.buildbin-libdir && mkdir DAMEfinder.buildbin-libdir && /Users/biocbuild/BBS/utils/build-universal.sh DAMEfinder_1.4.0.tar.gz /Library/Frameworks/R.framework/Versions/Current/Resources/bin/R DAMEfinder.buildbin-libdir
StartedAt: 2021-09-20 02:05:57 -0400 (Mon, 20 Sep 2021)
EndedAt: 2021-09-20 02:06:45 -0400 (Mon, 20 Sep 2021)
EllapsedTime: 47.8 seconds
RetCode: 0
Status:   OK  
PackageFile: DAMEfinder_1.4.0.tgz
PackageFileSize: 4.686 MiB

Command output

##############################################################################
##############################################################################
###
### Running command:
###
###   rm -rf DAMEfinder.buildbin-libdir && mkdir DAMEfinder.buildbin-libdir && /Users/biocbuild/BBS/utils/build-universal.sh DAMEfinder_1.4.0.tar.gz /Library/Frameworks/R.framework/Versions/Current/Resources/bin/R DAMEfinder.buildbin-libdir
###
##############################################################################
##############################################################################


>>>>>>> 
>>>>>>> INSTALLATION WITH 'R CMD INSTALL --preclean --no-multiarch --library=DAMEfinder.buildbin-libdir DAMEfinder_1.4.0.tar.gz'
>>>>>>> 

* installing *source* package ‘DAMEfinder’ ...
** using staged installation
** R
** data
** inst
** byte-compile and prepare package for lazy loading
** help
*** installing help indices
** building package indices
** installing vignettes
** testing if installed package can be loaded from temporary location
** testing if installed package can be loaded from final location
** testing if installed package keeps a record of temporary installation path
* DONE (DAMEfinder)