Back to Multiple platform build/check report for BioC 3.19:   simplified   long
AB[C]DEFGHIJKLMNOPQRSTUVWXYZ

This page was generated on 2024-06-18 17:58 -0400 (Tue, 18 Jun 2024).

HostnameOSArch (*)R versionInstalled pkgs
nebbiolo1Linux (Ubuntu 22.04.3 LTS)x86_644.4.0 (2024-04-24) -- "Puppy Cup" 4758
palomino3Windows Server 2022 Datacenterx644.4.0 (2024-04-24 ucrt) -- "Puppy Cup" 4492
merida1macOS 12.7.4 Montereyx86_644.4.0 (2024-04-24) -- "Puppy Cup" 4464
kjohnson1macOS 13.6.6 Venturaarm644.4.0 (2024-04-24) -- "Puppy Cup" 4464
Click on any hostname to see more info about the system (e.g. compilers)      (*) as reported by 'uname -p', except on Windows and Mac OS X

Package 499/2300HostnameOS / ArchINSTALLBUILDCHECKBUILD BIN
CytoML 2.16.0  (landing page)
Mike Jiang
Snapshot Date: 2024-06-16 14:00 -0400 (Sun, 16 Jun 2024)
git_url: https://git.bioconductor.org/packages/CytoML
git_branch: RELEASE_3_19
git_last_commit: 95dbca4
git_last_commit_date: 2024-04-30 10:52:05 -0400 (Tue, 30 Apr 2024)
nebbiolo1Linux (Ubuntu 22.04.3 LTS) / x86_64  OK    OK    WARNINGS  UNNEEDED, same version is already published
palomino3Windows Server 2022 Datacenter / x64  OK    OK    WARNINGS    OK  UNNEEDED, same version is already published
merida1macOS 12.7.4 Monterey / x86_64  OK    OK    WARNINGS    OK  UNNEEDED, same version is already published
kjohnson1macOS 13.6.6 Ventura / arm64  OK    OK    WARNINGS    OK  UNNEEDED, same version is already published


BUILD results for CytoML on palomino3

To the developers/maintainers of the CytoML package:
- Allow up to 24 hours (and sometimes 48 hours) for your latest push to git@git.bioconductor.org:packages/CytoML.git to reflect on this report. See Troubleshooting Build Report for more information.
- Use the following Renviron settings to reproduce errors and warnings.
- If 'R CMD check' started to fail recently on the Linux builder(s) over a missing dependency, add the missing dependency to 'Suggests:' in your DESCRIPTION file. See Renviron.bioc for more information.

raw results


Summary

Package: CytoML
Version: 2.16.0
Command: chmod a+r CytoML -R && F:\biocbuild\bbs-3.19-bioc\R\bin\R.exe CMD build --keep-empty-dirs --no-resave-data CytoML
StartedAt: 2024-06-16 18:26:05 -0400 (Sun, 16 Jun 2024)
EndedAt: 2024-06-16 18:29:07 -0400 (Sun, 16 Jun 2024)
EllapsedTime: 182.0 seconds
RetCode: 0
Status:   OK  
PackageFile: CytoML_2.16.0.tar.gz
PackageFileSize: 10.54 MiB

Command output

##############################################################################
##############################################################################
###
### Running command:
###
###   chmod a+r CytoML -R && F:\biocbuild\bbs-3.19-bioc\R\bin\R.exe CMD build --keep-empty-dirs --no-resave-data CytoML
###
##############################################################################
##############################################################################


* checking for file 'CytoML/DESCRIPTION' ... OK
* preparing 'CytoML':
* checking DESCRIPTION meta-information ... OK
* cleaning src
* installing the package to build vignettes
* creating vignettes ... OK
* cleaning src
* checking for LF line-endings in source and make files and shell scripts
* checking for empty or unneeded directories
Omitted 'LazyData' from DESCRIPTION
  NB: this package now depends on R (>= 3.5.0)
  WARNING: Added dependency on R >= 3.5.0 because serialized objects in
  serialize/load version 3 cannot be read in older versions of R.
  File(s) containing such objects:
    'CytoML/tests/testthat/expect_result/flowJoWorkspace_expect.rds'
* building 'CytoML_2.16.0.tar.gz'
Warning: file 'CytoML/configure' did not have execute permissions: corrected