Back to Multiple platform build/check report for BioC 3.19:   simplified   long
AB[C]DEFGHIJKLMNOPQRSTUVWXYZ

This page was generated on 2024-06-11 14:40 -0400 (Tue, 11 Jun 2024).

HostnameOSArch (*)R versionInstalled pkgs
nebbiolo1Linux (Ubuntu 22.04.3 LTS)x86_644.4.0 (2024-04-24) -- "Puppy Cup" 4757
palomino3Windows Server 2022 Datacenterx644.4.0 (2024-04-24 ucrt) -- "Puppy Cup" 4491
lconwaymacOS 12.7.1 Montereyx86_644.4.0 (2024-04-24) -- "Puppy Cup" 4522
kjohnson3macOS 13.6.5 Venturaarm644.4.0 (2024-04-24) -- "Puppy Cup" 4468
Click on any hostname to see more info about the system (e.g. compilers)      (*) as reported by 'uname -p', except on Windows and Mac OS X

Package 491/2300HostnameOS / ArchINSTALLBUILDCHECKBUILD BIN
CyTOFpower 1.10.0  (landing page)
Anne-Maud Ferreira
Snapshot Date: 2024-06-09 14:00 -0400 (Sun, 09 Jun 2024)
git_url: https://git.bioconductor.org/packages/CyTOFpower
git_branch: RELEASE_3_19
git_last_commit: 5ec8e4f
git_last_commit_date: 2024-04-30 11:38:16 -0400 (Tue, 30 Apr 2024)
nebbiolo1Linux (Ubuntu 22.04.3 LTS) / x86_64  OK    OK    OK  UNNEEDED, same version is already published
palomino3Windows Server 2022 Datacenter / x64  OK    OK    ERROR    OK  
lconwaymacOS 12.7.1 Monterey / x86_64  OK    OK    ERROR    OK  
kjohnson3macOS 13.6.5 Ventura / arm64  OK    OK    OK    OK  UNNEEDED, same version is already published


CHECK results for CyTOFpower on palomino3

To the developers/maintainers of the CyTOFpower package:
- Allow up to 24 hours (and sometimes 48 hours) for your latest push to git@git.bioconductor.org:packages/CyTOFpower.git to reflect on this report. See Troubleshooting Build Report for more information.
- Use the following Renviron settings to reproduce errors and warnings.
- If 'R CMD check' started to fail recently on the Linux builder(s) over a missing dependency, add the missing dependency to 'Suggests:' in your DESCRIPTION file. See Renviron.bioc for more information.

raw results


Summary

Package: CyTOFpower
Version: 1.10.0
Command: F:\biocbuild\bbs-3.19-bioc\R\bin\R.exe CMD check --no-multiarch --install=check:CyTOFpower.install-out.txt --library=F:\biocbuild\bbs-3.19-bioc\R\library --no-vignettes --timings CyTOFpower_1.10.0.tar.gz
StartedAt: 2024-06-10 02:29:38 -0400 (Mon, 10 Jun 2024)
EndedAt: 2024-06-10 02:31:48 -0400 (Mon, 10 Jun 2024)
EllapsedTime: 130.1 seconds
RetCode: 1
Status:   ERROR  
CheckDir: CyTOFpower.Rcheck
Warnings: NA

Command output

##############################################################################
##############################################################################
###
### Running command:
###
###   F:\biocbuild\bbs-3.19-bioc\R\bin\R.exe CMD check --no-multiarch --install=check:CyTOFpower.install-out.txt --library=F:\biocbuild\bbs-3.19-bioc\R\library --no-vignettes --timings CyTOFpower_1.10.0.tar.gz
###
##############################################################################
##############################################################################


* using log directory 'F:/biocbuild/bbs-3.19-bioc/meat/CyTOFpower.Rcheck'
* using R version 4.4.0 (2024-04-24 ucrt)
* using platform: x86_64-w64-mingw32
* R was compiled by
    gcc.exe (GCC) 13.2.0
    GNU Fortran (GCC) 13.2.0
* running under: Windows Server 2022 x64 (build 20348)
* using session charset: UTF-8
* using option '--no-vignettes'
* checking for file 'CyTOFpower/DESCRIPTION' ... OK
* checking extension type ... Package
* this is package 'CyTOFpower' version '1.10.0'
* package encoding: UTF-8
* checking package namespace information ... OK
* checking package dependencies ... OK
* checking if this is a source package ... OK
* checking if there is a namespace ... OK
* checking for hidden files and directories ... OK
* checking for portable file names ... OK
* checking whether package 'CyTOFpower' can be installed ... OK
* checking installed package size ... OK
* checking package directory ... OK
* checking 'build' directory ... OK
* checking DESCRIPTION meta-information ... OK
* checking top-level files ... OK
* checking for left-over files ... OK
* checking index information ... OK
* checking package subdirectories ... NOTE
Problems with news in 'NEWS':
  Cannot process chunk/lines:
    Changes in version 0.99.0 (2021-09-15)
* checking code files for non-ASCII characters ... OK
* checking R files for syntax errors ... OK
* checking whether the package can be loaded ... OK
* checking whether the package can be loaded with stated dependencies ... OK
* checking whether the package can be unloaded cleanly ... OK
* checking whether the namespace can be loaded with stated dependencies ... OK
* checking whether the namespace can be unloaded cleanly ... OK
* checking dependencies in R code ... OK
* checking S3 generic/method consistency ... OK
* checking replacement functions ... OK
* checking foreign function calls ... OK
* checking R code for possible problems ... OK
* checking Rd files ... OK
* checking Rd metadata ... OK
* checking Rd cross-references ... OK
* checking for missing documentation entries ... OK
* checking for code/documentation mismatches ... OK
* checking Rd \usage sections ... OK
* checking Rd contents ... OK
* checking for unstated dependencies in examples ... OK
* checking files in 'vignettes' ... OK
* checking examples ... OK
* checking for unstated dependencies in 'tests' ... OK
* checking tests ...
  Running 'testthat.R'
 ERROR
Running the tests in 'tests/testthat.R' failed.
Last 13 lines of output:
  2          m2        3 1.1            0.1  10          3                  3
  3          m3        3 1.0            0.1  10          3                  3
  Run the LMM model with random effect
  boundary (singular) fit: see help('isSingular')
  Run the LMM model with random effect
  boundary (singular) fit: see help('isSingular')
  [ FAIL 1 | WARN 26 | SKIP 0 | PASS 68 ]
  
  ══ Failed tests ════════════════════════════════════════════════════════════════
  ── Failure ('test_run_models.R:85:3'): Run the CytoGLMM - GLMM model ───────────
  `cytoglmm_res <- function_run_cytoGLMM(mock_dataset = ls_3markers$ls_mock_data)` did not throw the expected warning.
  
  [ FAIL 1 | WARN 26 | SKIP 0 | PASS 68 ]
  Error: Test failures
  Execution halted
* checking for unstated dependencies in vignettes ... OK
* checking package vignettes ... OK
* checking running R code from vignettes ... SKIPPED
* checking re-building of vignette outputs ... SKIPPED
* checking PDF version of manual ... OK
* DONE

Status: 1 ERROR, 1 NOTE
See
  'F:/biocbuild/bbs-3.19-bioc/meat/CyTOFpower.Rcheck/00check.log'
for details.


Installation output

CyTOFpower.Rcheck/00install.out

##############################################################################
##############################################################################
###
### Running command:
###
###   F:\biocbuild\bbs-3.19-bioc\R\bin\R.exe CMD INSTALL CyTOFpower
###
##############################################################################
##############################################################################


* installing to library 'F:/biocbuild/bbs-3.19-bioc/R/library'
* installing *source* package 'CyTOFpower' ...
** using staged installation
** R
** inst
** byte-compile and prepare package for lazy loading
** help
*** installing help indices
** building package indices
** installing vignettes
** testing if installed package can be loaded from temporary location
** testing if installed package can be loaded from final location
** testing if installed package keeps a record of temporary installation path
* DONE (CyTOFpower)

Tests output

CyTOFpower.Rcheck/tests/testthat.Rout.fail


R version 4.4.0 (2024-04-24 ucrt) -- "Puppy Cup"
Copyright (C) 2024 The R Foundation for Statistical Computing
Platform: x86_64-w64-mingw32/x64

R is free software and comes with ABSOLUTELY NO WARRANTY.
You are welcome to redistribute it under certain conditions.
Type 'license()' or 'licence()' for distribution details.

R is a collaborative project with many contributors.
Type 'contributors()' for more information and
'citation()' on how to cite R or R packages in publications.

Type 'demo()' for some demos, 'help()' for on-line help, or
'help.start()' for an HTML browser interface to help.
Type 'q()' to quit R.

> library(testthat)
> library(CyTOFpower)
> 
> test_check("CyTOFpower")
[[1]]
  marker_name nb_donor rho subject_effect mu0 dispersion nb_cell_per_sample
1          m1        3   1            0.1  10          3                  1

[[2]]
  marker_name nb_donor rho subject_effect mu0 dispersion nb_cell_per_sample
1          m2        3 1.1            0.1  10          3                  1

  marker_name nb_donor rho subject_effect mu0 dispersion nb_cell_per_sample
1          m1        3 1.0            0.1  10          3                  3
2          m2        3 1.1            0.1  10          3                  3
3          m3        3 1.0            0.1  10          3                  3
  marker_name nb_donor rho subject_effect mu0 dispersion nb_cell_per_sample
1          m1        3 1.0            0.1  10          3                  3
2          m2        3 1.1            0.1  10          3                  3
3          m3        3 1.0            0.1  10          3                  3
  marker_name nb_donor rho subject_effect mu0 dispersion nb_cell_per_sample
1          m1        3 1.0            0.1  10          3                  3
2          m2        3 1.1            0.1  10          3                  3
3          m3        3 1.0            0.1  10          3                  3
[[1]]
  marker_name nb_donor rho subject_effect mu0 dispersion nb_cell_per_sample
1          m1        3   1            0.1  10          3                  3

[[2]]
  marker_name nb_donor rho subject_effect mu0 dispersion nb_cell_per_sample
1          m2        3 1.1            0.1  10          3                  3

[[3]]
  marker_name nb_donor rho subject_effect mu0 dispersion nb_cell_per_sample
1          m3        3   1            0.1  10          3                  3

[[1]]
  marker_name nb_donor rho subject_effect mu0 dispersion nb_cell_per_sample
1          m1        3   1            0.1  10          3                  3

[[2]]
  marker_name nb_donor rho subject_effect mu0 dispersion nb_cell_per_sample
1          m2        3 1.1            0.1  10          3                  3

[[3]]
  marker_name nb_donor rho subject_effect mu0 dispersion nb_cell_per_sample
1          m3        3   1            0.1  10          3                  3

[[1]]
  marker_name nb_donor rho subject_effect mu0 dispersion nb_cell_per_sample
1          m1        3   1            0.1  10          3                  3

[[2]]
  marker_name nb_donor rho subject_effect mu0 dispersion nb_cell_per_sample
1          m2        3 1.1            0.1  10          3                  3

[[3]]
  marker_name nb_donor rho subject_effect mu0 dispersion nb_cell_per_sample
1          m3        3   1            0.1  10          3                  3

Joining with `by = join_by(markers)`
Joining with `by = join_by(markers)`
boundary (singular) fit: see help('isSingular')
Fitting linear models with random effects term for 'block_id'.
boundary (singular) fit: see help('isSingular')
Run the limma model with random effect
Fitting linear models with random effects term for 'block_id'.
Run the limma model with fixed effect
Run the LMM model with random effect
boundary (singular) fit: see help('isSingular')
  marker_name nb_donor rho subject_effect mu0 dispersion nb_cell_per_sample
1          m1        3 1.0            0.1  10          3                  3
2          m2        3 1.1            0.1  10          3                  3
3          m3        3 1.0            0.1  10          3                  3
  marker_name nb_donor rho subject_effect mu0 dispersion nb_cell_per_sample
1          m1        3 1.0            0.1  10          3                  3
2          m2        3 1.1            0.1  10          3                  3
3          m3        3 1.0            0.1  10          3                  3
Run the limma model with random effect
Fitting linear models with random effects term for 'block_id'.
  marker_name nb_donor rho subject_effect mu0 dispersion nb_cell_per_sample
1          m1        3 1.0            0.1  10          3                  3
2          m2        3 1.1            0.1  10          3                  3
3          m3        3 1.0            0.1  10          3                  3
Run the limma model with fixed effect
  marker_name nb_donor rho subject_effect mu0 dispersion nb_cell_per_sample
1          m1        3 1.0            0.1  10          3                  3
2          m2        3 1.1            0.1  10          3                  3
3          m3        3 1.0            0.1  10          3                  3
Run the LMM model with random effect
boundary (singular) fit: see help('isSingular')
Run the LMM model with random effect
boundary (singular) fit: see help('isSingular')
[ FAIL 1 | WARN 26 | SKIP 0 | PASS 68 ]

══ Failed tests ════════════════════════════════════════════════════════════════
── Failure ('test_run_models.R:85:3'): Run the CytoGLMM - GLMM model ───────────
`cytoglmm_res <- function_run_cytoGLMM(mock_dataset = ls_3markers$ls_mock_data)` did not throw the expected warning.

[ FAIL 1 | WARN 26 | SKIP 0 | PASS 68 ]
Error: Test failures
Execution halted

Example timings

CyTOFpower.Rcheck/CyTOFpower-Ex.timings

nameusersystemelapsed
CyTOFpower000