Back to Multiple platform build/check report for BioC 3.13
AB[C]DEFGHIJKLMNOPQRSTUVWXYZ

This page was generated on 2021-09-17 15:06:33 -0400 (Fri, 17 Sep 2021).

BUILD BIN results for CrispRVariants on machv2

To the developers/maintainers of the CrispRVariants package:
- Please allow up to 24 hours (and sometimes 48 hours) for your latest push to git@git.bioconductor.org:packages/CrispRVariants.git to
reflect on this report. See How and When does the builder pull? When will my changes propagate? here for more information.
- Make sure to use the following settings in order to reproduce any error or warning you see on this page.

raw results

Package 411/2041HostnameOS / ArchINSTALLBUILDCHECKBUILD BIN
CrispRVariants 1.20.0  (landing page)
Helen Lindsay
Snapshot Date: 2021-09-16 04:50:11 -0400 (Thu, 16 Sep 2021)
git_url: https://git.bioconductor.org/packages/CrispRVariants
git_branch: RELEASE_3_13
git_last_commit: 6789cce
git_last_commit_date: 2021-05-19 12:17:13 -0400 (Wed, 19 May 2021)
nebbiolo1Linux (Ubuntu 20.04.2 LTS) / x86_64  OK    OK    WARNINGS  UNNEEDED, same version is already published
tokay2Windows Server 2012 R2 Standard / x64  OK    OK    WARNINGS    OK  UNNEEDED, same version is already published
machv2macOS 10.14.6 Mojave / x86_64  OK    OK    WARNINGS    OK  UNNEEDED, same version is already published

Summary

Package: CrispRVariants
Version: 1.20.0
Command: rm -rf CrispRVariants.buildbin-libdir && mkdir CrispRVariants.buildbin-libdir && /Users/biocbuild/BBS/utils/build-universal.sh CrispRVariants_1.20.0.tar.gz /Library/Frameworks/R.framework/Versions/Current/Resources/bin/R CrispRVariants.buildbin-libdir
StartedAt: 2021-09-17 02:12:35 -0400 (Fri, 17 Sep 2021)
EndedAt: 2021-09-17 02:13:46 -0400 (Fri, 17 Sep 2021)
EllapsedTime: 70.9 seconds
RetCode: 0
Status:   OK  
PackageFile: CrispRVariants_1.20.0.tgz
PackageFileSize: 1.801 MiB

Command output

##############################################################################
##############################################################################
###
### Running command:
###
###   rm -rf CrispRVariants.buildbin-libdir && mkdir CrispRVariants.buildbin-libdir && /Users/biocbuild/BBS/utils/build-universal.sh CrispRVariants_1.20.0.tar.gz /Library/Frameworks/R.framework/Versions/Current/Resources/bin/R CrispRVariants.buildbin-libdir
###
##############################################################################
##############################################################################


>>>>>>> 
>>>>>>> INSTALLATION WITH 'R CMD INSTALL --preclean --no-multiarch --library=CrispRVariants.buildbin-libdir CrispRVariants_1.20.0.tar.gz'
>>>>>>> 

* installing *source* package ‘CrispRVariants’ ...
** using staged installation
** R
** data
*** moving datasets to lazyload DB
** inst
** byte-compile and prepare package for lazy loading
** help
*** installing help indices
** building package indices
** installing vignettes
** testing if installed package can be loaded from temporary location
** testing if installed package can be loaded from final location
** testing if installed package keeps a record of temporary installation path
* DONE (CrispRVariants)