Back to Multiple platform build/check report for BioC 3.13
AB[C]DEFGHIJKLMNOPQRSTUVWXYZ

This page was generated on 2021-09-13 15:06:53 -0400 (Mon, 13 Sep 2021).

BUILD BIN results for CoverageView on machv2

To the developers/maintainers of the CoverageView package:
- Please allow up to 24 hours (and sometimes 48 hours) for your latest push to git@git.bioconductor.org:packages/CoverageView.git to
reflect on this report. See How and When does the builder pull? When will my changes propagate? here for more information.
- Make sure to use the following settings in order to reproduce any error or warning you see on this page.

raw results

Package 404/2041HostnameOS / ArchINSTALLBUILDCHECKBUILD BIN
CoverageView 1.30.0  (landing page)
Ernesto Lowy
Snapshot Date: 2021-09-12 04:50:10 -0400 (Sun, 12 Sep 2021)
git_url: https://git.bioconductor.org/packages/CoverageView
git_branch: RELEASE_3_13
git_last_commit: f760e2e
git_last_commit_date: 2021-05-19 12:04:24 -0400 (Wed, 19 May 2021)
nebbiolo1Linux (Ubuntu 20.04.2 LTS) / x86_64  OK    OK    WARNINGS  UNNEEDED, same version is already published
tokay2Windows Server 2012 R2 Standard / x64... NOT SUPPORTED ...
machv2macOS 10.14.6 Mojave / x86_64  OK    OK    WARNINGS    OK  UNNEEDED, same version is already published

Summary

Package: CoverageView
Version: 1.30.0
Command: rm -rf CoverageView.buildbin-libdir && mkdir CoverageView.buildbin-libdir && /Users/biocbuild/BBS/utils/build-universal.sh CoverageView_1.30.0.tar.gz /Library/Frameworks/R.framework/Versions/Current/Resources/bin/R CoverageView.buildbin-libdir
StartedAt: 2021-09-13 02:04:47 -0400 (Mon, 13 Sep 2021)
EndedAt: 2021-09-13 02:05:50 -0400 (Mon, 13 Sep 2021)
EllapsedTime: 63.7 seconds
RetCode: 0
Status:   OK  
PackageFile: CoverageView_1.30.0.tgz
PackageFileSize: 2.825 MiB

Command output

##############################################################################
##############################################################################
###
### Running command:
###
###   rm -rf CoverageView.buildbin-libdir && mkdir CoverageView.buildbin-libdir && /Users/biocbuild/BBS/utils/build-universal.sh CoverageView_1.30.0.tar.gz /Library/Frameworks/R.framework/Versions/Current/Resources/bin/R CoverageView.buildbin-libdir
###
##############################################################################
##############################################################################


>>>>>>> 
>>>>>>> INSTALLATION WITH 'R CMD INSTALL --preclean --no-multiarch --library=CoverageView.buildbin-libdir CoverageView_1.30.0.tar.gz'
>>>>>>> 

* installing *source* package ‘CoverageView’ ...
** using staged installation
** R
** data
** inst
** byte-compile and prepare package for lazy loading
** help
*** installing help indices
** building package indices
** installing vignettes
** testing if installed package can be loaded from temporary location
** testing if installed package can be loaded from final location
** testing if installed package keeps a record of temporary installation path
* DONE (CoverageView)