Back to Multiple platform build/check report for BioC 3.13
AB[C]DEFGHIJKLMNOPQRSTUVWXYZ

This page was generated on 2021-09-22 15:05:40 -0400 (Wed, 22 Sep 2021).

BUILD results for CoreGx on machv2

To the developers/maintainers of the CoreGx package:
- Please allow up to 24 hours (and sometimes 48 hours) for your latest push to git@git.bioconductor.org:packages/CoreGx.git to
reflect on this report. See How and When does the builder pull? When will my changes propagate? here for more information.
- Make sure to use the following settings in order to reproduce any error or warning you see on this page.

raw results

Package 393/2041HostnameOS / ArchINSTALLBUILDCHECKBUILD BIN
CoreGx 1.4.1  (landing page)
Benjamin Haibe-Kains
Snapshot Date: 2021-09-21 04:50:12 -0400 (Tue, 21 Sep 2021)
git_url: https://git.bioconductor.org/packages/CoreGx
git_branch: RELEASE_3_13
git_last_commit: 1bc1d98
git_last_commit_date: 2021-05-31 16:11:19 -0400 (Mon, 31 May 2021)
nebbiolo1Linux (Ubuntu 20.04.2 LTS) / x86_64  OK    OK    OK  UNNEEDED, same version is already published
tokay2Windows Server 2012 R2 Standard / x64  OK    OK    OK    OK  UNNEEDED, same version is already published
machv2macOS 10.14.6 Mojave / x86_64  OK    OK    OK    OK  UNNEEDED, same version is already published

Summary

Package: CoreGx
Version: 1.4.1
Command: /Library/Frameworks/R.framework/Versions/Current/Resources/bin/R CMD build --keep-empty-dirs --no-resave-data CoreGx
StartedAt: 2021-09-21 11:30:27 -0400 (Tue, 21 Sep 2021)
EndedAt: 2021-09-21 11:31:45 -0400 (Tue, 21 Sep 2021)
EllapsedTime: 78.0 seconds
RetCode: 0
Status:   OK  
PackageFile: CoreGx_1.4.1.tar.gz
PackageFileSize: 1.186 MiB

Command output

##############################################################################
##############################################################################
###
### Running command:
###
###   /Library/Frameworks/R.framework/Versions/Current/Resources/bin/R CMD build --keep-empty-dirs --no-resave-data CoreGx
###
##############################################################################
##############################################################################


* checking for file ‘CoreGx/DESCRIPTION’ ... OK
* preparing ‘CoreGx’:
* checking DESCRIPTION meta-information ... OK
* installing the package to build vignettes
* creating vignettes ... OK
* excluding invalid files
Subdirectory 'R' contains invalid file names:
  ‘workspace.code-workspace’
* checking for LF line-endings in source and make files and shell scripts
* checking for empty or unneeded directories
* building ‘CoreGx_1.4.1.tar.gz’