Back to Multiple platform build/check report for BioC 3.13
AB[C]DEFGHIJKLMNOPQRSTUVWXYZ

This page was generated on 2021-09-20 15:05:38 -0400 (Mon, 20 Sep 2021).

BUILD BIN results for CoreGx on machv2

To the developers/maintainers of the CoreGx package:
- Please allow up to 24 hours (and sometimes 48 hours) for your latest push to git@git.bioconductor.org:packages/CoreGx.git to
reflect on this report. See How and When does the builder pull? When will my changes propagate? here for more information.
- Make sure to use the following settings in order to reproduce any error or warning you see on this page.

raw results

Package 393/2041HostnameOS / ArchINSTALLBUILDCHECKBUILD BIN
CoreGx 1.4.1  (landing page)
Benjamin Haibe-Kains
Snapshot Date: 2021-09-19 04:50:10 -0400 (Sun, 19 Sep 2021)
git_url: https://git.bioconductor.org/packages/CoreGx
git_branch: RELEASE_3_13
git_last_commit: 1bc1d98
git_last_commit_date: 2021-05-31 16:11:19 -0400 (Mon, 31 May 2021)
nebbiolo1Linux (Ubuntu 20.04.2 LTS) / x86_64  OK    OK    OK  UNNEEDED, same version is already published
tokay2Windows Server 2012 R2 Standard / x64  OK    OK    OK    OK  UNNEEDED, same version is already published
machv2macOS 10.14.6 Mojave / x86_64  OK    OK    OK    OK  UNNEEDED, same version is already published

Summary

Package: CoreGx
Version: 1.4.1
Command: rm -rf CoreGx.buildbin-libdir && mkdir CoreGx.buildbin-libdir && /Users/biocbuild/BBS/utils/build-universal.sh CoreGx_1.4.1.tar.gz /Library/Frameworks/R.framework/Versions/Current/Resources/bin/R CoreGx.buildbin-libdir
StartedAt: 2021-09-20 02:01:52 -0400 (Mon, 20 Sep 2021)
EndedAt: 2021-09-20 02:02:51 -0400 (Mon, 20 Sep 2021)
EllapsedTime: 59.3 seconds
RetCode: 0
Status:   OK  
PackageFile: CoreGx_1.4.1.tgz
PackageFileSize: 1.925 MiB

Command output

##############################################################################
##############################################################################
###
### Running command:
###
###   rm -rf CoreGx.buildbin-libdir && mkdir CoreGx.buildbin-libdir && /Users/biocbuild/BBS/utils/build-universal.sh CoreGx_1.4.1.tar.gz /Library/Frameworks/R.framework/Versions/Current/Resources/bin/R CoreGx.buildbin-libdir
###
##############################################################################
##############################################################################


>>>>>>> 
>>>>>>> INSTALLATION WITH 'R CMD INSTALL --preclean --no-multiarch --library=CoreGx.buildbin-libdir CoreGx_1.4.1.tar.gz'
>>>>>>> 

* installing *source* package ‘CoreGx’ ...
** using staged installation
** R
** data
*** moving datasets to lazyload DB
Registered S3 method overwritten by 'ggplot2':
  method        from
  print.element sets
Creating a generic function for ‘colnames’ from package ‘base’ in package ‘CoreGx’
Creating a generic function for ‘rownames’ from package ‘base’ in package ‘CoreGx’
** inst
** byte-compile and prepare package for lazy loading
** help
*** installing help indices
** building package indices
** installing vignettes
** testing if installed package can be loaded from temporary location
** testing if installed package can be loaded from final location
** testing if installed package keeps a record of temporary installation path
* DONE (CoreGx)