Back to Multiple platform build/check report for BioC 3.13
AB[C]DEFGHIJKLMNOPQRSTUVWXYZ

This page was generated on 2021-09-24 15:05:16 -0400 (Fri, 24 Sep 2021).

All results for package CoreGx

To the developers/maintainers of the CoreGx package:
- Please allow up to 24 hours (and sometimes 48 hours) for your latest push to git@git.bioconductor.org:packages/CoreGx.git to
reflect on this report. See How and When does the builder pull? When will my changes propagate? here for more information.
- Make sure to use the following settings in order to reproduce any error or warning you see on this page.

raw results

Package 393/2041HostnameOS / ArchINSTALLBUILDCHECKBUILD BIN
CoreGx 1.4.1  (landing page)
Benjamin Haibe-Kains
Snapshot Date: 2021-09-23 04:50:12 -0400 (Thu, 23 Sep 2021)
git_url: https://git.bioconductor.org/packages/CoreGx
git_branch: RELEASE_3_13
git_last_commit: 1bc1d98
git_last_commit_date: 2021-05-31 16:11:19 -0400 (Mon, 31 May 2021)
nebbiolo1Linux (Ubuntu 20.04.2 LTS) / x86_64  OK    OK    OK  UNNEEDED, same version is already published
tokay2Windows Server 2012 R2 Standard / x64  OK    OK    OK    OK  UNNEEDED, same version is already published
machv2macOS 10.14.6 Mojave / x86_64  OK    OK    OK    OK  UNNEEDED, same version is already published

Results for Bioconductor software packages that depend directly on package CoreGx

QUICK STATSOS / ArchINSTALLBUILDCHECKBUILD BIN
nebbiolo1Linux (Ubuntu 20.04.2 LTS) / x86_64
004
004
0013
tokay2Windows Server 2012 R2 Standard / x64
004
004
0013
004
machv2macOS 10.14.6 Mojave / x86_64
004
004
0013
004
Package 1/4HostnameOS / ArchINSTALLBUILDCHECKBUILD BIN
PDATK 1.0.2  (landing page)
Benjamin Haibe-Kains
git_last_commit: 4065ec5
git_last_commit_date: 2021-06-23 15:28:37 -0400
nebbiolo1Linux (Ubuntu 20.04.2 LTS) / x86_64  OK    OK    WARNINGS  UNNEEDED, same version is already published
tokay2Windows Server 2012 R2 Standard / x64  OK    OK    WARNINGS    OK  UNNEEDED, same version is already published
machv2macOS 10.14.6 Mojave / x86_64  OK    OK    WARNINGS    OK  UNNEEDED, same version is already published
Package 2/4HostnameOS / ArchINSTALLBUILDCHECKBUILD BIN
PharmacoGx 2.4.0  (landing page)
Benjamin Haibe-Kains
git_last_commit: 1565ba6
git_last_commit_date: 2021-05-19 12:22:31 -0400
nebbiolo1Linux (Ubuntu 20.04.2 LTS) / x86_64  OK    OK    OK  UNNEEDED, same version is already published
tokay2Windows Server 2012 R2 Standard / x64  OK    OK    OK    OK  UNNEEDED, same version is already published
machv2macOS 10.14.6 Mojave / x86_64  OK    OK    OK    OK  UNNEEDED, same version is already published
Package 3/4HostnameOS / ArchINSTALLBUILDCHECKBUILD BIN
RadioGx 1.2.0  (landing page)
Benjamin Haibe-Kains
git_last_commit: fdb4a45
git_last_commit_date: 2021-05-19 12:53:17 -0400
nebbiolo1Linux (Ubuntu 20.04.2 LTS) / x86_64  OK    OK    OK  UNNEEDED, same version is already published
tokay2Windows Server 2012 R2 Standard / x64  OK    OK    OK    OK  UNNEEDED, same version is already published
machv2macOS 10.14.6 Mojave / x86_64  OK    OK    OK    OK  UNNEEDED, same version is already published
Package 4/4HostnameOS / ArchINSTALLBUILDCHECKBUILD BIN
ToxicoGx 1.2.1  (landing page)
Benjamin Haibe-Kains
git_last_commit: 04482fe
git_last_commit_date: 2021-06-17 13:42:00 -0400
nebbiolo1Linux (Ubuntu 20.04.2 LTS) / x86_64  OK    OK    OK  UNNEEDED, same version is already published
tokay2Windows Server 2012 R2 Standard / x64  OK    OK    OK    OK  UNNEEDED, same version is already published
machv2macOS 10.14.6 Mojave / x86_64  OK    OK    OK    OK  UNNEEDED, same version is already published