Back to Multiple platform build/check report for BioC 3.13
AB[C]DEFGHIJKLMNOPQRSTUVWXYZ

This page was generated on 2021-08-02 15:05:08 -0400 (Mon, 02 Aug 2021).

INSTALL results for CopywriteR on tokay2

To the developers/maintainers of the CopywriteR package:
- Please allow up to 24 hours (and sometimes 48 hours) for your latest push to git@git.bioconductor.org:packages/CopywriteR.git to
reflect on this report. See How and When does the builder pull? When will my changes propagate? here for more information.
- Make sure to use the following settings in order to reproduce any error or warning you see on this page.

raw results

Package 389/2041HostnameOS / ArchINSTALLBUILDCHECKBUILD BIN
CopywriteR 2.24.0  (landing page)
Oscar Krijgsman
Snapshot Date: 2021-08-01 04:50:10 -0400 (Sun, 01 Aug 2021)
URL: https://git.bioconductor.org/packages/CopywriteR
Branch: RELEASE_3_13
Last Commit: 5957876
Last Changed Date: 2021-05-19 12:12:51 -0400 (Wed, 19 May 2021)
nebbiolo1Linux (Ubuntu 20.04.2 LTS) / x86_64  OK    OK    OK  UNNEEDED, same version is already published
tokay2Windows Server 2012 R2 Standard / x64  OK    OK    OK    OK  UNNEEDED, same version is already published
machv2macOS 10.14.6 Mojave / x86_64  OK    OK    OK    OK  UNNEEDED, same version is already published

Summary

Package: CopywriteR
Version: 2.24.0
Command: C:\cygwin\bin\curl.exe -O http://155.52.207.165/BBS/3.13/bioc/src/contrib/CopywriteR_2.24.0.tar.gz && rm -rf CopywriteR.buildbin-libdir && mkdir CopywriteR.buildbin-libdir && C:\Users\biocbuild\bbs-3.13-bioc\R\bin\R.exe CMD INSTALL --merge-multiarch --build --library=CopywriteR.buildbin-libdir CopywriteR_2.24.0.tar.gz && C:\Users\biocbuild\bbs-3.13-bioc\R\bin\R.exe CMD INSTALL CopywriteR_2.24.0.zip && rm CopywriteR_2.24.0.tar.gz CopywriteR_2.24.0.zip
StartedAt: 2021-08-01 09:05:26 -0400 (Sun, 01 Aug 2021)
EndedAt: 2021-08-01 09:06:08 -0400 (Sun, 01 Aug 2021)
EllapsedTime: 41.8 seconds
RetCode: 0
Status:   OK  

Command output

##############################################################################
##############################################################################
###
### Running command:
###
###   C:\cygwin\bin\curl.exe -O http://155.52.207.165/BBS/3.13/bioc/src/contrib/CopywriteR_2.24.0.tar.gz && rm -rf CopywriteR.buildbin-libdir && mkdir CopywriteR.buildbin-libdir && C:\Users\biocbuild\bbs-3.13-bioc\R\bin\R.exe CMD INSTALL --merge-multiarch --build --library=CopywriteR.buildbin-libdir CopywriteR_2.24.0.tar.gz && C:\Users\biocbuild\bbs-3.13-bioc\R\bin\R.exe CMD INSTALL CopywriteR_2.24.0.zip && rm CopywriteR_2.24.0.tar.gz CopywriteR_2.24.0.zip
###
##############################################################################
##############################################################################


  % Total    % Received % Xferd  Average Speed   Time    Time     Time  Current
                                 Dload  Upload   Total   Spent    Left  Speed

  0     0    0     0    0     0      0      0 --:--:-- --:--:-- --:--:--     0
100 22308  100 22308    0     0   289k      0 --:--:-- --:--:-- --:--:--  294k

install for i386

* installing *source* package 'CopywriteR' ...
** using staged installation
** R
** byte-compile and prepare package for lazy loading
** help
*** installing help indices
  converting help for package 'CopywriteR'
    finding HTML links ... done
    CopywriteR                              html  
    plotCNA                                 html  
    preCopywriteR                           html  
** building package indices
** installing vignettes
** testing if installed package can be loaded from temporary location
** testing if installed package can be loaded from final location
** testing if installed package keeps a record of temporary installation path

install for x64

* installing *source* package 'CopywriteR' ...
** testing if installed package can be loaded
* MD5 sums
packaged installation of 'CopywriteR' as CopywriteR_2.24.0.zip
* DONE (CopywriteR)
* installing to library 'C:/Users/biocbuild/bbs-3.13-bioc/R/library'
package 'CopywriteR' successfully unpacked and MD5 sums checked