Back to Multiple platform build/check report for BioC 3.13
AB[C]DEFGHIJKLMNOPQRSTUVWXYZ

This page was generated on 2021-08-02 15:05:38 -0400 (Mon, 02 Aug 2021).

BUILD results for CopywriteR on machv2

To the developers/maintainers of the CopywriteR package:
- Please allow up to 24 hours (and sometimes 48 hours) for your latest push to git@git.bioconductor.org:packages/CopywriteR.git to
reflect on this report. See How and When does the builder pull? When will my changes propagate? here for more information.
- Make sure to use the following settings in order to reproduce any error or warning you see on this page.

raw results

Package 389/2041HostnameOS / ArchINSTALLBUILDCHECKBUILD BIN
CopywriteR 2.24.0  (landing page)
Oscar Krijgsman
Snapshot Date: 2021-08-01 04:50:10 -0400 (Sun, 01 Aug 2021)
URL: https://git.bioconductor.org/packages/CopywriteR
Branch: RELEASE_3_13
Last Commit: 5957876
Last Changed Date: 2021-05-19 12:12:51 -0400 (Wed, 19 May 2021)
nebbiolo1Linux (Ubuntu 20.04.2 LTS) / x86_64  OK    OK    OK  UNNEEDED, same version is already published
tokay2Windows Server 2012 R2 Standard / x64  OK    OK    OK    OK  UNNEEDED, same version is already published
machv2macOS 10.14.6 Mojave / x86_64  OK    OK    OK    OK  UNNEEDED, same version is already published

Summary

Package: CopywriteR
Version: 2.24.0
Command: /Library/Frameworks/R.framework/Versions/Current/Resources/bin/R CMD build --keep-empty-dirs --no-resave-data CopywriteR
StartedAt: 2021-08-01 11:03:55 -0400 (Sun, 01 Aug 2021)
EndedAt: 2021-08-01 11:05:58 -0400 (Sun, 01 Aug 2021)
EllapsedTime: 123.1 seconds
RetCode: 0
Status:   OK  
PackageFile: CopywriteR_2.24.0.tar.gz
PackageFileSize: 234.9 KiB

Command output

##############################################################################
##############################################################################
###
### Running command:
###
###   /Library/Frameworks/R.framework/Versions/Current/Resources/bin/R CMD build --keep-empty-dirs --no-resave-data CopywriteR
###
##############################################################################
##############################################################################


* checking for file ‘CopywriteR/DESCRIPTION’ ... OK
* preparing ‘CopywriteR’:
* checking DESCRIPTION meta-information ... OK
* installing the package to build vignettes
* creating vignettes ... OK
* checking for LF line-endings in source and make files and shell scripts
* checking for empty or unneeded directories
* building ‘CopywriteR_2.24.0.tar.gz’