Index of /checkResults/release/bioc-LATEST/CompoundDb/raw-results

[ICO]NameLast modifiedSizeDescription

[DIR]Parent Directory  -  
[   ]info.dcf12-Jun-2024 03:38 284  
[DIR]kjohnson3/12-Jun-2024 03:43 -  
[DIR]kunpeng2/10-May-2024 00:40 -  
[DIR]lconway/12-Jun-2024 03:42 -  
[DIR]merida1/05-Mar-2024 01:39 -  
[DIR]nebbiolo1/12-Jun-2024 03:39 -  
[DIR]palomino3/12-Jun-2024 03:40 -