Back to Multiple platform build/check report for BioC 3.13
AB[C]DEFGHIJKLMNOPQRSTUVWXYZ

This page was generated on 2021-09-20 15:05:09 -0400 (Mon, 20 Sep 2021).

BUILD BIN results for CompGO on tokay2

To the developers/maintainers of the CompGO package:
- Please allow up to 24 hours (and sometimes 48 hours) for your latest push to git@git.bioconductor.org:packages/CompGO.git to
reflect on this report. See How and When does the builder pull? When will my changes propagate? here for more information.
- Make sure to use the following settings in order to reproduce any error or warning you see on this page.

raw results

Package 371/2041HostnameOS / ArchINSTALLBUILDCHECKBUILD BIN
CompGO 1.28.0  (landing page)
Ashley J. Waardenberg
Snapshot Date: 2021-09-19 04:50:10 -0400 (Sun, 19 Sep 2021)
git_url: https://git.bioconductor.org/packages/CompGO
git_branch: RELEASE_3_13
git_last_commit: e8e77da
git_last_commit_date: 2021-05-19 12:04:07 -0400 (Wed, 19 May 2021)
nebbiolo1Linux (Ubuntu 20.04.2 LTS) / x86_64  OK    OK    WARNINGS  UNNEEDED, same version is already published
tokay2Windows Server 2012 R2 Standard / x64  OK    OK    WARNINGS    OK  UNNEEDED, same version is already published
machv2macOS 10.14.6 Mojave / x86_64  OK    OK    WARNINGS    OK  UNNEEDED, same version is already published

Summary

Package: CompGO
Version: 1.28.0
Command: rm -rf CompGO.buildbin-libdir && mkdir CompGO.buildbin-libdir && C:\Users\biocbuild\bbs-3.13-bioc\R\bin\R.exe --arch x64 CMD INSTALL --no-multiarch --build --library=CompGO.buildbin-libdir CompGO_1.28.0.tar.gz
StartedAt: 2021-09-20 08:08:00 -0400 (Mon, 20 Sep 2021)
EndedAt: 2021-09-20 08:09:21 -0400 (Mon, 20 Sep 2021)
EllapsedTime: 80.6 seconds
RetCode: 0
Status:   OK  
PackageFile: CompGO_1.28.0.zip
PackageFileSize: 319.6 KiB

Command output

##############################################################################
##############################################################################
###
### Running command:
###
###   rm -rf CompGO.buildbin-libdir && mkdir CompGO.buildbin-libdir && C:\Users\biocbuild\bbs-3.13-bioc\R\bin\R.exe --arch x64 CMD INSTALL --no-multiarch --build --library=CompGO.buildbin-libdir CompGO_1.28.0.tar.gz
###
##############################################################################
##############################################################################


* installing *source* package 'CompGO' ...
** using staged installation
** R
** data
** inst
** byte-compile and prepare package for lazy loading
Warning message:
Package 'RDAVIDWebService' is deprecated and will be removed from
  Bioconductor version 3.14 
** help
*** installing help indices
  converting help for package 'CompGO'
    finding HTML links ... done
    PCAplot                                 html  
    annotateBedFromDb                       html  
    bed.sample                              html  
    compareZscores                          html  
    doZtrans.single                         html  
    gata4                                   html  
    getFnAnot_genome                        html  
    mef2a                                   html  
    nkx25                                   html  
    p300                                    html  
    plotDendrogram                          html  
    plotInteractive                         html  
    plotPairwise                            html  
    plotTwoGODags                           html  
    plotZRankedDAG                          html  
    plotZScores                             html  
    slidingJaccard                          html  
    srf                                     html  
    tbx5                                    html  
    viewKegg                                html  
    zTransformDirectory                     html  
** building package indices
** installing vignettes
** testing if installed package can be loaded from temporary location
Warning: Package 'RDAVIDWebService' is deprecated and will be removed from
  Bioconductor version 3.14
** testing if installed package can be loaded from final location
Warning: Package 'RDAVIDWebService' is deprecated and will be removed from
  Bioconductor version 3.14
** testing if installed package keeps a record of temporary installation path
* MD5 sums
packaged installation of 'CompGO' as CompGO_1.28.0.zip
* DONE (CompGO)