Back to Multiple platform build/check report for BioC 3.13
AB[C]DEFGHIJKLMNOPQRSTUVWXYZ

This page was generated on 2021-09-24 15:06:06 -0400 (Fri, 24 Sep 2021).

CHECK results for CoGAPS on tokay2

To the developers/maintainers of the CoGAPS package:
- Please allow up to 24 hours (and sometimes 48 hours) for your latest push to git@git.bioconductor.org:packages/CoGAPS.git to
reflect on this report. See How and When does the builder pull? When will my changes propagate? here for more information.
- Make sure to use the following settings in order to reproduce any error or warning you see on this page.

raw results

Package 360/2041HostnameOS / ArchINSTALLBUILDCHECKBUILD BIN
CoGAPS 3.12.0  (landing page)
Elana J. Fertig
Snapshot Date: 2021-09-23 04:50:12 -0400 (Thu, 23 Sep 2021)
git_url: https://git.bioconductor.org/packages/CoGAPS
git_branch: RELEASE_3_13
git_last_commit: c297d7e
git_last_commit_date: 2021-05-19 11:45:58 -0400 (Wed, 19 May 2021)
nebbiolo1Linux (Ubuntu 20.04.2 LTS) / x86_64  OK    OK    OK  UNNEEDED, same version is already published
tokay2Windows Server 2012 R2 Standard / x64  OK    OK    OK    OK  UNNEEDED, same version is already published
machv2macOS 10.14.6 Mojave / x86_64  OK    OK    OK    OK  UNNEEDED, same version is already published

Summary

Package: CoGAPS
Version: 3.12.0
Command: C:\Users\biocbuild\bbs-3.13-bioc\R\bin\R.exe CMD check --force-multiarch --install=check:CoGAPS.install-out.txt --library=C:\Users\biocbuild\bbs-3.13-bioc\R\library --no-vignettes --timings CoGAPS_3.12.0.tar.gz
StartedAt: 2021-09-23 20:43:20 -0400 (Thu, 23 Sep 2021)
EndedAt: 2021-09-23 20:58:58 -0400 (Thu, 23 Sep 2021)
EllapsedTime: 937.1 seconds
RetCode: 0
Status:   OK  
CheckDir: CoGAPS.Rcheck
Warnings: 0

Command output

##############################################################################
##############################################################################
###
### Running command:
###
###   C:\Users\biocbuild\bbs-3.13-bioc\R\bin\R.exe CMD check --force-multiarch --install=check:CoGAPS.install-out.txt --library=C:\Users\biocbuild\bbs-3.13-bioc\R\library --no-vignettes --timings CoGAPS_3.12.0.tar.gz
###
##############################################################################
##############################################################################


* using log directory 'C:/Users/biocbuild/bbs-3.13-bioc/meat/CoGAPS.Rcheck'
* using R version 4.1.1 (2021-08-10)
* using platform: x86_64-w64-mingw32 (64-bit)
* using session charset: ISO8859-1
* using option '--no-vignettes'
* checking for file 'CoGAPS/DESCRIPTION' ... OK
* this is package 'CoGAPS' version '3.12.0'
* package encoding: UTF-8
* checking package namespace information ... OK
* checking package dependencies ... OK
* checking if this is a source package ... OK
* checking if there is a namespace ... OK
* checking for hidden files and directories ... OK
* checking for portable file names ... OK
* checking whether package 'CoGAPS' can be installed ... OK
* checking installed package size ... NOTE
  installed size is 23.9Mb
  sub-directories of 1Mb or more:
    extdata  19.9Mb
    libs      2.8Mb
* checking package directory ... OK
* checking 'build' directory ... OK
* checking DESCRIPTION meta-information ... OK
* checking top-level files ... OK
* checking for left-over files ... OK
* checking index information ... OK
* checking package subdirectories ... OK
* checking R files for non-ASCII characters ... OK
* checking R files for syntax errors ... OK
* loading checks for arch 'i386'
** checking whether the package can be loaded ... OK
** checking whether the package can be loaded with stated dependencies ... OK
** checking whether the package can be unloaded cleanly ... OK
** checking whether the namespace can be loaded with stated dependencies ... OK
** checking whether the namespace can be unloaded cleanly ... OK
* loading checks for arch 'x64'
** checking whether the package can be loaded ... OK
** checking whether the package can be loaded with stated dependencies ... OK
** checking whether the package can be unloaded cleanly ... OK
** checking whether the namespace can be loaded with stated dependencies ... OK
** checking whether the namespace can be unloaded cleanly ... OK
* checking dependencies in R code ... OK
* checking S3 generic/method consistency ... OK
* checking replacement functions ... OK
* checking foreign function calls ... OK
* checking R code for possible problems ... OK
* checking Rd files ... OK
* checking Rd metadata ... OK
* checking Rd cross-references ... OK
* checking for missing documentation entries ... OK
* checking for code/documentation mismatches ... OK
* checking Rd \usage sections ... OK
* checking Rd contents ... OK
* checking for unstated dependencies in examples ... OK
* checking contents of 'data' directory ... OK
* checking data for non-ASCII characters ... OK
* checking data for ASCII and uncompressed saves ... OK
* checking line endings in shell scripts ... OK
* checking line endings in C/C++/Fortran sources/headers ... OK
* checking line endings in Makefiles ... OK
* checking compilation flags in Makevars ... OK
* checking for GNU extensions in Makefiles ... OK
* checking for portable use of $(BLAS_LIBS) and $(LAPACK_LIBS) ... OK
* checking use of PKG_*FLAGS in Makefiles ... OK
* checking compiled code ... NOTE
Note: information on .o files for i386 is not available
Note: information on .o files for x64 is not available
File 'C:/Users/biocbuild/bbs-3.13-bioc/R/library/CoGAPS/libs/i386/CoGAPS.dll':
  Found 'abort', possibly from 'abort' (C), 'runtime' (Fortran)
  Found 'exit', possibly from 'exit' (C), 'stop' (Fortran)
  Found 'printf', possibly from 'printf' (C)
File 'C:/Users/biocbuild/bbs-3.13-bioc/R/library/CoGAPS/libs/x64/CoGAPS.dll':
  Found 'abort', possibly from 'abort' (C), 'runtime' (Fortran)
  Found 'exit', possibly from 'exit' (C), 'stop' (Fortran)
  Found 'printf', possibly from 'printf' (C)

Compiled code should not call entry points which might terminate R nor
write to stdout/stderr instead of to the console, nor use Fortran I/O
nor system RNGs. The detected symbols are linked into the code but
might come from libraries and not actually be called.

See 'Writing portable packages' in the 'Writing R Extensions' manual.
* checking files in 'vignettes' ... OK
* checking examples ...
** running examples for arch 'i386' ... OK
** running examples for arch 'x64' ... OK
* checking for unstated dependencies in 'tests' ... OK
* checking tests ...
** running tests for arch 'i386' ...
  Running 'testthat.R'
 OK
** running tests for arch 'x64' ...
  Running 'testthat.R'
 OK
* checking for unstated dependencies in vignettes ... OK
* checking package vignettes in 'inst/doc' ... OK
* checking running R code from vignettes ... SKIPPED
* checking re-building of vignette outputs ... SKIPPED
* checking PDF version of manual ... OK
* DONE

Status: 2 NOTEs
See
  'C:/Users/biocbuild/bbs-3.13-bioc/meat/CoGAPS.Rcheck/00check.log'
for details.



Installation output

CoGAPS.Rcheck/00install.out

##############################################################################
##############################################################################
###
### Running command:
###
###   C:\cygwin\bin\curl.exe -O http://155.52.207.165/BBS/3.13/bioc/src/contrib/CoGAPS_3.12.0.tar.gz && rm -rf CoGAPS.buildbin-libdir && mkdir CoGAPS.buildbin-libdir && C:\Users\biocbuild\bbs-3.13-bioc\R\bin\R.exe CMD INSTALL --merge-multiarch --build --library=CoGAPS.buildbin-libdir CoGAPS_3.12.0.tar.gz && C:\Users\biocbuild\bbs-3.13-bioc\R\bin\R.exe CMD INSTALL CoGAPS_3.12.0.zip && rm CoGAPS_3.12.0.tar.gz CoGAPS_3.12.0.zip
###
##############################################################################
##############################################################################


  % Total    % Received % Xferd  Average Speed   Time    Time     Time  Current
                                 Dload  Upload   Total   Spent    Left  Speed

  0     0    0     0    0     0      0      0 --:--:-- --:--:-- --:--:--     0
  1 19.6M    1  355k    0     0   909k      0  0:00:22 --:--:--  0:00:22  909k
 11 19.6M   11 2388k    0     0  1738k      0  0:00:11  0:00:01  0:00:10 1738k
 26 19.6M   26 5248k    0     0  2221k      0  0:00:09  0:00:02  0:00:07 2221k
 33 19.6M   33 6644k    0     0  1970k      0  0:00:10  0:00:03  0:00:07 1969k
 38 19.6M   38 7775k    0     0  1779k      0  0:00:11  0:00:04  0:00:07 1779k
 50 19.6M   50  9.9M    0     0  1895k      0  0:00:10  0:00:05  0:00:05 1972k
 66 19.6M   66 13.0M    0     0  2089k      0  0:00:09  0:00:06  0:00:03 2185k
 86 19.6M   86 17.0M    0     0  2361k      0  0:00:08  0:00:07  0:00:01 2426k
100 19.6M  100 19.6M    0     0  2479k      0  0:00:08  0:00:08 --:--:-- 2842k

install for i386

* installing *source* package 'CoGAPS' ...
** using staged installation
** libs
"C:/rtools40/mingw32/bin/"g++ -std=gnu++11  -I"C:/Users/BIOCBU~1/BBS-3~1.13-/R/include" -DNDEBUG -DBOOST_MATH_PROMOTE_DOUBLE_POLICY=0 -D__GAPS_R_BUILD__ -Iinclude -DGAPS_DISABLE_CHECKPOINTS -I'C:/Users/biocbuild/bbs-3.13-bioc/R/library/Rcpp/include' -I'C:/Users/biocbuild/bbs-3.13-bioc/R/library/BH/include'   -I"c:/extsoft/include"     -O2 -Wall  -mfpmath=sse -msse2 -mstackrealign  -c Cogaps.cpp -o Cogaps.o
"C:/rtools40/mingw32/bin/"g++ -std=gnu++11  -I"C:/Users/BIOCBU~1/BBS-3~1.13-/R/include" -DNDEBUG -DBOOST_MATH_PROMOTE_DOUBLE_POLICY=0 -D__GAPS_R_BUILD__ -Iinclude -DGAPS_DISABLE_CHECKPOINTS -I'C:/Users/biocbuild/bbs-3.13-bioc/R/library/Rcpp/include' -I'C:/Users/biocbuild/bbs-3.13-bioc/R/library/BH/include'   -I"c:/extsoft/include"     -O2 -Wall  -mfpmath=sse -msse2 -mstackrealign  -c GapsParameters.cpp -o GapsParameters.o
GapsParameters.cpp: In member function 'void GapsParameters::print() const':
GapsParameters.cpp:41:17: warning: format '%lu' expects argument of type 'long unsigned int', but argument 2 has type 'std::vector<unsigned int>::size_type' {aka 'unsigned int'} [-Wformat=]
     gaps_printf("dataIndicesSubset.size(): %lu\n", dataIndicesSubset.size());
                 ^~~~~~~~~~~~~~~~~~~~~~~~~~~~~~~~~  ~~~~~~~~~~~~~~~~~~~~~~~~
"C:/rtools40/mingw32/bin/"g++ -std=gnu++11  -I"C:/Users/BIOCBU~1/BBS-3~1.13-/R/include" -DNDEBUG -DBOOST_MATH_PROMOTE_DOUBLE_POLICY=0 -D__GAPS_R_BUILD__ -Iinclude -DGAPS_DISABLE_CHECKPOINTS -I'C:/Users/biocbuild/bbs-3.13-bioc/R/library/Rcpp/include' -I'C:/Users/biocbuild/bbs-3.13-bioc/R/library/BH/include'   -I"c:/extsoft/include"     -O2 -Wall  -mfpmath=sse -msse2 -mstackrealign  -c GapsResult.cpp -o GapsResult.o
"C:/rtools40/mingw32/bin/"g++ -std=gnu++11  -I"C:/Users/BIOCBU~1/BBS-3~1.13-/R/include" -DNDEBUG -DBOOST_MATH_PROMOTE_DOUBLE_POLICY=0 -D__GAPS_R_BUILD__ -Iinclude -DGAPS_DISABLE_CHECKPOINTS -I'C:/Users/biocbuild/bbs-3.13-bioc/R/library/Rcpp/include' -I'C:/Users/biocbuild/bbs-3.13-bioc/R/library/BH/include'   -I"c:/extsoft/include"     -O2 -Wall  -mfpmath=sse -msse2 -mstackrealign  -c GapsRunner.cpp -o GapsRunner.o
In file included from GapsRunner.cpp:8:
gibbs_sampler/AsynchronousGibbsSampler.h:105: warning: ignoring #pragma omp parallel [-Wunknown-pragmas]
         #pragma omp parallel for num_threads(nThreads)
 
In file included from C:/Users/biocbuild/bbs-3.13-bioc/R/library/BH/include/boost/mpl/aux_/na_assert.hpp:23,
                 from C:/Users/biocbuild/bbs-3.13-bioc/R/library/BH/include/boost/mpl/arg.hpp:25,
                 from C:/Users/biocbuild/bbs-3.13-bioc/R/library/BH/include/boost/mpl/placeholders.hpp:24,
                 from C:/Users/biocbuild/bbs-3.13-bioc/R/library/BH/include/boost/iterator/iterator_categories.hpp:16,
                 from C:/Users/biocbuild/bbs-3.13-bioc/R/library/BH/include/boost/iterator/iterator_facade.hpp:13,
                 from C:/Users/biocbuild/bbs-3.13-bioc/R/library/BH/include/boost/range/iterator_range_core.hpp:27,
                 from C:/Users/biocbuild/bbs-3.13-bioc/R/library/BH/include/boost/algorithm/string/replace.hpp:16,
                 from C:/Users/biocbuild/bbs-3.13-bioc/R/library/BH/include/boost/date_time/date_facet.hpp:17,
                 from C:/Users/biocbuild/bbs-3.13-bioc/R/library/BH/include/boost/date_time/gregorian/gregorian_io.hpp:16,
                 from C:/Users/biocbuild/bbs-3.13-bioc/R/library/BH/include/boost/date_time/gregorian/gregorian.hpp:31,
                 from C:/Users/biocbuild/bbs-3.13-bioc/R/library/BH/include/boost/date_time/posix_time/time_formatters.hpp:12,
                 from C:/Users/biocbuild/bbs-3.13-bioc/R/library/BH/include/boost/date_time/posix_time/posix_time.hpp:24,
                 from GapsRunner.cpp:27:
C:/Users/biocbuild/bbs-3.13-bioc/R/library/BH/include/boost/mpl/assert.hpp:194:21: warning: unnecessary parentheses in declaration of 'assert_arg' [-Wparentheses]
 failed ************ (Pred::************
                     ^
C:/Users/biocbuild/bbs-3.13-bioc/R/library/BH/include/boost/mpl/assert.hpp:199:21: warning: unnecessary parentheses in declaration of 'assert_not_arg' [-Wparentheses]
 failed ************ (boost::mpl::not_<Pred>::************
                     ^
GapsRunner.cpp: In instantiation of 'GapsResult runCoGAPSAlgorithm(const DataType&, GapsParameters&, const DataType&, GapsRandomState*) [with Sampler = AsynchronousGibbsSampler<SparseNormalModel>; DataType = Matrix]':
GapsRunner.cpp:70:73:   required from 'GapsResult chooseSampler(const DataType&, GapsParameters&, const DataType&, GapsRandomState*) [with DataModel = SparseNormalModel; DataType = Matrix]'
GapsRunner.cpp:85:48:   required from 'GapsResult chooseDataModel(const DataType&, GapsParameters&, const DataType&, GapsRandomState*) [with DataType = Matrix]'
GapsRunner.cpp:104:27:   required from 'GapsResult run_helper(const DataType&, GapsParameters&, const DataType&, GapsRandomState*) [with DataType = Matrix]'
GapsRunner.cpp:113:59:   required from here
GapsRunner.cpp:430:5: warning: enumeration value 'GAPS_ALL_PHASES' not handled in switch [-Wswitch]
     switch (phase)
     ^~~~~~
GapsRunner.cpp: In instantiation of 'GapsResult runCoGAPSAlgorithm(const DataType&, GapsParameters&, const DataType&, GapsRandomState*) [with Sampler = SingleThreadedGibbsSampler<SparseNormalModel>; DataType = Matrix]':
GapsRunner.cpp:74:71:   required from 'GapsResult chooseSampler(const DataType&, GapsParameters&, const DataType&, GapsRandomState*) [with DataModel = SparseNormalModel; DataType = Matrix]'
GapsRunner.cpp:85:48:   required from 'GapsResult chooseDataModel(const DataType&, GapsParameters&, const DataType&, GapsRandomState*) [with DataType = Matrix]'
GapsRunner.cpp:104:27:   required from 'GapsResult run_helper(const DataType&, GapsParameters&, const DataType&, GapsRandomState*) [with DataType = Matrix]'
GapsRunner.cpp:113:59:   required from here
GapsRunner.cpp:430:5: warning: enumeration value 'GAPS_ALL_PHASES' not handled in switch [-Wswitch]
GapsRunner.cpp: In instantiation of 'GapsResult runCoGAPSAlgorithm(const DataType&, GapsParameters&, const DataType&, GapsRandomState*) [with Sampler = AsynchronousGibbsSampler<DenseNormalModel>; DataType = Matrix]':
GapsRunner.cpp:70:73:   required from 'GapsResult chooseSampler(const DataType&, GapsParameters&, const DataType&, GapsRandomState*) [with DataModel = DenseNormalModel; DataType = Matrix]'
GapsRunner.cpp:88:43:   required from 'GapsResult chooseDataModel(const DataType&, GapsParameters&, const DataType&, GapsRandomState*) [with DataType = Matrix]'
GapsRunner.cpp:104:27:   required from 'GapsResult run_helper(const DataType&, GapsParameters&, const DataType&, GapsRandomState*) [with DataType = Matrix]'
GapsRunner.cpp:113:59:   required from here
GapsRunner.cpp:430:5: warning: enumeration value 'GAPS_ALL_PHASES' not handled in switch [-Wswitch]
GapsRunner.cpp: In instantiation of 'GapsResult runCoGAPSAlgorithm(const DataType&, GapsParameters&, const DataType&, GapsRandomState*) [with Sampler = SingleThreadedGibbsSampler<DenseNormalModel>; DataType = Matrix]':
GapsRunner.cpp:74:71:   required from 'GapsResult chooseSampler(const DataType&, GapsParameters&, const DataType&, GapsRandomState*) [with DataModel = DenseNormalModel; DataType = Matrix]'
GapsRunner.cpp:88:43:   required from 'GapsResult chooseDataModel(const DataType&, GapsParameters&, const DataType&, GapsRandomState*) [with DataType = Matrix]'
GapsRunner.cpp:104:27:   required from 'GapsResult run_helper(const DataType&, GapsParameters&, const DataType&, GapsRandomState*) [with DataType = Matrix]'
GapsRunner.cpp:113:59:   required from here
GapsRunner.cpp:430:5: warning: enumeration value 'GAPS_ALL_PHASES' not handled in switch [-Wswitch]
GapsRunner.cpp: In instantiation of 'GapsResult runCoGAPSAlgorithm(const DataType&, GapsParameters&, const DataType&, GapsRandomState*) [with Sampler = AsynchronousGibbsSampler<SparseNormalModel>; DataType = std::__cxx11::basic_string<char>]':
GapsRunner.cpp:70:73:   required from 'GapsResult chooseSampler(const DataType&, GapsParameters&, const DataType&, GapsRandomState*) [with DataModel = SparseNormalModel; DataType = std::__cxx11::basic_string<char>]'
GapsRunner.cpp:85:48:   required from 'GapsResult chooseDataModel(const DataType&, GapsParameters&, const DataType&, GapsRandomState*) [with DataType = std::__cxx11::basic_string<char>]'
GapsRunner.cpp:104:27:   required from 'GapsResult run_helper(const DataType&, GapsParameters&, const DataType&, GapsRandomState*) [with DataType = std::__cxx11::basic_string<char>]'
GapsRunner.cpp:119:59:   required from here
GapsRunner.cpp:430:5: warning: enumeration value 'GAPS_ALL_PHASES' not handled in switch [-Wswitch]
GapsRunner.cpp: In instantiation of 'GapsResult runCoGAPSAlgorithm(const DataType&, GapsParameters&, const DataType&, GapsRandomState*) [with Sampler = SingleThreadedGibbsSampler<SparseNormalModel>; DataType = std::__cxx11::basic_string<char>]':
GapsRunner.cpp:74:71:   required from 'GapsResult chooseSampler(const DataType&, GapsParameters&, const DataType&, GapsRandomState*) [with DataModel = SparseNormalModel; DataType = std::__cxx11::basic_string<char>]'
GapsRunner.cpp:85:48:   required from 'GapsResult chooseDataModel(const DataType&, GapsParameters&, const DataType&, GapsRandomState*) [with DataType = std::__cxx11::basic_string<char>]'
GapsRunner.cpp:104:27:   required from 'GapsResult run_helper(const DataType&, GapsParameters&, const DataType&, GapsRandomState*) [with DataType = std::__cxx11::basic_string<char>]'
GapsRunner.cpp:119:59:   required from here
GapsRunner.cpp:430:5: warning: enumeration value 'GAPS_ALL_PHASES' not handled in switch [-Wswitch]
GapsRunner.cpp: In instantiation of 'GapsResult runCoGAPSAlgorithm(const DataType&, GapsParameters&, const DataType&, GapsRandomState*) [with Sampler = AsynchronousGibbsSampler<DenseNormalModel>; DataType = std::__cxx11::basic_string<char>]':
GapsRunner.cpp:70:73:   required from 'GapsResult chooseSampler(const DataType&, GapsParameters&, const DataType&, GapsRandomState*) [with DataModel = DenseNormalModel; DataType = std::__cxx11::basic_string<char>]'
GapsRunner.cpp:88:43:   required from 'GapsResult chooseDataModel(const DataType&, GapsParameters&, const DataType&, GapsRandomState*) [with DataType = std::__cxx11::basic_string<char>]'
GapsRunner.cpp:104:27:   required from 'GapsResult run_helper(const DataType&, GapsParameters&, const DataType&, GapsRandomState*) [with DataType = std::__cxx11::basic_string<char>]'
GapsRunner.cpp:119:59:   required from here
GapsRunner.cpp:430:5: warning: enumeration value 'GAPS_ALL_PHASES' not handled in switch [-Wswitch]
GapsRunner.cpp: In instantiation of 'GapsResult runCoGAPSAlgorithm(const DataType&, GapsParameters&, const DataType&, GapsRandomState*) [with Sampler = SingleThreadedGibbsSampler<DenseNormalModel>; DataType = std::__cxx11::basic_string<char>]':
GapsRunner.cpp:74:71:   required from 'GapsResult chooseSampler(const DataType&, GapsParameters&, const DataType&, GapsRandomState*) [with DataModel = DenseNormalModel; DataType = std::__cxx11::basic_string<char>]'
GapsRunner.cpp:88:43:   required from 'GapsResult chooseDataModel(const DataType&, GapsParameters&, const DataType&, GapsRandomState*) [with DataType = std::__cxx11::basic_string<char>]'
GapsRunner.cpp:104:27:   required from 'GapsResult run_helper(const DataType&, GapsParameters&, const DataType&, GapsRandomState*) [with DataType = std::__cxx11::basic_string<char>]'
GapsRunner.cpp:119:59:   required from here
GapsRunner.cpp:430:5: warning: enumeration value 'GAPS_ALL_PHASES' not handled in switch [-Wswitch]
"C:/rtools40/mingw32/bin/"g++ -std=gnu++11  -I"C:/Users/BIOCBU~1/BBS-3~1.13-/R/include" -DNDEBUG -DBOOST_MATH_PROMOTE_DOUBLE_POLICY=0 -D__GAPS_R_BUILD__ -Iinclude -DGAPS_DISABLE_CHECKPOINTS -I'C:/Users/biocbuild/bbs-3.13-bioc/R/library/Rcpp/include' -I'C:/Users/biocbuild/bbs-3.13-bioc/R/library/BH/include'   -I"c:/extsoft/include"     -O2 -Wall  -mfpmath=sse -msse2 -mstackrealign  -c GapsStatistics.cpp -o GapsStatistics.o
"C:/rtools40/mingw32/bin/"g++ -std=gnu++11  -I"C:/Users/BIOCBU~1/BBS-3~1.13-/R/include" -DNDEBUG -DBOOST_MATH_PROMOTE_DOUBLE_POLICY=0 -D__GAPS_R_BUILD__ -Iinclude -DGAPS_DISABLE_CHECKPOINTS -I'C:/Users/biocbuild/bbs-3.13-bioc/R/library/Rcpp/include' -I'C:/Users/biocbuild/bbs-3.13-bioc/R/library/BH/include'   -I"c:/extsoft/include"     -O2 -Wall  -mfpmath=sse -msse2 -mstackrealign  -c RcppExports.cpp -o RcppExports.o
"C:/rtools40/mingw32/bin/"g++ -std=gnu++11  -I"C:/Users/BIOCBU~1/BBS-3~1.13-/R/include" -DNDEBUG -DBOOST_MATH_PROMOTE_DOUBLE_POLICY=0 -D__GAPS_R_BUILD__ -Iinclude -DGAPS_DISABLE_CHECKPOINTS -I'C:/Users/biocbuild/bbs-3.13-bioc/R/library/Rcpp/include' -I'C:/Users/biocbuild/bbs-3.13-bioc/R/library/BH/include'   -I"c:/extsoft/include"     -O2 -Wall  -mfpmath=sse -msse2 -mstackrealign  -c test-runner.cpp -o test-runner.o
"C:/rtools40/mingw32/bin/"g++ -std=gnu++11  -I"C:/Users/BIOCBU~1/BBS-3~1.13-/R/include" -DNDEBUG -DBOOST_MATH_PROMOTE_DOUBLE_POLICY=0 -D__GAPS_R_BUILD__ -Iinclude -DGAPS_DISABLE_CHECKPOINTS -I'C:/Users/biocbuild/bbs-3.13-bioc/R/library/Rcpp/include' -I'C:/Users/biocbuild/bbs-3.13-bioc/R/library/BH/include'   -I"c:/extsoft/include"     -O2 -Wall  -mfpmath=sse -msse2 -mstackrealign  -c atomic/Atom.cpp -o atomic/Atom.o
"C:/rtools40/mingw32/bin/"g++ -std=gnu++11  -I"C:/Users/BIOCBU~1/BBS-3~1.13-/R/include" -DNDEBUG -DBOOST_MATH_PROMOTE_DOUBLE_POLICY=0 -D__GAPS_R_BUILD__ -Iinclude -DGAPS_DISABLE_CHECKPOINTS -I'C:/Users/biocbuild/bbs-3.13-bioc/R/library/Rcpp/include' -I'C:/Users/biocbuild/bbs-3.13-bioc/R/library/BH/include'   -I"c:/extsoft/include"     -O2 -Wall  -mfpmath=sse -msse2 -mstackrealign  -c atomic/ConcurrentAtom.cpp -o atomic/ConcurrentAtom.o
"C:/rtools40/mingw32/bin/"g++ -std=gnu++11  -I"C:/Users/BIOCBU~1/BBS-3~1.13-/R/include" -DNDEBUG -DBOOST_MATH_PROMOTE_DOUBLE_POLICY=0 -D__GAPS_R_BUILD__ -Iinclude -DGAPS_DISABLE_CHECKPOINTS -I'C:/Users/biocbuild/bbs-3.13-bioc/R/library/Rcpp/include' -I'C:/Users/biocbuild/bbs-3.13-bioc/R/library/BH/include'   -I"c:/extsoft/include"     -O2 -Wall  -mfpmath=sse -msse2 -mstackrealign  -c atomic/AtomicDomain.cpp -o atomic/AtomicDomain.o
"C:/rtools40/mingw32/bin/"g++ -std=gnu++11  -I"C:/Users/BIOCBU~1/BBS-3~1.13-/R/include" -DNDEBUG -DBOOST_MATH_PROMOTE_DOUBLE_POLICY=0 -D__GAPS_R_BUILD__ -Iinclude -DGAPS_DISABLE_CHECKPOINTS -I'C:/Users/biocbuild/bbs-3.13-bioc/R/library/Rcpp/include' -I'C:/Users/biocbuild/bbs-3.13-bioc/R/library/BH/include'   -I"c:/extsoft/include"     -O2 -Wall  -mfpmath=sse -msse2 -mstackrealign  -c atomic/ConcurrentAtomicDomain.cpp -o atomic/ConcurrentAtomicDomain.o
atomic/ConcurrentAtomicDomain.cpp:64: warning: ignoring #pragma omp critical [-Wunknown-pragmas]
     #pragma omp critical(AtomicInsertOrErase)
 
"C:/rtools40/mingw32/bin/"g++ -std=gnu++11  -I"C:/Users/BIOCBU~1/BBS-3~1.13-/R/include" -DNDEBUG -DBOOST_MATH_PROMOTE_DOUBLE_POLICY=0 -D__GAPS_R_BUILD__ -Iinclude -DGAPS_DISABLE_CHECKPOINTS -I'C:/Users/biocbuild/bbs-3.13-bioc/R/library/Rcpp/include' -I'C:/Users/biocbuild/bbs-3.13-bioc/R/library/BH/include'   -I"c:/extsoft/include"     -O2 -Wall  -mfpmath=sse -msse2 -mstackrealign  -c atomic/ProposalQueue.cpp -o atomic/ProposalQueue.o
atomic/ProposalQueue.cpp:101: warning: ignoring #pragma omp atomic [-Wunknown-pragmas]
     #pragma omp atomic
 
atomic/ProposalQueue.cpp:107: warning: ignoring #pragma omp atomic [-Wunknown-pragmas]
     #pragma omp atomic
 
atomic/ProposalQueue.cpp:113: warning: ignoring #pragma omp atomic [-Wunknown-pragmas]
     #pragma omp atomic
 
atomic/ProposalQueue.cpp:119: warning: ignoring #pragma omp atomic [-Wunknown-pragmas]
     #pragma omp atomic
 
"C:/rtools40/mingw32/bin/"g++ -std=gnu++11  -I"C:/Users/BIOCBU~1/BBS-3~1.13-/R/include" -DNDEBUG -DBOOST_MATH_PROMOTE_DOUBLE_POLICY=0 -D__GAPS_R_BUILD__ -Iinclude -DGAPS_DISABLE_CHECKPOINTS -I'C:/Users/biocbuild/bbs-3.13-bioc/R/library/Rcpp/include' -I'C:/Users/biocbuild/bbs-3.13-bioc/R/library/BH/include'   -I"c:/extsoft/include"     -O2 -Wall  -mfpmath=sse -msse2 -mstackrealign  -c data_structures/HashSets.cpp -o data_structures/HashSets.o
"C:/rtools40/mingw32/bin/"g++ -std=gnu++11  -I"C:/Users/BIOCBU~1/BBS-3~1.13-/R/include" -DNDEBUG -DBOOST_MATH_PROMOTE_DOUBLE_POLICY=0 -D__GAPS_R_BUILD__ -Iinclude -DGAPS_DISABLE_CHECKPOINTS -I'C:/Users/biocbuild/bbs-3.13-bioc/R/library/Rcpp/include' -I'C:/Users/biocbuild/bbs-3.13-bioc/R/library/BH/include'   -I"c:/extsoft/include"     -O2 -Wall  -mfpmath=sse -msse2 -mstackrealign  -c data_structures/HybridMatrix.cpp -o data_structures/HybridMatrix.o
"C:/rtools40/mingw32/bin/"g++ -std=gnu++11  -I"C:/Users/BIOCBU~1/BBS-3~1.13-/R/include" -DNDEBUG -DBOOST_MATH_PROMOTE_DOUBLE_POLICY=0 -D__GAPS_R_BUILD__ -Iinclude -DGAPS_DISABLE_CHECKPOINTS -I'C:/Users/biocbuild/bbs-3.13-bioc/R/library/Rcpp/include' -I'C:/Users/biocbuild/bbs-3.13-bioc/R/library/BH/include'   -I"c:/extsoft/include"     -O2 -Wall  -mfpmath=sse -msse2 -mstackrealign  -c data_structures/HybridVector.cpp -o data_structures/HybridVector.o
data_structures/HybridVector.cpp:60: warning: ignoring #pragma omp atomic [-Wunknown-pragmas]
         #pragma omp atomic
 
data_structures/HybridVector.cpp:65: warning: ignoring #pragma omp atomic [-Wunknown-pragmas]
     #pragma omp atomic
 
data_structures/HybridVector.cpp:77: warning: ignoring #pragma omp atomic [-Wunknown-pragmas]
         #pragma omp atomic
 
data_structures/HybridVector.cpp:82: warning: ignoring #pragma omp atomic [-Wunknown-pragmas]
     #pragma omp atomic
 
"C:/rtools40/mingw32/bin/"g++ -std=gnu++11  -I"C:/Users/BIOCBU~1/BBS-3~1.13-/R/include" -DNDEBUG -DBOOST_MATH_PROMOTE_DOUBLE_POLICY=0 -D__GAPS_R_BUILD__ -Iinclude -DGAPS_DISABLE_CHECKPOINTS -I'C:/Users/biocbuild/bbs-3.13-bioc/R/library/Rcpp/include' -I'C:/Users/biocbuild/bbs-3.13-bioc/R/library/BH/include'   -I"c:/extsoft/include"     -O2 -Wall  -mfpmath=sse -msse2 -mstackrealign  -c data_structures/Matrix.cpp -o data_structures/Matrix.o
"C:/rtools40/mingw32/bin/"g++ -std=gnu++11  -I"C:/Users/BIOCBU~1/BBS-3~1.13-/R/include" -DNDEBUG -DBOOST_MATH_PROMOTE_DOUBLE_POLICY=0 -D__GAPS_R_BUILD__ -Iinclude -DGAPS_DISABLE_CHECKPOINTS -I'C:/Users/biocbuild/bbs-3.13-bioc/R/library/Rcpp/include' -I'C:/Users/biocbuild/bbs-3.13-bioc/R/library/BH/include'   -I"c:/extsoft/include"     -O2 -Wall  -mfpmath=sse -msse2 -mstackrealign  -c data_structures/SparseIterator.cpp -o data_structures/SparseIterator.o
"C:/rtools40/mingw32/bin/"g++ -std=gnu++11  -I"C:/Users/BIOCBU~1/BBS-3~1.13-/R/include" -DNDEBUG -DBOOST_MATH_PROMOTE_DOUBLE_POLICY=0 -D__GAPS_R_BUILD__ -Iinclude -DGAPS_DISABLE_CHECKPOINTS -I'C:/Users/biocbuild/bbs-3.13-bioc/R/library/Rcpp/include' -I'C:/Users/biocbuild/bbs-3.13-bioc/R/library/BH/include'   -I"c:/extsoft/include"     -O2 -Wall  -mfpmath=sse -msse2 -mstackrealign  -c data_structures/SparseMatrix.cpp -o data_structures/SparseMatrix.o
"C:/rtools40/mingw32/bin/"g++ -std=gnu++11  -I"C:/Users/BIOCBU~1/BBS-3~1.13-/R/include" -DNDEBUG -DBOOST_MATH_PROMOTE_DOUBLE_POLICY=0 -D__GAPS_R_BUILD__ -Iinclude -DGAPS_DISABLE_CHECKPOINTS -I'C:/Users/biocbuild/bbs-3.13-bioc/R/library/Rcpp/include' -I'C:/Users/biocbuild/bbs-3.13-bioc/R/library/BH/include'   -I"c:/extsoft/include"     -O2 -Wall  -mfpmath=sse -msse2 -mstackrealign  -c data_structures/SparseVector.cpp -o data_structures/SparseVector.o
"C:/rtools40/mingw32/bin/"g++ -std=gnu++11  -I"C:/Users/BIOCBU~1/BBS-3~1.13-/R/include" -DNDEBUG -DBOOST_MATH_PROMOTE_DOUBLE_POLICY=0 -D__GAPS_R_BUILD__ -Iinclude -DGAPS_DISABLE_CHECKPOINTS -I'C:/Users/biocbuild/bbs-3.13-bioc/R/library/Rcpp/include' -I'C:/Users/biocbuild/bbs-3.13-bioc/R/library/BH/include'   -I"c:/extsoft/include"     -O2 -Wall  -mfpmath=sse -msse2 -mstackrealign  -c data_structures/Vector.cpp -o data_structures/Vector.o
"C:/rtools40/mingw32/bin/"g++ -std=gnu++11  -I"C:/Users/BIOCBU~1/BBS-3~1.13-/R/include" -DNDEBUG -DBOOST_MATH_PROMOTE_DOUBLE_POLICY=0 -D__GAPS_R_BUILD__ -Iinclude -DGAPS_DISABLE_CHECKPOINTS -I'C:/Users/biocbuild/bbs-3.13-bioc/R/library/Rcpp/include' -I'C:/Users/biocbuild/bbs-3.13-bioc/R/library/BH/include'   -I"c:/extsoft/include"     -O2 -Wall  -mfpmath=sse -msse2 -mstackrealign  -c file_parser/CharacterDelimitedParser.cpp -o file_parser/CharacterDelimitedParser.o
"C:/rtools40/mingw32/bin/"g++ -std=gnu++11  -I"C:/Users/BIOCBU~1/BBS-3~1.13-/R/include" -DNDEBUG -DBOOST_MATH_PROMOTE_DOUBLE_POLICY=0 -D__GAPS_R_BUILD__ -Iinclude -DGAPS_DISABLE_CHECKPOINTS -I'C:/Users/biocbuild/bbs-3.13-bioc/R/library/Rcpp/include' -I'C:/Users/biocbuild/bbs-3.13-bioc/R/library/BH/include'   -I"c:/extsoft/include"     -O2 -Wall  -mfpmath=sse -msse2 -mstackrealign  -c file_parser/FileParser.cpp -o file_parser/FileParser.o
"C:/rtools40/mingw32/bin/"g++ -std=gnu++11  -I"C:/Users/BIOCBU~1/BBS-3~1.13-/R/include" -DNDEBUG -DBOOST_MATH_PROMOTE_DOUBLE_POLICY=0 -D__GAPS_R_BUILD__ -Iinclude -DGAPS_DISABLE_CHECKPOINTS -I'C:/Users/biocbuild/bbs-3.13-bioc/R/library/Rcpp/include' -I'C:/Users/biocbuild/bbs-3.13-bioc/R/library/BH/include'   -I"c:/extsoft/include"     -O2 -Wall  -mfpmath=sse -msse2 -mstackrealign  -c file_parser/MatrixElement.cpp -o file_parser/MatrixElement.o
"C:/rtools40/mingw32/bin/"g++ -std=gnu++11  -I"C:/Users/BIOCBU~1/BBS-3~1.13-/R/include" -DNDEBUG -DBOOST_MATH_PROMOTE_DOUBLE_POLICY=0 -D__GAPS_R_BUILD__ -Iinclude -DGAPS_DISABLE_CHECKPOINTS -I'C:/Users/biocbuild/bbs-3.13-bioc/R/library/Rcpp/include' -I'C:/Users/biocbuild/bbs-3.13-bioc/R/library/BH/include'   -I"c:/extsoft/include"     -O2 -Wall  -mfpmath=sse -msse2 -mstackrealign  -c file_parser/MtxParser.cpp -o file_parser/MtxParser.o
"C:/rtools40/mingw32/bin/"g++ -std=gnu++11  -I"C:/Users/BIOCBU~1/BBS-3~1.13-/R/include" -DNDEBUG -DBOOST_MATH_PROMOTE_DOUBLE_POLICY=0 -D__GAPS_R_BUILD__ -Iinclude -DGAPS_DISABLE_CHECKPOINTS -I'C:/Users/biocbuild/bbs-3.13-bioc/R/library/Rcpp/include' -I'C:/Users/biocbuild/bbs-3.13-bioc/R/library/BH/include'   -I"c:/extsoft/include"     -O2 -Wall  -mfpmath=sse -msse2 -mstackrealign  -c gibbs_sampler/AlphaParameters.cpp -o gibbs_sampler/AlphaParameters.o
"C:/rtools40/mingw32/bin/"g++ -std=gnu++11  -I"C:/Users/BIOCBU~1/BBS-3~1.13-/R/include" -DNDEBUG -DBOOST_MATH_PROMOTE_DOUBLE_POLICY=0 -D__GAPS_R_BUILD__ -Iinclude -DGAPS_DISABLE_CHECKPOINTS -I'C:/Users/biocbuild/bbs-3.13-bioc/R/library/Rcpp/include' -I'C:/Users/biocbuild/bbs-3.13-bioc/R/library/BH/include'   -I"c:/extsoft/include"     -O2 -Wall  -mfpmath=sse -msse2 -mstackrealign  -c gibbs_sampler/DenseNormalModel.cpp -o gibbs_sampler/DenseNormalModel.o
gibbs_sampler/DenseNormalModel.cpp:26: warning: ignoring #pragma omp parallel [-Wunknown-pragmas]
     #pragma omp parallel for num_threads(nThreads)
 
"C:/rtools40/mingw32/bin/"g++ -std=gnu++11  -I"C:/Users/BIOCBU~1/BBS-3~1.13-/R/include" -DNDEBUG -DBOOST_MATH_PROMOTE_DOUBLE_POLICY=0 -D__GAPS_R_BUILD__ -Iinclude -DGAPS_DISABLE_CHECKPOINTS -I'C:/Users/biocbuild/bbs-3.13-bioc/R/library/Rcpp/include' -I'C:/Users/biocbuild/bbs-3.13-bioc/R/library/BH/include'   -I"c:/extsoft/include"     -O2 -Wall  -mfpmath=sse -msse2 -mstackrealign  -c gibbs_sampler/SparseNormalModel.cpp -o gibbs_sampler/SparseNormalModel.o
"C:/rtools40/mingw32/bin/"g++ -std=gnu++11  -I"C:/Users/BIOCBU~1/BBS-3~1.13-/R/include" -DNDEBUG -DBOOST_MATH_PROMOTE_DOUBLE_POLICY=0 -D__GAPS_R_BUILD__ -Iinclude -DGAPS_DISABLE_CHECKPOINTS -I'C:/Users/biocbuild/bbs-3.13-bioc/R/library/Rcpp/include' -I'C:/Users/biocbuild/bbs-3.13-bioc/R/library/BH/include'   -I"c:/extsoft/include"     -O2 -Wall  -mfpmath=sse -msse2 -mstackrealign  -c math/Math.cpp -o math/Math.o
In file included from C:/Users/biocbuild/bbs-3.13-bioc/R/library/BH/include/boost/math/constants/constants.hpp:11,
                 from C:/Users/biocbuild/bbs-3.13-bioc/R/library/BH/include/boost/math/distributions/exponential.hpp:10,
                 from math/Math.cpp:4:
C:/Users/biocbuild/bbs-3.13-bioc/R/library/BH/include/boost/math/tools/cxx03_warn.hpp:99:88: note: #pragma message: CAUTION: One or more C++11 features were found to be unavailable
 BOOST_PRAGMA_MESSAGE("CAUTION: One or more C++11 features were found to be unavailable")
                                                                                        ^
In file included from C:/Users/biocbuild/bbs-3.13-bioc/R/library/BH/include/boost/math/constants/constants.hpp:11,
                 from C:/Users/biocbuild/bbs-3.13-bioc/R/library/BH/include/boost/math/distributions/exponential.hpp:10,
                 from math/Math.cpp:4:
C:/Users/biocbuild/bbs-3.13-bioc/R/library/BH/include/boost/math/tools/cxx03_warn.hpp:100:139: note: #pragma message: CAUTION: Compiling Boost.Math in pre-C++11 conformance modes is now deprecated and will be removed from March 2021.
 BOOST_PRAGMA_MESSAGE("CAUTION: Compiling Boost.Math in pre-C++11 conformance modes is now deprecated and will be removed from March 2021.")
                                                                                                                                           ^
C:/Users/biocbuild/bbs-3.13-bioc/R/library/BH/include/boost/math/tools/cxx03_warn.hpp:101:106: note: #pragma message: CAUTION: Define BOOST_MATH_DISABLE_DEPRECATED_03_WARNING to suppress this message.
 BOOST_PRAGMA_MESSAGE("CAUTION: Define BOOST_MATH_DISABLE_DEPRECATED_03_WARNING to suppress this message.")
                                                                                                          ^
C:/Users/biocbuild/bbs-3.13-bioc/R/library/BH/include/boost/math/tools/cxx03_warn.hpp:102:108: note: #pragma message: CAUTION: This message was generated due to the define: BOOST_NO_CXX11_THREAD_LOCAL
 BOOST_PRAGMA_MESSAGE("CAUTION: This message was generated due to the define: " BOOST_MATH_CXX03_WARN_REASON)
                                                                                                            ^
In file included from C:/Users/biocbuild/bbs-3.13-bioc/R/library/BH/include/boost/mpl/aux_/na_assert.hpp:23,
                 from C:/Users/biocbuild/bbs-3.13-bioc/R/library/BH/include/boost/mpl/arg.hpp:25,
                 from C:/Users/biocbuild/bbs-3.13-bioc/R/library/BH/include/boost/mpl/placeholders.hpp:24,
                 from C:/Users/biocbuild/bbs-3.13-bioc/R/library/BH/include/boost/mpl/apply.hpp:24,
                 from C:/Users/biocbuild/bbs-3.13-bioc/R/library/BH/include/boost/mpl/aux_/iter_apply.hpp:17,
                 from C:/Users/biocbuild/bbs-3.13-bioc/R/library/BH/include/boost/mpl/aux_/find_if_pred.hpp:14,
                 from C:/Users/biocbuild/bbs-3.13-bioc/R/library/BH/include/boost/mpl/find_if.hpp:17,
                 from C:/Users/biocbuild/bbs-3.13-bioc/R/library/BH/include/boost/mpl/find.hpp:17,
                 from C:/Users/biocbuild/bbs-3.13-bioc/R/library/BH/include/boost/mpl/aux_/contains_impl.hpp:20,
                 from C:/Users/biocbuild/bbs-3.13-bioc/R/library/BH/include/boost/mpl/contains.hpp:20,
                 from C:/Users/biocbuild/bbs-3.13-bioc/R/library/BH/include/boost/math/policies/policy.hpp:10,
                 from C:/Users/biocbuild/bbs-3.13-bioc/R/library/BH/include/boost/math/constants/constants.hpp:12,
                 from C:/Users/biocbuild/bbs-3.13-bioc/R/library/BH/include/boost/math/distributions/exponential.hpp:10,
                 from math/Math.cpp:4:
C:/Users/biocbuild/bbs-3.13-bioc/R/library/BH/include/boost/mpl/assert.hpp:194:21: warning: unnecessary parentheses in declaration of 'assert_arg' [-Wparentheses]
 failed ************ (Pred::************
                     ^
C:/Users/biocbuild/bbs-3.13-bioc/R/library/BH/include/boost/mpl/assert.hpp:199:21: warning: unnecessary parentheses in declaration of 'assert_not_arg' [-Wparentheses]
 failed ************ (boost::mpl::not_<Pred>::************
                     ^
"C:/rtools40/mingw32/bin/"g++ -std=gnu++11  -I"C:/Users/BIOCBU~1/BBS-3~1.13-/R/include" -DNDEBUG -DBOOST_MATH_PROMOTE_DOUBLE_POLICY=0 -D__GAPS_R_BUILD__ -Iinclude -DGAPS_DISABLE_CHECKPOINTS -I'C:/Users/biocbuild/bbs-3.13-bioc/R/library/Rcpp/include' -I'C:/Users/biocbuild/bbs-3.13-bioc/R/library/BH/include'   -I"c:/extsoft/include"     -O2 -Wall  -mfpmath=sse -msse2 -mstackrealign  -c math/MatrixMath.cpp -o math/MatrixMath.o
"C:/rtools40/mingw32/bin/"g++ -std=gnu++11  -I"C:/Users/BIOCBU~1/BBS-3~1.13-/R/include" -DNDEBUG -DBOOST_MATH_PROMOTE_DOUBLE_POLICY=0 -D__GAPS_R_BUILD__ -Iinclude -DGAPS_DISABLE_CHECKPOINTS -I'C:/Users/biocbuild/bbs-3.13-bioc/R/library/Rcpp/include' -I'C:/Users/biocbuild/bbs-3.13-bioc/R/library/BH/include'   -I"c:/extsoft/include"     -O2 -Wall  -mfpmath=sse -msse2 -mstackrealign  -c math/Random.cpp -o math/Random.o
"C:/rtools40/mingw32/bin/"g++ -std=gnu++11  -I"C:/Users/BIOCBU~1/BBS-3~1.13-/R/include" -DNDEBUG -DBOOST_MATH_PROMOTE_DOUBLE_POLICY=0 -D__GAPS_R_BUILD__ -Iinclude -DGAPS_DISABLE_CHECKPOINTS -I'C:/Users/biocbuild/bbs-3.13-bioc/R/library/Rcpp/include' -I'C:/Users/biocbuild/bbs-3.13-bioc/R/library/BH/include'   -I"c:/extsoft/include"     -O2 -Wall  -mfpmath=sse -msse2 -mstackrealign  -c math/VectorMath.cpp -o math/VectorMath.o
C:/rtools40/mingw32/bin/g++ -std=gnu++11 -shared -s -static-libgcc -o CoGAPS.dll tmp.def Cogaps.o GapsParameters.o GapsResult.o GapsRunner.o GapsStatistics.o RcppExports.o test-runner.o atomic/Atom.o atomic/ConcurrentAtom.o atomic/AtomicDomain.o atomic/ConcurrentAtomicDomain.o atomic/ProposalQueue.o data_structures/HashSets.o data_structures/HybridMatrix.o data_structures/HybridVector.o data_structures/Matrix.o data_structures/SparseIterator.o data_structures/SparseMatrix.o data_structures/SparseVector.o data_structures/Vector.o file_parser/CharacterDelimitedParser.o file_parser/FileParser.o file_parser/MatrixElement.o file_parser/MtxParser.o gibbs_sampler/AlphaParameters.o gibbs_sampler/DenseNormalModel.o gibbs_sampler/SparseNormalModel.o math/Math.o math/MatrixMath.o math/Random.o math/VectorMath.o -Lc:/extsoft/lib/i386 -Lc:/extsoft/lib -LC:/Users/BIOCBU~1/BBS-3~1.13-/R/bin/i386 -lR
installing to C:/Users/biocbuild/bbs-3.13-bioc/meat/CoGAPS.buildbin-libdir/00LOCK-CoGAPS/00new/CoGAPS/libs/i386
** R
** data
** inst
** byte-compile and prepare package for lazy loading
** help
*** installing help indices
  converting help for package 'CoGAPS'
    finding HTML links ... done
    CoGAPS-package                          html  
    CoGAPS                                  html  
    CogapsParams-class                      html  
    CogapsParams                            html  
    CogapsResult-class                      html  
    GIST.data_frame                         html  
    GIST.matrix                             html  
    GIST.result                             html  
    GIST.uncertainty                        html  
    GWCoGAPS                                html  
    binaryA-methods                         html  
    buildReport                             html  
    calcCoGAPSStat-methods                  html  
    calcGeneGSStat-methods                  html  
    calcZ-methods                           html  
    callInternalCoGAPS                      html  
    checkDataMatrix                         html  
    checkInputs                             html  
    checkpointsEnabled                      html  
    compiledWithOpenMPSupport               html  
    computeGeneGSProb-methods               html  
    convertDataToMatrix                     html  
    corcut                                  html  
    corrToMeanPattern                       html  
    createCogapsResult                      html  
    createSets                              html  
    distributedCogaps                       html  
    findConsensusMatrix                     html  
    gapsCat                                 html  
    getAmplitudeMatrix-methods              html  
    getClusteredPatterns-methods            html  
    getCorrelationToMeanPattern-methods     html  
    getDimNames                             html  
    getFeatureLoadings-methods              html  
    getGeneNames                            html  
    getMeanChiSq-methods                    html  
    getOriginalParameters-methods           html  
    getParam-methods                        html  
    getPatternMatrix-methods                html  
    getRetinaSubset                         html  
    getSampleFactors-methods                html  
    getSampleNames                          html  
    getSubsets-methods                      html  
    getUnmatchedPatterns-methods            html  
    getValueOrRds                           html  
    getVersion-methods                      html  
    initialize-CogapsParams-method          html  
    initialize-CogapsResult-method          html  
    isRdsFile                               html  
    ncolHelper                              html  
    nrowHelper                              html  
    parseExtraParams                        html  
    patternMarkers-methods                  html  
    patternMatch                            html  
    plotPatternMarkers-methods              html  
    finding level-2 HTML links ... done

    plotResiduals-methods                   html  
    reconstructGene-methods                 html  
    sampleUniformly                         html  
    sampleWithAnnotationWeights             html  
    sampleWithExplictSets                   html  
    scCoGAPS                                html  
    setAnnotationWeights-methods            html  
    setDistributedParams-methods            html  
    setFixedPatterns-methods                html  
    setParam-methods                        html  
    startupMessage                          html  
    stitchTogether                          html  
    supported                               html  
** building package indices
** installing vignettes
** testing if installed package can be loaded from temporary location
** testing if installed package can be loaded from final location
** testing if installed package keeps a record of temporary installation path

install for x64

* installing *source* package 'CoGAPS' ...
** libs
"C:/rtools40/mingw64/bin/"g++ -std=gnu++11  -I"C:/Users/BIOCBU~1/BBS-3~1.13-/R/include" -DNDEBUG -DBOOST_MATH_PROMOTE_DOUBLE_POLICY=0 -D__GAPS_R_BUILD__ -Iinclude -DGAPS_DISABLE_CHECKPOINTS -I'C:/Users/biocbuild/bbs-3.13-bioc/R/library/Rcpp/include' -I'C:/Users/biocbuild/bbs-3.13-bioc/R/library/BH/include'   -I"C:/extsoft/include"     -O2 -Wall  -mfpmath=sse -msse2 -mstackrealign  -c Cogaps.cpp -o Cogaps.o
"C:/rtools40/mingw64/bin/"g++ -std=gnu++11  -I"C:/Users/BIOCBU~1/BBS-3~1.13-/R/include" -DNDEBUG -DBOOST_MATH_PROMOTE_DOUBLE_POLICY=0 -D__GAPS_R_BUILD__ -Iinclude -DGAPS_DISABLE_CHECKPOINTS -I'C:/Users/biocbuild/bbs-3.13-bioc/R/library/Rcpp/include' -I'C:/Users/biocbuild/bbs-3.13-bioc/R/library/BH/include'   -I"C:/extsoft/include"     -O2 -Wall  -mfpmath=sse -msse2 -mstackrealign  -c GapsParameters.cpp -o GapsParameters.o
GapsParameters.cpp: In member function 'void GapsParameters::print() const':
GapsParameters.cpp:41:17: warning: format '%lu' expects argument of type 'long unsigned int', but argument 2 has type 'std::vector<unsigned int>::size_type' {aka 'long long unsigned int'} [-Wformat=]
     gaps_printf("dataIndicesSubset.size(): %lu\n", dataIndicesSubset.size());
                 ^~~~~~~~~~~~~~~~~~~~~~~~~~~~~~~~~  ~~~~~~~~~~~~~~~~~~~~~~~~
"C:/rtools40/mingw64/bin/"g++ -std=gnu++11  -I"C:/Users/BIOCBU~1/BBS-3~1.13-/R/include" -DNDEBUG -DBOOST_MATH_PROMOTE_DOUBLE_POLICY=0 -D__GAPS_R_BUILD__ -Iinclude -DGAPS_DISABLE_CHECKPOINTS -I'C:/Users/biocbuild/bbs-3.13-bioc/R/library/Rcpp/include' -I'C:/Users/biocbuild/bbs-3.13-bioc/R/library/BH/include'   -I"C:/extsoft/include"     -O2 -Wall  -mfpmath=sse -msse2 -mstackrealign  -c GapsResult.cpp -o GapsResult.o
"C:/rtools40/mingw64/bin/"g++ -std=gnu++11  -I"C:/Users/BIOCBU~1/BBS-3~1.13-/R/include" -DNDEBUG -DBOOST_MATH_PROMOTE_DOUBLE_POLICY=0 -D__GAPS_R_BUILD__ -Iinclude -DGAPS_DISABLE_CHECKPOINTS -I'C:/Users/biocbuild/bbs-3.13-bioc/R/library/Rcpp/include' -I'C:/Users/biocbuild/bbs-3.13-bioc/R/library/BH/include'   -I"C:/extsoft/include"     -O2 -Wall  -mfpmath=sse -msse2 -mstackrealign  -c GapsRunner.cpp -o GapsRunner.o
In file included from GapsRunner.cpp:8:
gibbs_sampler/AsynchronousGibbsSampler.h:105: warning: ignoring #pragma omp parallel [-Wunknown-pragmas]
         #pragma omp parallel for num_threads(nThreads)
 
In file included from C:/Users/biocbuild/bbs-3.13-bioc/R/library/BH/include/boost/mpl/aux_/na_assert.hpp:23,
                 from C:/Users/biocbuild/bbs-3.13-bioc/R/library/BH/include/boost/mpl/arg.hpp:25,
                 from C:/Users/biocbuild/bbs-3.13-bioc/R/library/BH/include/boost/mpl/placeholders.hpp:24,
                 from C:/Users/biocbuild/bbs-3.13-bioc/R/library/BH/include/boost/iterator/iterator_categories.hpp:16,
                 from C:/Users/biocbuild/bbs-3.13-bioc/R/library/BH/include/boost/iterator/iterator_facade.hpp:13,
                 from C:/Users/biocbuild/bbs-3.13-bioc/R/library/BH/include/boost/range/iterator_range_core.hpp:27,
                 from C:/Users/biocbuild/bbs-3.13-bioc/R/library/BH/include/boost/algorithm/string/replace.hpp:16,
                 from C:/Users/biocbuild/bbs-3.13-bioc/R/library/BH/include/boost/date_time/date_facet.hpp:17,
                 from C:/Users/biocbuild/bbs-3.13-bioc/R/library/BH/include/boost/date_time/gregorian/gregorian_io.hpp:16,
                 from C:/Users/biocbuild/bbs-3.13-bioc/R/library/BH/include/boost/date_time/gregorian/gregorian.hpp:31,
                 from C:/Users/biocbuild/bbs-3.13-bioc/R/library/BH/include/boost/date_time/posix_time/time_formatters.hpp:12,
                 from C:/Users/biocbuild/bbs-3.13-bioc/R/library/BH/include/boost/date_time/posix_time/posix_time.hpp:24,
                 from GapsRunner.cpp:27:
C:/Users/biocbuild/bbs-3.13-bioc/R/library/BH/include/boost/mpl/assert.hpp:194:21: warning: unnecessary parentheses in declaration of 'assert_arg' [-Wparentheses]
 failed ************ (Pred::************
                     ^
C:/Users/biocbuild/bbs-3.13-bioc/R/library/BH/include/boost/mpl/assert.hpp:199:21: warning: unnecessary parentheses in declaration of 'assert_not_arg' [-Wparentheses]
 failed ************ (boost::mpl::not_<Pred>::************
                     ^
GapsRunner.cpp: In instantiation of 'GapsResult runCoGAPSAlgorithm(const DataType&, GapsParameters&, const DataType&, GapsRandomState*) [with Sampler = AsynchronousGibbsSampler<SparseNormalModel>; DataType = Matrix]':
GapsRunner.cpp:70:73:   required from 'GapsResult chooseSampler(const DataType&, GapsParameters&, const DataType&, GapsRandomState*) [with DataModel = SparseNormalModel; DataType = Matrix]'
GapsRunner.cpp:85:48:   required from 'GapsResult chooseDataModel(const DataType&, GapsParameters&, const DataType&, GapsRandomState*) [with DataType = Matrix]'
GapsRunner.cpp:104:27:   required from 'GapsResult run_helper(const DataType&, GapsParameters&, const DataType&, GapsRandomState*) [with DataType = Matrix]'
GapsRunner.cpp:113:59:   required from here
GapsRunner.cpp:430:5: warning: enumeration value 'GAPS_ALL_PHASES' not handled in switch [-Wswitch]
     switch (phase)
     ^~~~~~
GapsRunner.cpp: In instantiation of 'GapsResult runCoGAPSAlgorithm(const DataType&, GapsParameters&, const DataType&, GapsRandomState*) [with Sampler = SingleThreadedGibbsSampler<SparseNormalModel>; DataType = Matrix]':
GapsRunner.cpp:74:71:   required from 'GapsResult chooseSampler(const DataType&, GapsParameters&, const DataType&, GapsRandomState*) [with DataModel = SparseNormalModel; DataType = Matrix]'
GapsRunner.cpp:85:48:   required from 'GapsResult chooseDataModel(const DataType&, GapsParameters&, const DataType&, GapsRandomState*) [with DataType = Matrix]'
GapsRunner.cpp:104:27:   required from 'GapsResult run_helper(const DataType&, GapsParameters&, const DataType&, GapsRandomState*) [with DataType = Matrix]'
GapsRunner.cpp:113:59:   required from here
GapsRunner.cpp:430:5: warning: enumeration value 'GAPS_ALL_PHASES' not handled in switch [-Wswitch]
GapsRunner.cpp: In instantiation of 'GapsResult runCoGAPSAlgorithm(const DataType&, GapsParameters&, const DataType&, GapsRandomState*) [with Sampler = AsynchronousGibbsSampler<DenseNormalModel>; DataType = Matrix]':
GapsRunner.cpp:70:73:   required from 'GapsResult chooseSampler(const DataType&, GapsParameters&, const DataType&, GapsRandomState*) [with DataModel = DenseNormalModel; DataType = Matrix]'
GapsRunner.cpp:88:43:   required from 'GapsResult chooseDataModel(const DataType&, GapsParameters&, const DataType&, GapsRandomState*) [with DataType = Matrix]'
GapsRunner.cpp:104:27:   required from 'GapsResult run_helper(const DataType&, GapsParameters&, const DataType&, GapsRandomState*) [with DataType = Matrix]'
GapsRunner.cpp:113:59:   required from here
GapsRunner.cpp:430:5: warning: enumeration value 'GAPS_ALL_PHASES' not handled in switch [-Wswitch]
GapsRunner.cpp: In instantiation of 'GapsResult runCoGAPSAlgorithm(const DataType&, GapsParameters&, const DataType&, GapsRandomState*) [with Sampler = SingleThreadedGibbsSampler<DenseNormalModel>; DataType = Matrix]':
GapsRunner.cpp:74:71:   required from 'GapsResult chooseSampler(const DataType&, GapsParameters&, const DataType&, GapsRandomState*) [with DataModel = DenseNormalModel; DataType = Matrix]'
GapsRunner.cpp:88:43:   required from 'GapsResult chooseDataModel(const DataType&, GapsParameters&, const DataType&, GapsRandomState*) [with DataType = Matrix]'
GapsRunner.cpp:104:27:   required from 'GapsResult run_helper(const DataType&, GapsParameters&, const DataType&, GapsRandomState*) [with DataType = Matrix]'
GapsRunner.cpp:113:59:   required from here
GapsRunner.cpp:430:5: warning: enumeration value 'GAPS_ALL_PHASES' not handled in switch [-Wswitch]
GapsRunner.cpp: In instantiation of 'GapsResult runCoGAPSAlgorithm(const DataType&, GapsParameters&, const DataType&, GapsRandomState*) [with Sampler = AsynchronousGibbsSampler<SparseNormalModel>; DataType = std::__cxx11::basic_string<char>]':
GapsRunner.cpp:70:73:   required from 'GapsResult chooseSampler(const DataType&, GapsParameters&, const DataType&, GapsRandomState*) [with DataModel = SparseNormalModel; DataType = std::__cxx11::basic_string<char>]'
GapsRunner.cpp:85:48:   required from 'GapsResult chooseDataModel(const DataType&, GapsParameters&, const DataType&, GapsRandomState*) [with DataType = std::__cxx11::basic_string<char>]'
GapsRunner.cpp:104:27:   required from 'GapsResult run_helper(const DataType&, GapsParameters&, const DataType&, GapsRandomState*) [with DataType = std::__cxx11::basic_string<char>]'
GapsRunner.cpp:119:59:   required from here
GapsRunner.cpp:430:5: warning: enumeration value 'GAPS_ALL_PHASES' not handled in switch [-Wswitch]
GapsRunner.cpp: In instantiation of 'GapsResult runCoGAPSAlgorithm(const DataType&, GapsParameters&, const DataType&, GapsRandomState*) [with Sampler = SingleThreadedGibbsSampler<SparseNormalModel>; DataType = std::__cxx11::basic_string<char>]':
GapsRunner.cpp:74:71:   required from 'GapsResult chooseSampler(const DataType&, GapsParameters&, const DataType&, GapsRandomState*) [with DataModel = SparseNormalModel; DataType = std::__cxx11::basic_string<char>]'
GapsRunner.cpp:85:48:   required from 'GapsResult chooseDataModel(const DataType&, GapsParameters&, const DataType&, GapsRandomState*) [with DataType = std::__cxx11::basic_string<char>]'
GapsRunner.cpp:104:27:   required from 'GapsResult run_helper(const DataType&, GapsParameters&, const DataType&, GapsRandomState*) [with DataType = std::__cxx11::basic_string<char>]'
GapsRunner.cpp:119:59:   required from here
GapsRunner.cpp:430:5: warning: enumeration value 'GAPS_ALL_PHASES' not handled in switch [-Wswitch]
GapsRunner.cpp: In instantiation of 'GapsResult runCoGAPSAlgorithm(const DataType&, GapsParameters&, const DataType&, GapsRandomState*) [with Sampler = AsynchronousGibbsSampler<DenseNormalModel>; DataType = std::__cxx11::basic_string<char>]':
GapsRunner.cpp:70:73:   required from 'GapsResult chooseSampler(const DataType&, GapsParameters&, const DataType&, GapsRandomState*) [with DataModel = DenseNormalModel; DataType = std::__cxx11::basic_string<char>]'
GapsRunner.cpp:88:43:   required from 'GapsResult chooseDataModel(const DataType&, GapsParameters&, const DataType&, GapsRandomState*) [with DataType = std::__cxx11::basic_string<char>]'
GapsRunner.cpp:104:27:   required from 'GapsResult run_helper(const DataType&, GapsParameters&, const DataType&, GapsRandomState*) [with DataType = std::__cxx11::basic_string<char>]'
GapsRunner.cpp:119:59:   required from here
GapsRunner.cpp:430:5: warning: enumeration value 'GAPS_ALL_PHASES' not handled in switch [-Wswitch]
GapsRunner.cpp: In instantiation of 'GapsResult runCoGAPSAlgorithm(const DataType&, GapsParameters&, const DataType&, GapsRandomState*) [with Sampler = SingleThreadedGibbsSampler<DenseNormalModel>; DataType = std::__cxx11::basic_string<char>]':
GapsRunner.cpp:74:71:   required from 'GapsResult chooseSampler(const DataType&, GapsParameters&, const DataType&, GapsRandomState*) [with DataModel = DenseNormalModel; DataType = std::__cxx11::basic_string<char>]'
GapsRunner.cpp:88:43:   required from 'GapsResult chooseDataModel(const DataType&, GapsParameters&, const DataType&, GapsRandomState*) [with DataType = std::__cxx11::basic_string<char>]'
GapsRunner.cpp:104:27:   required from 'GapsResult run_helper(const DataType&, GapsParameters&, const DataType&, GapsRandomState*) [with DataType = std::__cxx11::basic_string<char>]'
GapsRunner.cpp:119:59:   required from here
GapsRunner.cpp:430:5: warning: enumeration value 'GAPS_ALL_PHASES' not handled in switch [-Wswitch]
"C:/rtools40/mingw64/bin/"g++ -std=gnu++11  -I"C:/Users/BIOCBU~1/BBS-3~1.13-/R/include" -DNDEBUG -DBOOST_MATH_PROMOTE_DOUBLE_POLICY=0 -D__GAPS_R_BUILD__ -Iinclude -DGAPS_DISABLE_CHECKPOINTS -I'C:/Users/biocbuild/bbs-3.13-bioc/R/library/Rcpp/include' -I'C:/Users/biocbuild/bbs-3.13-bioc/R/library/BH/include'   -I"C:/extsoft/include"     -O2 -Wall  -mfpmath=sse -msse2 -mstackrealign  -c GapsStatistics.cpp -o GapsStatistics.o
"C:/rtools40/mingw64/bin/"g++ -std=gnu++11  -I"C:/Users/BIOCBU~1/BBS-3~1.13-/R/include" -DNDEBUG -DBOOST_MATH_PROMOTE_DOUBLE_POLICY=0 -D__GAPS_R_BUILD__ -Iinclude -DGAPS_DISABLE_CHECKPOINTS -I'C:/Users/biocbuild/bbs-3.13-bioc/R/library/Rcpp/include' -I'C:/Users/biocbuild/bbs-3.13-bioc/R/library/BH/include'   -I"C:/extsoft/include"     -O2 -Wall  -mfpmath=sse -msse2 -mstackrealign  -c RcppExports.cpp -o RcppExports.o
"C:/rtools40/mingw64/bin/"g++ -std=gnu++11  -I"C:/Users/BIOCBU~1/BBS-3~1.13-/R/include" -DNDEBUG -DBOOST_MATH_PROMOTE_DOUBLE_POLICY=0 -D__GAPS_R_BUILD__ -Iinclude -DGAPS_DISABLE_CHECKPOINTS -I'C:/Users/biocbuild/bbs-3.13-bioc/R/library/Rcpp/include' -I'C:/Users/biocbuild/bbs-3.13-bioc/R/library/BH/include'   -I"C:/extsoft/include"     -O2 -Wall  -mfpmath=sse -msse2 -mstackrealign  -c test-runner.cpp -o test-runner.o
"C:/rtools40/mingw64/bin/"g++ -std=gnu++11  -I"C:/Users/BIOCBU~1/BBS-3~1.13-/R/include" -DNDEBUG -DBOOST_MATH_PROMOTE_DOUBLE_POLICY=0 -D__GAPS_R_BUILD__ -Iinclude -DGAPS_DISABLE_CHECKPOINTS -I'C:/Users/biocbuild/bbs-3.13-bioc/R/library/Rcpp/include' -I'C:/Users/biocbuild/bbs-3.13-bioc/R/library/BH/include'   -I"C:/extsoft/include"     -O2 -Wall  -mfpmath=sse -msse2 -mstackrealign  -c atomic/Atom.cpp -o atomic/Atom.o
"C:/rtools40/mingw64/bin/"g++ -std=gnu++11  -I"C:/Users/BIOCBU~1/BBS-3~1.13-/R/include" -DNDEBUG -DBOOST_MATH_PROMOTE_DOUBLE_POLICY=0 -D__GAPS_R_BUILD__ -Iinclude -DGAPS_DISABLE_CHECKPOINTS -I'C:/Users/biocbuild/bbs-3.13-bioc/R/library/Rcpp/include' -I'C:/Users/biocbuild/bbs-3.13-bioc/R/library/BH/include'   -I"C:/extsoft/include"     -O2 -Wall  -mfpmath=sse -msse2 -mstackrealign  -c atomic/ConcurrentAtom.cpp -o atomic/ConcurrentAtom.o
"C:/rtools40/mingw64/bin/"g++ -std=gnu++11  -I"C:/Users/BIOCBU~1/BBS-3~1.13-/R/include" -DNDEBUG -DBOOST_MATH_PROMOTE_DOUBLE_POLICY=0 -D__GAPS_R_BUILD__ -Iinclude -DGAPS_DISABLE_CHECKPOINTS -I'C:/Users/biocbuild/bbs-3.13-bioc/R/library/Rcpp/include' -I'C:/Users/biocbuild/bbs-3.13-bioc/R/library/BH/include'   -I"C:/extsoft/include"     -O2 -Wall  -mfpmath=sse -msse2 -mstackrealign  -c atomic/AtomicDomain.cpp -o atomic/AtomicDomain.o
"C:/rtools40/mingw64/bin/"g++ -std=gnu++11  -I"C:/Users/BIOCBU~1/BBS-3~1.13-/R/include" -DNDEBUG -DBOOST_MATH_PROMOTE_DOUBLE_POLICY=0 -D__GAPS_R_BUILD__ -Iinclude -DGAPS_DISABLE_CHECKPOINTS -I'C:/Users/biocbuild/bbs-3.13-bioc/R/library/Rcpp/include' -I'C:/Users/biocbuild/bbs-3.13-bioc/R/library/BH/include'   -I"C:/extsoft/include"     -O2 -Wall  -mfpmath=sse -msse2 -mstackrealign  -c atomic/ConcurrentAtomicDomain.cpp -o atomic/ConcurrentAtomicDomain.o
atomic/ConcurrentAtomicDomain.cpp:64: warning: ignoring #pragma omp critical [-Wunknown-pragmas]
     #pragma omp critical(AtomicInsertOrErase)
 
"C:/rtools40/mingw64/bin/"g++ -std=gnu++11  -I"C:/Users/BIOCBU~1/BBS-3~1.13-/R/include" -DNDEBUG -DBOOST_MATH_PROMOTE_DOUBLE_POLICY=0 -D__GAPS_R_BUILD__ -Iinclude -DGAPS_DISABLE_CHECKPOINTS -I'C:/Users/biocbuild/bbs-3.13-bioc/R/library/Rcpp/include' -I'C:/Users/biocbuild/bbs-3.13-bioc/R/library/BH/include'   -I"C:/extsoft/include"     -O2 -Wall  -mfpmath=sse -msse2 -mstackrealign  -c atomic/ProposalQueue.cpp -o atomic/ProposalQueue.o
atomic/ProposalQueue.cpp:101: warning: ignoring #pragma omp atomic [-Wunknown-pragmas]
     #pragma omp atomic
 
atomic/ProposalQueue.cpp:107: warning: ignoring #pragma omp atomic [-Wunknown-pragmas]
     #pragma omp atomic
 
atomic/ProposalQueue.cpp:113: warning: ignoring #pragma omp atomic [-Wunknown-pragmas]
     #pragma omp atomic
 
atomic/ProposalQueue.cpp:119: warning: ignoring #pragma omp atomic [-Wunknown-pragmas]
     #pragma omp atomic
 
"C:/rtools40/mingw64/bin/"g++ -std=gnu++11  -I"C:/Users/BIOCBU~1/BBS-3~1.13-/R/include" -DNDEBUG -DBOOST_MATH_PROMOTE_DOUBLE_POLICY=0 -D__GAPS_R_BUILD__ -Iinclude -DGAPS_DISABLE_CHECKPOINTS -I'C:/Users/biocbuild/bbs-3.13-bioc/R/library/Rcpp/include' -I'C:/Users/biocbuild/bbs-3.13-bioc/R/library/BH/include'   -I"C:/extsoft/include"     -O2 -Wall  -mfpmath=sse -msse2 -mstackrealign  -c data_structures/HashSets.cpp -o data_structures/HashSets.o
"C:/rtools40/mingw64/bin/"g++ -std=gnu++11  -I"C:/Users/BIOCBU~1/BBS-3~1.13-/R/include" -DNDEBUG -DBOOST_MATH_PROMOTE_DOUBLE_POLICY=0 -D__GAPS_R_BUILD__ -Iinclude -DGAPS_DISABLE_CHECKPOINTS -I'C:/Users/biocbuild/bbs-3.13-bioc/R/library/Rcpp/include' -I'C:/Users/biocbuild/bbs-3.13-bioc/R/library/BH/include'   -I"C:/extsoft/include"     -O2 -Wall  -mfpmath=sse -msse2 -mstackrealign  -c data_structures/HybridMatrix.cpp -o data_structures/HybridMatrix.o
"C:/rtools40/mingw64/bin/"g++ -std=gnu++11  -I"C:/Users/BIOCBU~1/BBS-3~1.13-/R/include" -DNDEBUG -DBOOST_MATH_PROMOTE_DOUBLE_POLICY=0 -D__GAPS_R_BUILD__ -Iinclude -DGAPS_DISABLE_CHECKPOINTS -I'C:/Users/biocbuild/bbs-3.13-bioc/R/library/Rcpp/include' -I'C:/Users/biocbuild/bbs-3.13-bioc/R/library/BH/include'   -I"C:/extsoft/include"     -O2 -Wall  -mfpmath=sse -msse2 -mstackrealign  -c data_structures/HybridVector.cpp -o data_structures/HybridVector.o
data_structures/HybridVector.cpp:60: warning: ignoring #pragma omp atomic [-Wunknown-pragmas]
         #pragma omp atomic
 
data_structures/HybridVector.cpp:65: warning: ignoring #pragma omp atomic [-Wunknown-pragmas]
     #pragma omp atomic
 
data_structures/HybridVector.cpp:77: warning: ignoring #pragma omp atomic [-Wunknown-pragmas]
         #pragma omp atomic
 
data_structures/HybridVector.cpp:82: warning: ignoring #pragma omp atomic [-Wunknown-pragmas]
     #pragma omp atomic
 
"C:/rtools40/mingw64/bin/"g++ -std=gnu++11  -I"C:/Users/BIOCBU~1/BBS-3~1.13-/R/include" -DNDEBUG -DBOOST_MATH_PROMOTE_DOUBLE_POLICY=0 -D__GAPS_R_BUILD__ -Iinclude -DGAPS_DISABLE_CHECKPOINTS -I'C:/Users/biocbuild/bbs-3.13-bioc/R/library/Rcpp/include' -I'C:/Users/biocbuild/bbs-3.13-bioc/R/library/BH/include'   -I"C:/extsoft/include"     -O2 -Wall  -mfpmath=sse -msse2 -mstackrealign  -c data_structures/Matrix.cpp -o data_structures/Matrix.o
"C:/rtools40/mingw64/bin/"g++ -std=gnu++11  -I"C:/Users/BIOCBU~1/BBS-3~1.13-/R/include" -DNDEBUG -DBOOST_MATH_PROMOTE_DOUBLE_POLICY=0 -D__GAPS_R_BUILD__ -Iinclude -DGAPS_DISABLE_CHECKPOINTS -I'C:/Users/biocbuild/bbs-3.13-bioc/R/library/Rcpp/include' -I'C:/Users/biocbuild/bbs-3.13-bioc/R/library/BH/include'   -I"C:/extsoft/include"     -O2 -Wall  -mfpmath=sse -msse2 -mstackrealign  -c data_structures/SparseIterator.cpp -o data_structures/SparseIterator.o
"C:/rtools40/mingw64/bin/"g++ -std=gnu++11  -I"C:/Users/BIOCBU~1/BBS-3~1.13-/R/include" -DNDEBUG -DBOOST_MATH_PROMOTE_DOUBLE_POLICY=0 -D__GAPS_R_BUILD__ -Iinclude -DGAPS_DISABLE_CHECKPOINTS -I'C:/Users/biocbuild/bbs-3.13-bioc/R/library/Rcpp/include' -I'C:/Users/biocbuild/bbs-3.13-bioc/R/library/BH/include'   -I"C:/extsoft/include"     -O2 -Wall  -mfpmath=sse -msse2 -mstackrealign  -c data_structures/SparseMatrix.cpp -o data_structures/SparseMatrix.o
"C:/rtools40/mingw64/bin/"g++ -std=gnu++11  -I"C:/Users/BIOCBU~1/BBS-3~1.13-/R/include" -DNDEBUG -DBOOST_MATH_PROMOTE_DOUBLE_POLICY=0 -D__GAPS_R_BUILD__ -Iinclude -DGAPS_DISABLE_CHECKPOINTS -I'C:/Users/biocbuild/bbs-3.13-bioc/R/library/Rcpp/include' -I'C:/Users/biocbuild/bbs-3.13-bioc/R/library/BH/include'   -I"C:/extsoft/include"     -O2 -Wall  -mfpmath=sse -msse2 -mstackrealign  -c data_structures/SparseVector.cpp -o data_structures/SparseVector.o
"C:/rtools40/mingw64/bin/"g++ -std=gnu++11  -I"C:/Users/BIOCBU~1/BBS-3~1.13-/R/include" -DNDEBUG -DBOOST_MATH_PROMOTE_DOUBLE_POLICY=0 -D__GAPS_R_BUILD__ -Iinclude -DGAPS_DISABLE_CHECKPOINTS -I'C:/Users/biocbuild/bbs-3.13-bioc/R/library/Rcpp/include' -I'C:/Users/biocbuild/bbs-3.13-bioc/R/library/BH/include'   -I"C:/extsoft/include"     -O2 -Wall  -mfpmath=sse -msse2 -mstackrealign  -c data_structures/Vector.cpp -o data_structures/Vector.o
"C:/rtools40/mingw64/bin/"g++ -std=gnu++11  -I"C:/Users/BIOCBU~1/BBS-3~1.13-/R/include" -DNDEBUG -DBOOST_MATH_PROMOTE_DOUBLE_POLICY=0 -D__GAPS_R_BUILD__ -Iinclude -DGAPS_DISABLE_CHECKPOINTS -I'C:/Users/biocbuild/bbs-3.13-bioc/R/library/Rcpp/include' -I'C:/Users/biocbuild/bbs-3.13-bioc/R/library/BH/include'   -I"C:/extsoft/include"     -O2 -Wall  -mfpmath=sse -msse2 -mstackrealign  -c file_parser/CharacterDelimitedParser.cpp -o file_parser/CharacterDelimitedParser.o
"C:/rtools40/mingw64/bin/"g++ -std=gnu++11  -I"C:/Users/BIOCBU~1/BBS-3~1.13-/R/include" -DNDEBUG -DBOOST_MATH_PROMOTE_DOUBLE_POLICY=0 -D__GAPS_R_BUILD__ -Iinclude -DGAPS_DISABLE_CHECKPOINTS -I'C:/Users/biocbuild/bbs-3.13-bioc/R/library/Rcpp/include' -I'C:/Users/biocbuild/bbs-3.13-bioc/R/library/BH/include'   -I"C:/extsoft/include"     -O2 -Wall  -mfpmath=sse -msse2 -mstackrealign  -c file_parser/FileParser.cpp -o file_parser/FileParser.o
"C:/rtools40/mingw64/bin/"g++ -std=gnu++11  -I"C:/Users/BIOCBU~1/BBS-3~1.13-/R/include" -DNDEBUG -DBOOST_MATH_PROMOTE_DOUBLE_POLICY=0 -D__GAPS_R_BUILD__ -Iinclude -DGAPS_DISABLE_CHECKPOINTS -I'C:/Users/biocbuild/bbs-3.13-bioc/R/library/Rcpp/include' -I'C:/Users/biocbuild/bbs-3.13-bioc/R/library/BH/include'   -I"C:/extsoft/include"     -O2 -Wall  -mfpmath=sse -msse2 -mstackrealign  -c file_parser/MatrixElement.cpp -o file_parser/MatrixElement.o
"C:/rtools40/mingw64/bin/"g++ -std=gnu++11  -I"C:/Users/BIOCBU~1/BBS-3~1.13-/R/include" -DNDEBUG -DBOOST_MATH_PROMOTE_DOUBLE_POLICY=0 -D__GAPS_R_BUILD__ -Iinclude -DGAPS_DISABLE_CHECKPOINTS -I'C:/Users/biocbuild/bbs-3.13-bioc/R/library/Rcpp/include' -I'C:/Users/biocbuild/bbs-3.13-bioc/R/library/BH/include'   -I"C:/extsoft/include"     -O2 -Wall  -mfpmath=sse -msse2 -mstackrealign  -c file_parser/MtxParser.cpp -o file_parser/MtxParser.o
"C:/rtools40/mingw64/bin/"g++ -std=gnu++11  -I"C:/Users/BIOCBU~1/BBS-3~1.13-/R/include" -DNDEBUG -DBOOST_MATH_PROMOTE_DOUBLE_POLICY=0 -D__GAPS_R_BUILD__ -Iinclude -DGAPS_DISABLE_CHECKPOINTS -I'C:/Users/biocbuild/bbs-3.13-bioc/R/library/Rcpp/include' -I'C:/Users/biocbuild/bbs-3.13-bioc/R/library/BH/include'   -I"C:/extsoft/include"     -O2 -Wall  -mfpmath=sse -msse2 -mstackrealign  -c gibbs_sampler/AlphaParameters.cpp -o gibbs_sampler/AlphaParameters.o
"C:/rtools40/mingw64/bin/"g++ -std=gnu++11  -I"C:/Users/BIOCBU~1/BBS-3~1.13-/R/include" -DNDEBUG -DBOOST_MATH_PROMOTE_DOUBLE_POLICY=0 -D__GAPS_R_BUILD__ -Iinclude -DGAPS_DISABLE_CHECKPOINTS -I'C:/Users/biocbuild/bbs-3.13-bioc/R/library/Rcpp/include' -I'C:/Users/biocbuild/bbs-3.13-bioc/R/library/BH/include'   -I"C:/extsoft/include"     -O2 -Wall  -mfpmath=sse -msse2 -mstackrealign  -c gibbs_sampler/DenseNormalModel.cpp -o gibbs_sampler/DenseNormalModel.o
gibbs_sampler/DenseNormalModel.cpp:26: warning: ignoring #pragma omp parallel [-Wunknown-pragmas]
     #pragma omp parallel for num_threads(nThreads)
 
"C:/rtools40/mingw64/bin/"g++ -std=gnu++11  -I"C:/Users/BIOCBU~1/BBS-3~1.13-/R/include" -DNDEBUG -DBOOST_MATH_PROMOTE_DOUBLE_POLICY=0 -D__GAPS_R_BUILD__ -Iinclude -DGAPS_DISABLE_CHECKPOINTS -I'C:/Users/biocbuild/bbs-3.13-bioc/R/library/Rcpp/include' -I'C:/Users/biocbuild/bbs-3.13-bioc/R/library/BH/include'   -I"C:/extsoft/include"     -O2 -Wall  -mfpmath=sse -msse2 -mstackrealign  -c gibbs_sampler/SparseNormalModel.cpp -o gibbs_sampler/SparseNormalModel.o
"C:/rtools40/mingw64/bin/"g++ -std=gnu++11  -I"C:/Users/BIOCBU~1/BBS-3~1.13-/R/include" -DNDEBUG -DBOOST_MATH_PROMOTE_DOUBLE_POLICY=0 -D__GAPS_R_BUILD__ -Iinclude -DGAPS_DISABLE_CHECKPOINTS -I'C:/Users/biocbuild/bbs-3.13-bioc/R/library/Rcpp/include' -I'C:/Users/biocbuild/bbs-3.13-bioc/R/library/BH/include'   -I"C:/extsoft/include"     -O2 -Wall  -mfpmath=sse -msse2 -mstackrealign  -c math/Math.cpp -o math/Math.o
In file included from C:/Users/biocbuild/bbs-3.13-bioc/R/library/BH/include/boost/mpl/aux_/na_assert.hpp:23,
                 from C:/Users/biocbuild/bbs-3.13-bioc/R/library/BH/include/boost/mpl/arg.hpp:25,
                 from C:/Users/biocbuild/bbs-3.13-bioc/R/library/BH/include/boost/mpl/placeholders.hpp:24,
                 from C:/Users/biocbuild/bbs-3.13-bioc/R/library/BH/include/boost/mpl/apply.hpp:24,
                 from C:/Users/biocbuild/bbs-3.13-bioc/R/library/BH/include/boost/mpl/aux_/iter_apply.hpp:17,
                 from C:/Users/biocbuild/bbs-3.13-bioc/R/library/BH/include/boost/mpl/aux_/find_if_pred.hpp:14,
                 from C:/Users/biocbuild/bbs-3.13-bioc/R/library/BH/include/boost/mpl/find_if.hpp:17,
                 from C:/Users/biocbuild/bbs-3.13-bioc/R/library/BH/include/boost/mpl/find.hpp:17,
                 from C:/Users/biocbuild/bbs-3.13-bioc/R/library/BH/include/boost/mpl/aux_/contains_impl.hpp:20,
                 from C:/Users/biocbuild/bbs-3.13-bioc/R/library/BH/include/boost/mpl/contains.hpp:20,
                 from C:/Users/biocbuild/bbs-3.13-bioc/R/library/BH/include/boost/math/policies/policy.hpp:10,
                 from C:/Users/biocbuild/bbs-3.13-bioc/R/library/BH/include/boost/math/constants/constants.hpp:12,
                 from C:/Users/biocbuild/bbs-3.13-bioc/R/library/BH/include/boost/math/distributions/exponential.hpp:10,
                 from math/Math.cpp:4:
C:/Users/biocbuild/bbs-3.13-bioc/R/library/BH/include/boost/mpl/assert.hpp:194:21: warning: unnecessary parentheses in declaration of 'assert_arg' [-Wparentheses]
 failed ************ (Pred::************
                     ^
C:/Users/biocbuild/bbs-3.13-bioc/R/library/BH/include/boost/mpl/assert.hpp:199:21: warning: unnecessary parentheses in declaration of 'assert_not_arg' [-Wparentheses]
 failed ************ (boost::mpl::not_<Pred>::************
                     ^
"C:/rtools40/mingw64/bin/"g++ -std=gnu++11  -I"C:/Users/BIOCBU~1/BBS-3~1.13-/R/include" -DNDEBUG -DBOOST_MATH_PROMOTE_DOUBLE_POLICY=0 -D__GAPS_R_BUILD__ -Iinclude -DGAPS_DISABLE_CHECKPOINTS -I'C:/Users/biocbuild/bbs-3.13-bioc/R/library/Rcpp/include' -I'C:/Users/biocbuild/bbs-3.13-bioc/R/library/BH/include'   -I"C:/extsoft/include"     -O2 -Wall  -mfpmath=sse -msse2 -mstackrealign  -c math/MatrixMath.cpp -o math/MatrixMath.o
"C:/rtools40/mingw64/bin/"g++ -std=gnu++11  -I"C:/Users/BIOCBU~1/BBS-3~1.13-/R/include" -DNDEBUG -DBOOST_MATH_PROMOTE_DOUBLE_POLICY=0 -D__GAPS_R_BUILD__ -Iinclude -DGAPS_DISABLE_CHECKPOINTS -I'C:/Users/biocbuild/bbs-3.13-bioc/R/library/Rcpp/include' -I'C:/Users/biocbuild/bbs-3.13-bioc/R/library/BH/include'   -I"C:/extsoft/include"     -O2 -Wall  -mfpmath=sse -msse2 -mstackrealign  -c math/Random.cpp -o math/Random.o
"C:/rtools40/mingw64/bin/"g++ -std=gnu++11  -I"C:/Users/BIOCBU~1/BBS-3~1.13-/R/include" -DNDEBUG -DBOOST_MATH_PROMOTE_DOUBLE_POLICY=0 -D__GAPS_R_BUILD__ -Iinclude -DGAPS_DISABLE_CHECKPOINTS -I'C:/Users/biocbuild/bbs-3.13-bioc/R/library/Rcpp/include' -I'C:/Users/biocbuild/bbs-3.13-bioc/R/library/BH/include'   -I"C:/extsoft/include"     -O2 -Wall  -mfpmath=sse -msse2 -mstackrealign  -c math/VectorMath.cpp -o math/VectorMath.o
C:/rtools40/mingw64/bin/g++ -std=gnu++11 -shared -s -static-libgcc -o CoGAPS.dll tmp.def Cogaps.o GapsParameters.o GapsResult.o GapsRunner.o GapsStatistics.o RcppExports.o test-runner.o atomic/Atom.o atomic/ConcurrentAtom.o atomic/AtomicDomain.o atomic/ConcurrentAtomicDomain.o atomic/ProposalQueue.o data_structures/HashSets.o data_structures/HybridMatrix.o data_structures/HybridVector.o data_structures/Matrix.o data_structures/SparseIterator.o data_structures/SparseMatrix.o data_structures/SparseVector.o data_structures/Vector.o file_parser/CharacterDelimitedParser.o file_parser/FileParser.o file_parser/MatrixElement.o file_parser/MtxParser.o gibbs_sampler/AlphaParameters.o gibbs_sampler/DenseNormalModel.o gibbs_sampler/SparseNormalModel.o math/Math.o math/MatrixMath.o math/Random.o math/VectorMath.o -LC:/extsoft/lib/x64 -LC:/extsoft/lib -LC:/Users/BIOCBU~1/BBS-3~1.13-/R/bin/x64 -lR
installing to C:/Users/biocbuild/bbs-3.13-bioc/meat/CoGAPS.buildbin-libdir/CoGAPS/libs/x64
** testing if installed package can be loaded
* MD5 sums
packaged installation of 'CoGAPS' as CoGAPS_3.12.0.zip
* DONE (CoGAPS)
* installing to library 'C:/Users/biocbuild/bbs-3.13-bioc/R/library'
package 'CoGAPS' successfully unpacked and MD5 sums checked

Tests output

CoGAPS.Rcheck/tests_i386/testthat.Rout


R version 4.1.1 (2021-08-10) -- "Kick Things"
Copyright (C) 2021 The R Foundation for Statistical Computing
Platform: i386-w64-mingw32/i386 (32-bit)

R is free software and comes with ABSOLUTELY NO WARRANTY.
You are welcome to redistribute it under certain conditions.
Type 'license()' or 'licence()' for distribution details.

R is a collaborative project with many contributors.
Type 'contributors()' for more information and
'citation()' on how to cite R or R packages in publications.

Type 'demo()' for some demos, 'help()' for on-line help, or
'help.start()' for an HTML browser interface to help.
Type 'q()' to quit R.

> library(testthat)
> library(CoGAPS)
> 
> test_check("CoGAPS")

This is CoGAPS version 3.12.0 
Running Standard CoGAPS on C:/Users/biocbuild/bbs-3.13-bioc/R/library/CoGAPS/extdata/GIST.mtx (1363 genes and 9 samples)

This is CoGAPS version 3.12.0 
Running Standard CoGAPS on C:/Users/biocbuild/bbs-3.13-bioc/R/library/CoGAPS/extdata/GIST.mtx (1363 genes and 9 samples)

This is CoGAPS version 3.12.0 
Running genome-wide CoGAPS on C:/Users/biocbuild/bbs-3.13-bioc/R/library/CoGAPS/extdata/GIST.mtx (1363 genes and 9 samples)
    worker 1 is starting!
    worker 1 is finished! Time: 00:00:00
    worker 2 is starting!
    worker 2 is finished! Time: 00:00:00
    worker 3 is starting!
    worker 3 is finished! Time: 00:00:00
    worker 4 is starting!
    worker 4 is finished! Time: 00:00:00
    worker 1 is starting!
    worker 1 is finished! Time: 00:00:00
    worker 2 is starting!
    worker 2 is finished! Time: 00:00:00
    worker 3 is starting!
    worker 3 is finished! Time: 00:00:00
    worker 4 is starting!
    worker 4 is finished! Time: 00:00:00

This is CoGAPS version 3.12.0 
Running genome-wide CoGAPS on C:/Users/biocbuild/bbs-3.13-bioc/R/library/CoGAPS/extdata/GIST.mtx (1363 genes and 9 samples)
    worker 1 is starting!
    worker 1 is finished! Time: 00:00:00
    worker 2 is starting!
    worker 2 is finished! Time: 00:00:00
    worker 3 is starting!
    worker 3 is finished! Time: 00:00:00
    worker 4 is starting!
    worker 4 is finished! Time: 00:00:00
    worker 1 is starting!
    worker 1 is finished! Time: 00:00:00
    worker 2 is starting!
    worker 2 is finished! Time: 00:00:00
    worker 3 is starting!
    worker 3 is finished! Time: 00:00:00
    worker 4 is starting!
    worker 4 is finished! Time: 00:00:00

This is CoGAPS version 3.12.0 
Running Standard CoGAPS on C:/Users/biocbuild/bbs-3.13-bioc/R/library/CoGAPS/extdata/GIST.mtx (1363 genes and 9 samples)

This is CoGAPS version 3.12.0 
Running Standard CoGAPS on C:/Users/biocbuild/bbs-3.13-bioc/R/library/CoGAPS/extdata/GIST.mtx (1363 genes and 9 samples)

This is CoGAPS version 3.12.0 
Running Standard CoGAPS on C:/Users/biocbuild/bbs-3.13-bioc/R/library/CoGAPS/extdata/GIST.mtx (1363 genes and 9 samples)

This is CoGAPS version 3.12.0 
Running Standard CoGAPS on C:/Users/biocbuild/bbs-3.13-bioc/R/library/CoGAPS/extdata/GIST.mtx (1363 genes and 9 samples)

This is CoGAPS version 3.12.0 
Running Standard CoGAPS on C:/Users/biocbuild/bbs-3.13-bioc/R/library/CoGAPS/extdata/GIST.mtx (1363 genes and 9 samples)

This is CoGAPS version 3.12.0 
Running Standard CoGAPS on C:/Users/biocbuild/bbs-3.13-bioc/R/library/CoGAPS/extdata/GIST.mtx (1363 genes and 9 samples)

This is CoGAPS version 3.12.0 
Running Standard CoGAPS on GIST.matrix (1363 genes and 9 samples)
    worker 1 is starting!
    worker 1 is finished! Time: 00:00:00

This is CoGAPS version 3.12.0 
Running genome-wide CoGAPS on C:/Users/biocbuild/bbs-3.13-bioc/R/library/CoGAPS/extdata/GIST.mtx (1363 genes and 9 samples)
    worker 1 is starting!
    worker 1 is finished! Time: 00:00:00
    worker 2 is starting!
    worker 2 is finished! Time: 00:00:00
    worker 3 is starting!
    worker 3 is finished! Time: 00:00:00
    worker 4 is starting!
    worker 4 is finished! Time: 00:00:00
    worker 1 is starting!
    worker 1 is finished! Time: 00:00:00
    worker 2 is starting!
    worker 2 is finished! Time: 00:00:00
    worker 3 is starting!
    worker 3 is finished! Time: 00:00:00
    worker 4 is starting!
    worker 4 is finished! Time: 00:00:00

This is CoGAPS version 3.12.0 
Running single-cell CoGAPS on C:/Users/biocbuild/bbs-3.13-bioc/R/library/CoGAPS/extdata/GIST.mtx (9 genes and 1363 samples)
    worker 1 is starting!
    worker 1 is finished! Time: 00:00:00
    worker 2 is starting!
    worker 2 is finished! Time: 00:00:00
    worker 3 is starting!
    worker 3 is finished! Time: 00:00:00
    worker 4 is starting!
    worker 4 is finished! Time: 00:00:00
    worker 1 is starting!
    worker 1 is finished! Time: 00:00:00
    worker 2 is starting!
    worker 2 is finished! Time: 00:00:00
    worker 3 is starting!
    worker 3 is finished! Time: 00:00:00
    worker 4 is starting!
    worker 4 is finished! Time: 00:00:00

This is CoGAPS version 3.12.0 
Running genome-wide CoGAPS on C:/Users/biocbuild/bbs-3.13-bioc/R/library/CoGAPS/extdata/GIST.mtx (1363 genes and 9 samples)
    worker 1 is starting!
    worker 1 is finished! Time: 00:00:00
    worker 2 is starting!
    worker 2 is finished! Time: 00:00:00
    worker 3 is starting!
    worker 3 is finished! Time: 00:00:00
    worker 4 is starting!
    worker 4 is finished! Time: 00:00:00
    worker 1 is starting!
    worker 1 is finished! Time: 00:00:00
    worker 2 is starting!
    worker 2 is finished! Time: 00:00:00
    worker 3 is starting!
    worker 3 is finished! Time: 00:00:00
    worker 4 is starting!
    worker 4 is finished! Time: 00:00:00

This is CoGAPS version 3.12.0 
Running single-cell CoGAPS on C:/Users/biocbuild/bbs-3.13-bioc/R/library/CoGAPS/extdata/GIST.mtx (9 genes and 1363 samples)
    worker 1 is starting!
    worker 1 is finished! Time: 00:00:00
    worker 2 is starting!
    worker 2 is finished! Time: 00:00:00
    worker 3 is starting!
    worker 3 is finished! Time: 00:00:00
    worker 4 is starting!
    worker 4 is finished! Time: 00:00:00
    worker 1 is starting!
    worker 1 is finished! Time: 00:00:00
    worker 2 is starting!
    worker 2 is finished! Time: 00:00:00
    worker 3 is starting!
    worker 3 is finished! Time: 00:00:00
    worker 4 is starting!
    worker 4 is finished! Time: 00:00:00

This is CoGAPS version 3.12.0 
Running Standard CoGAPS on testDataFrame (1363 genes and 9 samples)

This is CoGAPS version 3.12.0 
Running Standard CoGAPS on testMatrix (1363 genes and 9 samples)

This is CoGAPS version 3.12.0 
Running Standard CoGAPS on C:/Users/biocbuild/bbs-3.13-bioc/R/library/CoGAPS/extdata/GIST.csv (1363 genes and 9 samples)

This is CoGAPS version 3.12.0 
Running Standard CoGAPS on C:/Users/biocbuild/bbs-3.13-bioc/R/library/CoGAPS/extdata/GIST.tsv (1363 genes and 9 samples)

This is CoGAPS version 3.12.0 
Running Standard CoGAPS on C:/Users/biocbuild/bbs-3.13-bioc/R/library/CoGAPS/extdata/GIST.mtx (1363 genes and 9 samples)

This is CoGAPS version 3.12.0 
Running Standard CoGAPS on C:/Users/biocbuild/bbs-3.13-bioc/R/library/CoGAPS/extdata/GIST.gct (1363 genes and 9 samples)

This is CoGAPS version 3.12.0 
Running Standard CoGAPS on testDataFrame (9 genes and 1363 samples)

This is CoGAPS version 3.12.0 
Running Standard CoGAPS on testMatrix (9 genes and 1363 samples)

This is CoGAPS version 3.12.0 
Running Standard CoGAPS on C:/Users/biocbuild/bbs-3.13-bioc/R/library/CoGAPS/extdata/GIST.csv (9 genes and 1363 samples)

This is CoGAPS version 3.12.0 
Running Standard CoGAPS on C:/Users/biocbuild/bbs-3.13-bioc/R/library/CoGAPS/extdata/GIST.tsv (9 genes and 1363 samples)

This is CoGAPS version 3.12.0 
Running Standard CoGAPS on C:/Users/biocbuild/bbs-3.13-bioc/R/library/CoGAPS/extdata/GIST.mtx (9 genes and 1363 samples)

This is CoGAPS version 3.12.0 
Running Standard CoGAPS on C:/Users/biocbuild/bbs-3.13-bioc/R/library/CoGAPS/extdata/GIST.gct (9 genes and 1363 samples)

This is CoGAPS version 3.12.0 
Running Standard CoGAPS on testDataFrame (1363 genes and 9 samples)

This is CoGAPS version 3.12.0 
Running Standard CoGAPS on testDataFrame (1363 genes and 9 samples)

This is CoGAPS version 3.12.0 
Running Standard CoGAPS on testDataFrame (1363 genes and 9 samples)

This is CoGAPS version 3.12.0 
Running Standard CoGAPS on testDataFrame (1363 genes and 9 samples)

This is CoGAPS version 3.12.0 
Running genome-wide CoGAPS on C:/Users/biocbuild/bbs-3.13-bioc/R/library/CoGAPS/extdata/GIST.tsv (1363 genes and 9 samples)
    worker 1 is starting!
    worker 1 is finished! Time: 00:00:00
    worker 2 is starting!
    worker 2 is finished! Time: 00:00:00
    worker 3 is starting!
    worker 3 is finished! Time: 00:00:00
    worker 4 is starting!
    worker 4 is finished! Time: 00:00:00
    worker 1 is starting!
    worker 1 is finished! Time: 00:00:00
    worker 2 is starting!
    worker 2 is finished! Time: 00:00:00
    worker 3 is starting!
    worker 3 is finished! Time: 00:00:00
    worker 4 is starting!
    worker 4 is finished! Time: 00:00:00

This is CoGAPS version 3.12.0 
Running genome-wide CoGAPS on C:/Users/biocbuild/bbs-3.13-bioc/R/library/CoGAPS/extdata/GIST.tsv (1363 genes and 9 samples)
    worker 1 is starting!
    worker 1 is finished! Time: 00:00:00
    worker 2 is starting!
    worker 2 is finished! Time: 00:00:00
    worker 3 is starting!
    worker 3 is finished! Time: 00:00:00
    worker 4 is starting!
    worker 4 is finished! Time: 00:00:00
    worker 1 is starting!
    worker 1 is finished! Time: 00:00:00
    worker 2 is starting!
    worker 2 is finished! Time: 00:00:00
    worker 3 is starting!
    worker 3 is finished! Time: 00:00:00
    worker 4 is starting!
    worker 4 is finished! Time: 00:00:00

This is CoGAPS version 3.12.0 
Running single-cell CoGAPS on C:/Users/biocbuild/bbs-3.13-bioc/R/library/CoGAPS/extdata/GIST.csv (9 genes and 1363 samples)
    worker 1 is starting!
    worker 1 is finished! Time: 00:00:00
    worker 2 is starting!
    worker 2 is finished! Time: 00:00:00
    worker 3 is starting!
    worker 3 is finished! Time: 00:00:00
    worker 4 is starting!
    worker 4 is finished! Time: 00:00:00
    worker 1 is starting!
    worker 1 is finished! Time: 00:00:00
    worker 2 is starting!
    worker 2 is finished! Time: 00:00:00
    worker 3 is starting!
    worker 3 is finished! Time: 00:00:00
    worker 4 is starting!
    worker 4 is finished! Time: 00:00:00

This is CoGAPS version 3.12.0 
Running single-cell CoGAPS on C:/Users/biocbuild/bbs-3.13-bioc/R/library/CoGAPS/extdata/GIST.mtx (9 genes and 1363 samples)
    worker 1 is starting!
    worker 1 is finished! Time: 00:00:00
    worker 2 is starting!
    worker 2 is finished! Time: 00:00:00
    worker 3 is starting!
    worker 3 is finished! Time: 00:00:00
    worker 4 is starting!
    worker 4 is finished! Time: 00:00:00
    worker 1 is starting!
    worker 1 is finished! Time: 00:00:00
    worker 2 is starting!
    worker 2 is finished! Time: 00:00:00
    worker 3 is starting!
    worker 3 is finished! Time: 00:00:00
    worker 4 is starting!
    worker 4 is finished! Time: 00:00:00

This is CoGAPS version 3.12.0 
Running Standard CoGAPS on testMatrix (1363 genes and 9 samples)

This is CoGAPS version 3.12.0 
Running Standard CoGAPS on C:/Users/biocbuild/bbs-3.13-bioc/R/library/CoGAPS/extdata/GIST.csv (1363 genes and 9 samples)

This is CoGAPS version 3.12.0 
Running Standard CoGAPS on C:/Users/biocbuild/bbs-3.13-bioc/R/library/CoGAPS/extdata/GIST.csv (1363 genes and 9 samples)

This is CoGAPS version 3.12.0 
Running Standard CoGAPS on C:/Users/biocbuild/bbs-3.13-bioc/R/library/CoGAPS/extdata/GIST.csv (1363 genes and 9 samples)

This is CoGAPS version 3.12.0 
Running genome-wide CoGAPS on C:/Users/biocbuild/bbs-3.13-bioc/R/library/CoGAPS/extdata/GIST.mtx (1363 genes and 9 samples) with parameters:

-- Standard Parameters --
nPatterns            3 
nIterations          175 
seed                 42 
sparseOptimization   TRUE 
distributed          genome-wide 

-- Sparsity Parameters --
alpha          0.01 
maxGibbsMass   100 

-- Distributed CoGAPS Parameters -- 
nSets          5 
cut            4 
minNS          3 
maxNS          8 

Creating subsets...using provided indexed subsets
set sizes (min, mean, max): (200, 200, 200)
Running Final Stage...

Data Model: Sparse, Normal
Sampler Type: Sequential
Loading Data...Done! (00:00:03)
    worker 1 is starting!
-- Equilibration Phase --
-- Sampling Phase --
    worker 1 is finished! Time: 00:00:00
    worker 2 is starting!
    worker 2 is finished! Time: 00:00:00
    worker 3 is starting!
    worker 3 is finished! Time: 00:00:00
    worker 4 is starting!
    worker 4 is finished! Time: 00:00:00
    worker 5 is starting!
    worker 5 is finished! Time: 00:00:00

This is CoGAPS version 3.12.0 
Running genome-wide CoGAPS on C:/Users/biocbuild/bbs-3.13-bioc/R/library/CoGAPS/extdata/GIST.mtx (1363 genes and 9 samples) with parameters:

-- Standard Parameters --
nPatterns            3 
nIterations          175 
seed                 42 
sparseOptimization   TRUE 
distributed          genome-wide 

-- Sparsity Parameters --
alpha          0.01 
maxGibbsMass   100 

-- Distributed CoGAPS Parameters -- 
nSets          5 
cut            4 
minNS          3 
maxNS          8 

Creating subsets...using provided indexed subsets
set sizes (min, mean, max): (200, 200, 200)
Running Final Stage...

Data Model: Sparse, Normal
Sampler Type: Sequential
Loading Data...Done! (00:00:03)
    worker 1 is starting!
-- Equilibration Phase --
-- Sampling Phase --
    worker 1 is finished! Time: 00:00:00
    worker 2 is starting!
    worker 2 is finished! Time: 00:00:00
    worker 3 is starting!
    worker 3 is finished! Time: 00:00:00
    worker 4 is starting!
    worker 4 is finished! Time: 00:00:00
    worker 5 is starting!
    worker 5 is finished! Time: 00:00:00
== Skipped tests ===============================================================
* empty test (3)

[ FAIL 0 | WARN 19 | SKIP 3 | PASS 58 ]
> 
> proc.time()
   user  system elapsed 
 276.51  129.45  406.10 

CoGAPS.Rcheck/tests_x64/testthat.Rout


R version 4.1.1 (2021-08-10) -- "Kick Things"
Copyright (C) 2021 The R Foundation for Statistical Computing
Platform: x86_64-w64-mingw32/x64 (64-bit)

R is free software and comes with ABSOLUTELY NO WARRANTY.
You are welcome to redistribute it under certain conditions.
Type 'license()' or 'licence()' for distribution details.

R is a collaborative project with many contributors.
Type 'contributors()' for more information and
'citation()' on how to cite R or R packages in publications.

Type 'demo()' for some demos, 'help()' for on-line help, or
'help.start()' for an HTML browser interface to help.
Type 'q()' to quit R.

> library(testthat)
> library(CoGAPS)
> 
> test_check("CoGAPS")

This is CoGAPS version 3.12.0 
Running Standard CoGAPS on C:/Users/biocbuild/bbs-3.13-bioc/R/library/CoGAPS/extdata/GIST.mtx (1363 genes and 9 samples)

This is CoGAPS version 3.12.0 
Running Standard CoGAPS on C:/Users/biocbuild/bbs-3.13-bioc/R/library/CoGAPS/extdata/GIST.mtx (1363 genes and 9 samples)

This is CoGAPS version 3.12.0 
Running genome-wide CoGAPS on C:/Users/biocbuild/bbs-3.13-bioc/R/library/CoGAPS/extdata/GIST.mtx (1363 genes and 9 samples)
    worker 1 is starting!
    worker 1 is finished! Time: 00:00:00
    worker 2 is starting!
    worker 2 is finished! Time: 00:00:00
    worker 3 is starting!
    worker 3 is finished! Time: 00:00:00
    worker 4 is starting!
    worker 4 is finished! Time: 00:00:00
    worker 1 is starting!
    worker 1 is finished! Time: 00:00:00
    worker 2 is starting!
    worker 2 is finished! Time: 00:00:00
    worker 3 is starting!
    worker 3 is finished! Time: 00:00:00
    worker 4 is starting!
    worker 4 is finished! Time: 00:00:00

This is CoGAPS version 3.12.0 
Running genome-wide CoGAPS on C:/Users/biocbuild/bbs-3.13-bioc/R/library/CoGAPS/extdata/GIST.mtx (1363 genes and 9 samples)
    worker 1 is starting!
    worker 1 is finished! Time: 00:00:00
    worker 2 is starting!
    worker 2 is finished! Time: 00:00:00
    worker 3 is starting!
    worker 3 is finished! Time: 00:00:00
    worker 4 is starting!
    worker 4 is finished! Time: 00:00:00
    worker 1 is starting!
    worker 1 is finished! Time: 00:00:00
    worker 2 is starting!
    worker 2 is finished! Time: 00:00:00
    worker 3 is starting!
    worker 3 is finished! Time: 00:00:00
    worker 4 is starting!
    worker 4 is finished! Time: 00:00:00

This is CoGAPS version 3.12.0 
Running Standard CoGAPS on C:/Users/biocbuild/bbs-3.13-bioc/R/library/CoGAPS/extdata/GIST.mtx (1363 genes and 9 samples)

This is CoGAPS version 3.12.0 
Running Standard CoGAPS on C:/Users/biocbuild/bbs-3.13-bioc/R/library/CoGAPS/extdata/GIST.mtx (1363 genes and 9 samples)

This is CoGAPS version 3.12.0 
Running Standard CoGAPS on C:/Users/biocbuild/bbs-3.13-bioc/R/library/CoGAPS/extdata/GIST.mtx (1363 genes and 9 samples)

This is CoGAPS version 3.12.0 
Running Standard CoGAPS on C:/Users/biocbuild/bbs-3.13-bioc/R/library/CoGAPS/extdata/GIST.mtx (1363 genes and 9 samples)

This is CoGAPS version 3.12.0 
Running Standard CoGAPS on C:/Users/biocbuild/bbs-3.13-bioc/R/library/CoGAPS/extdata/GIST.mtx (1363 genes and 9 samples)

This is CoGAPS version 3.12.0 
Running Standard CoGAPS on C:/Users/biocbuild/bbs-3.13-bioc/R/library/CoGAPS/extdata/GIST.mtx (1363 genes and 9 samples)

This is CoGAPS version 3.12.0 
Running Standard CoGAPS on GIST.matrix (1363 genes and 9 samples)
    worker 1 is starting!
    worker 1 is finished! Time: 00:00:00

This is CoGAPS version 3.12.0 
Running genome-wide CoGAPS on C:/Users/biocbuild/bbs-3.13-bioc/R/library/CoGAPS/extdata/GIST.mtx (1363 genes and 9 samples)
    worker 1 is starting!
    worker 1 is finished! Time: 00:00:00
    worker 2 is starting!
    worker 2 is finished! Time: 00:00:00
    worker 3 is starting!
    worker 3 is finished! Time: 00:00:00
    worker 4 is starting!
    worker 4 is finished! Time: 00:00:00
    worker 1 is starting!
    worker 1 is finished! Time: 00:00:00
    worker 2 is starting!
    worker 2 is finished! Time: 00:00:00
    worker 3 is starting!
    worker 3 is finished! Time: 00:00:00
    worker 4 is starting!
    worker 4 is finished! Time: 00:00:00

This is CoGAPS version 3.12.0 
Running single-cell CoGAPS on C:/Users/biocbuild/bbs-3.13-bioc/R/library/CoGAPS/extdata/GIST.mtx (9 genes and 1363 samples)
    worker 1 is starting!
    worker 1 is finished! Time: 00:00:00
    worker 2 is starting!
    worker 2 is finished! Time: 00:00:00
    worker 3 is starting!
    worker 3 is finished! Time: 00:00:00
    worker 4 is starting!
    worker 4 is finished! Time: 00:00:00
    worker 1 is starting!
    worker 1 is finished! Time: 00:00:00
    worker 2 is starting!
    worker 2 is finished! Time: 00:00:00
    worker 3 is starting!
    worker 3 is finished! Time: 00:00:00
    worker 4 is starting!
    worker 4 is finished! Time: 00:00:00

This is CoGAPS version 3.12.0 
Running genome-wide CoGAPS on C:/Users/biocbuild/bbs-3.13-bioc/R/library/CoGAPS/extdata/GIST.mtx (1363 genes and 9 samples)
    worker 1 is starting!
    worker 1 is finished! Time: 00:00:00
    worker 2 is starting!
    worker 2 is finished! Time: 00:00:00
    worker 3 is starting!
    worker 3 is finished! Time: 00:00:00
    worker 4 is starting!
    worker 4 is finished! Time: 00:00:00
    worker 1 is starting!
    worker 1 is finished! Time: 00:00:00
    worker 2 is starting!
    worker 2 is finished! Time: 00:00:00
    worker 3 is starting!
    worker 3 is finished! Time: 00:00:00
    worker 4 is starting!
    worker 4 is finished! Time: 00:00:00

This is CoGAPS version 3.12.0 
Running single-cell CoGAPS on C:/Users/biocbuild/bbs-3.13-bioc/R/library/CoGAPS/extdata/GIST.mtx (9 genes and 1363 samples)
    worker 1 is starting!
    worker 1 is finished! Time: 00:00:00
    worker 2 is starting!
    worker 2 is finished! Time: 00:00:00
    worker 3 is starting!
    worker 3 is finished! Time: 00:00:00
    worker 4 is starting!
    worker 4 is finished! Time: 00:00:00
    worker 1 is starting!
    worker 1 is finished! Time: 00:00:00
    worker 2 is starting!
    worker 2 is finished! Time: 00:00:00
    worker 3 is starting!
    worker 3 is finished! Time: 00:00:00
    worker 4 is starting!
    worker 4 is finished! Time: 00:00:00

This is CoGAPS version 3.12.0 
Running Standard CoGAPS on testDataFrame (1363 genes and 9 samples)

This is CoGAPS version 3.12.0 
Running Standard CoGAPS on testMatrix (1363 genes and 9 samples)

This is CoGAPS version 3.12.0 
Running Standard CoGAPS on C:/Users/biocbuild/bbs-3.13-bioc/R/library/CoGAPS/extdata/GIST.csv (1363 genes and 9 samples)

This is CoGAPS version 3.12.0 
Running Standard CoGAPS on C:/Users/biocbuild/bbs-3.13-bioc/R/library/CoGAPS/extdata/GIST.tsv (1363 genes and 9 samples)

This is CoGAPS version 3.12.0 
Running Standard CoGAPS on C:/Users/biocbuild/bbs-3.13-bioc/R/library/CoGAPS/extdata/GIST.mtx (1363 genes and 9 samples)

This is CoGAPS version 3.12.0 
Running Standard CoGAPS on C:/Users/biocbuild/bbs-3.13-bioc/R/library/CoGAPS/extdata/GIST.gct (1363 genes and 9 samples)

This is CoGAPS version 3.12.0 
Running Standard CoGAPS on testDataFrame (9 genes and 1363 samples)

This is CoGAPS version 3.12.0 
Running Standard CoGAPS on testMatrix (9 genes and 1363 samples)

This is CoGAPS version 3.12.0 
Running Standard CoGAPS on C:/Users/biocbuild/bbs-3.13-bioc/R/library/CoGAPS/extdata/GIST.csv (9 genes and 1363 samples)

This is CoGAPS version 3.12.0 
Running Standard CoGAPS on C:/Users/biocbuild/bbs-3.13-bioc/R/library/CoGAPS/extdata/GIST.tsv (9 genes and 1363 samples)

This is CoGAPS version 3.12.0 
Running Standard CoGAPS on C:/Users/biocbuild/bbs-3.13-bioc/R/library/CoGAPS/extdata/GIST.mtx (9 genes and 1363 samples)

This is CoGAPS version 3.12.0 
Running Standard CoGAPS on C:/Users/biocbuild/bbs-3.13-bioc/R/library/CoGAPS/extdata/GIST.gct (9 genes and 1363 samples)

This is CoGAPS version 3.12.0 
Running Standard CoGAPS on testDataFrame (1363 genes and 9 samples)

This is CoGAPS version 3.12.0 
Running Standard CoGAPS on testDataFrame (1363 genes and 9 samples)

This is CoGAPS version 3.12.0 
Running Standard CoGAPS on testDataFrame (1363 genes and 9 samples)

This is CoGAPS version 3.12.0 
Running Standard CoGAPS on testDataFrame (1363 genes and 9 samples)

This is CoGAPS version 3.12.0 
Running genome-wide CoGAPS on C:/Users/biocbuild/bbs-3.13-bioc/R/library/CoGAPS/extdata/GIST.tsv (1363 genes and 9 samples)
    worker 1 is starting!
    worker 1 is finished! Time: 00:00:00
    worker 2 is starting!
    worker 2 is finished! Time: 00:00:00
    worker 3 is starting!
    worker 3 is finished! Time: 00:00:00
    worker 4 is starting!
    worker 4 is finished! Time: 00:00:00
    worker 1 is starting!
    worker 1 is finished! Time: 00:00:00
    worker 2 is starting!
    worker 2 is finished! Time: 00:00:00
    worker 3 is starting!
    worker 3 is finished! Time: 00:00:00
    worker 4 is starting!
    worker 4 is finished! Time: 00:00:00

This is CoGAPS version 3.12.0 
Running genome-wide CoGAPS on C:/Users/biocbuild/bbs-3.13-bioc/R/library/CoGAPS/extdata/GIST.tsv (1363 genes and 9 samples)
    worker 1 is starting!
    worker 1 is finished! Time: 00:00:00
    worker 2 is starting!
    worker 2 is finished! Time: 00:00:00
    worker 3 is starting!
    worker 3 is finished! Time: 00:00:00
    worker 4 is starting!
    worker 4 is finished! Time: 00:00:00
    worker 1 is starting!
    worker 1 is finished! Time: 00:00:00
    worker 2 is starting!
    worker 2 is finished! Time: 00:00:00
    worker 3 is starting!
    worker 3 is finished! Time: 00:00:00
    worker 4 is starting!
    worker 4 is finished! Time: 00:00:00

This is CoGAPS version 3.12.0 
Running single-cell CoGAPS on C:/Users/biocbuild/bbs-3.13-bioc/R/library/CoGAPS/extdata/GIST.csv (9 genes and 1363 samples)
    worker 1 is starting!
    worker 1 is finished! Time: 00:00:00
    worker 2 is starting!
    worker 2 is finished! Time: 00:00:00
    worker 3 is starting!
    worker 3 is finished! Time: 00:00:00
    worker 4 is starting!
    worker 4 is finished! Time: 00:00:00
    worker 1 is starting!
    worker 1 is finished! Time: 00:00:00
    worker 2 is starting!
    worker 2 is finished! Time: 00:00:00
    worker 3 is starting!
    worker 3 is finished! Time: 00:00:00
    worker 4 is starting!
    worker 4 is finished! Time: 00:00:00

This is CoGAPS version 3.12.0 
Running single-cell CoGAPS on C:/Users/biocbuild/bbs-3.13-bioc/R/library/CoGAPS/extdata/GIST.mtx (9 genes and 1363 samples)
    worker 1 is starting!
    worker 1 is finished! Time: 00:00:00
    worker 2 is starting!
    worker 2 is finished! Time: 00:00:00
    worker 3 is starting!
    worker 3 is finished! Time: 00:00:00
    worker 4 is starting!
    worker 4 is finished! Time: 00:00:00
    worker 1 is starting!
    worker 1 is finished! Time: 00:00:00
    worker 2 is starting!
    worker 2 is finished! Time: 00:00:00
    worker 3 is starting!
    worker 3 is finished! Time: 00:00:00
    worker 4 is starting!
    worker 4 is finished! Time: 00:00:00

This is CoGAPS version 3.12.0 
Running Standard CoGAPS on testMatrix (1363 genes and 9 samples)

This is CoGAPS version 3.12.0 
Running Standard CoGAPS on C:/Users/biocbuild/bbs-3.13-bioc/R/library/CoGAPS/extdata/GIST.csv (1363 genes and 9 samples)

This is CoGAPS version 3.12.0 
Running Standard CoGAPS on C:/Users/biocbuild/bbs-3.13-bioc/R/library/CoGAPS/extdata/GIST.csv (1363 genes and 9 samples)

This is CoGAPS version 3.12.0 
Running Standard CoGAPS on C:/Users/biocbuild/bbs-3.13-bioc/R/library/CoGAPS/extdata/GIST.csv (1363 genes and 9 samples)

This is CoGAPS version 3.12.0 
Running genome-wide CoGAPS on C:/Users/biocbuild/bbs-3.13-bioc/R/library/CoGAPS/extdata/GIST.mtx (1363 genes and 9 samples) with parameters:

-- Standard Parameters --
nPatterns            3 
nIterations          175 
seed                 42 
sparseOptimization   TRUE 
distributed          genome-wide 

-- Sparsity Parameters --
alpha          0.01 
maxGibbsMass   100 

-- Distributed CoGAPS Parameters -- 
nSets          5 
cut            4 
minNS          3 
maxNS          8 

Creating subsets...using provided indexed subsets
set sizes (min, mean, max): (200, 200, 200)
Running Final Stage...

Data Model: Sparse, Normal
Sampler Type: Sequential
Loading Data...Done! (00:00:02)
    worker 1 is starting!
-- Equilibration Phase --
-- Sampling Phase --
    worker 1 is finished! Time: 00:00:00
    worker 2 is starting!
    worker 2 is finished! Time: 00:00:00
    worker 3 is starting!
    worker 3 is finished! Time: 00:00:00
    worker 4 is starting!
    worker 4 is finished! Time: 00:00:00
    worker 5 is starting!
    worker 5 is finished! Time: 00:00:00

This is CoGAPS version 3.12.0 
Running genome-wide CoGAPS on C:/Users/biocbuild/bbs-3.13-bioc/R/library/CoGAPS/extdata/GIST.mtx (1363 genes and 9 samples) with parameters:

-- Standard Parameters --
nPatterns            3 
nIterations          175 
seed                 42 
sparseOptimization   TRUE 
distributed          genome-wide 

-- Sparsity Parameters --
alpha          0.01 
maxGibbsMass   100 

-- Distributed CoGAPS Parameters -- 
nSets          5 
cut            4 
minNS          3 
maxNS          8 

Creating subsets...using provided indexed subsets
set sizes (min, mean, max): (200, 200, 200)
Running Final Stage...

Data Model: Sparse, Normal
Sampler Type: Sequential
Loading Data...Done! (00:00:02)
    worker 1 is starting!
-- Equilibration Phase --
-- Sampling Phase --
    worker 1 is finished! Time: 00:00:00
    worker 2 is starting!
    worker 2 is finished! Time: 00:00:00
    worker 3 is starting!
    worker 3 is finished! Time: 00:00:00
    worker 4 is starting!
    worker 4 is finished! Time: 00:00:00
    worker 5 is starting!
    worker 5 is finished! Time: 00:00:00
== Skipped tests ===============================================================
* empty test (3)

[ FAIL 0 | WARN 19 | SKIP 3 | PASS 58 ]
> 
> proc.time()
   user  system elapsed 
 154.40  131.37  285.76 

Example timings

CoGAPS.Rcheck/examples_i386/CoGAPS-Ex.timings

nameusersystemelapsed
CoGAPS2.751.444.61
CogapsParams000
GWCoGAPS000
binaryA-methods0.030.000.03
buildReport000
calcZ-methods0.040.000.03
checkpointsEnabled000
compiledWithOpenMPSupport000
getAmplitudeMatrix-methods0.030.000.03
getClusteredPatterns-methods0.010.010.03
getCorrelationToMeanPattern-methods0.030.020.05
getFeatureLoadings-methods0.030.000.03
getMeanChiSq-methods0.040.000.03
getOriginalParameters-methods0.030.000.03
getParam-methods000
getPatternMatrix-methods0.030.000.03
getRetinaSubset2.060.723.19
getSampleFactors-methods0.080.000.08
getSubsets-methods0.060.000.06
getUnmatchedPatterns-methods0.050.010.06
getVersion-methods0.060.000.07
patternMarkers-methods0.090.020.11
plotResiduals-methods0.040.020.04
reconstructGene-methods0.050.000.05
scCoGAPS000
setAnnotationWeights-methods000
setDistributedParams-methods000
setFixedPatterns-methods0.050.000.04
setParam-methods0.010.000.02

CoGAPS.Rcheck/examples_x64/CoGAPS-Ex.timings

nameusersystemelapsed
CoGAPS1.941.053.07
CogapsParams000
GWCoGAPS000
binaryA-methods0.030.000.03
buildReport000
calcZ-methods0.030.000.03
checkpointsEnabled000
compiledWithOpenMPSupport000
getAmplitudeMatrix-methods0.040.000.03
getClusteredPatterns-methods0.030.000.03
getCorrelationToMeanPattern-methods0.010.000.02
getFeatureLoadings-methods0.030.000.03
getMeanChiSq-methods0.030.000.03
getOriginalParameters-methods0.040.000.03
getParam-methods000
getPatternMatrix-methods0.030.000.03
getRetinaSubset2.010.692.71
getSampleFactors-methods0.020.010.03
getSubsets-methods0.030.000.03
getUnmatchedPatterns-methods0.030.000.03
getVersion-methods0.030.000.03
patternMarkers-methods0.060.000.07
plotResiduals-methods0.020.000.01
reconstructGene-methods0.010.000.01
scCoGAPS000
setAnnotationWeights-methods000
setDistributedParams-methods000
setFixedPatterns-methods0.010.000.01
setParam-methods0.020.000.02