Back to Multiple platform build/check report for BioC 3.13
AB[C]DEFGHIJKLMNOPQRSTUVWXYZ

This page was generated on 2021-09-17 15:06:01 -0400 (Fri, 17 Sep 2021).

BUILD results for CluMSID on tokay2

To the developers/maintainers of the CluMSID package:
- Please allow up to 24 hours (and sometimes 48 hours) for your latest push to git@git.bioconductor.org:packages/CluMSID.git to
reflect on this report. See How and When does the builder pull? When will my changes propagate? here for more information.
- Make sure to use the following settings in order to reproduce any error or warning you see on this page.

raw results

Package 328/2041HostnameOS / ArchINSTALLBUILDCHECKBUILD BIN
CluMSID 1.8.0  (landing page)
Tobias Depke
Snapshot Date: 2021-09-16 04:50:11 -0400 (Thu, 16 Sep 2021)
git_url: https://git.bioconductor.org/packages/CluMSID
git_branch: RELEASE_3_13
git_last_commit: d3ba495
git_last_commit_date: 2021-05-19 12:40:12 -0400 (Wed, 19 May 2021)
nebbiolo1Linux (Ubuntu 20.04.2 LTS) / x86_64  OK    OK    OK  UNNEEDED, same version is already published
tokay2Windows Server 2012 R2 Standard / x64  OK    OK    OK    OK  UNNEEDED, same version is already published
machv2macOS 10.14.6 Mojave / x86_64  OK    OK    OK    OK  UNNEEDED, same version is already published

Summary

Package: CluMSID
Version: 1.8.0
Command: chmod a+r CluMSID -R && C:\Users\biocbuild\bbs-3.13-bioc\R\bin\R.exe CMD build --keep-empty-dirs --no-resave-data CluMSID
StartedAt: 2021-09-16 12:31:02 -0400 (Thu, 16 Sep 2021)
EndedAt: 2021-09-16 12:39:03 -0400 (Thu, 16 Sep 2021)
EllapsedTime: 480.8 seconds
RetCode: 0
Status:   OK  
PackageFile: CluMSID_1.8.0.tar.gz
PackageFileSize: 2.688 MiB

Command output

##############################################################################
##############################################################################
###
### Running command:
###
###   chmod a+r CluMSID -R && C:\Users\biocbuild\bbs-3.13-bioc\R\bin\R.exe CMD build --keep-empty-dirs --no-resave-data CluMSID
###
##############################################################################
##############################################################################


* checking for file 'CluMSID/DESCRIPTION' ... OK
* preparing 'CluMSID':
* checking DESCRIPTION meta-information ... OK
* installing the package to build vignettes
* creating vignettes ... OK
* checking for LF line-endings in source and make files and shell scripts
* checking for empty or unneeded directories
Omitted 'LazyData' from DESCRIPTION
* building 'CluMSID_1.8.0.tar.gz'