Back to Multiple platform build/check report for BioC 3.13
AB[C]DEFGHIJKLMNOPQRSTUVWXYZ

This page was generated on 2021-09-20 15:05:08 -0400 (Mon, 20 Sep 2021).

CHECK results for ClassifyR on tokay2

To the developers/maintainers of the ClassifyR package:
- Please allow up to 24 hours (and sometimes 48 hours) for your latest push to git@git.bioconductor.org:packages/ClassifyR.git to
reflect on this report. See How and When does the builder pull? When will my changes propagate? here for more information.
- Make sure to use the following settings in order to reproduce any error or warning you see on this page.

raw results

Package 317/2041HostnameOS / ArchINSTALLBUILDCHECKBUILD BIN
ClassifyR 2.12.0  (landing page)
Dario Strbenac
Snapshot Date: 2021-09-19 04:50:10 -0400 (Sun, 19 Sep 2021)
git_url: https://git.bioconductor.org/packages/ClassifyR
git_branch: RELEASE_3_13
git_last_commit: ede130d
git_last_commit_date: 2021-05-19 12:06:37 -0400 (Wed, 19 May 2021)
nebbiolo1Linux (Ubuntu 20.04.2 LTS) / x86_64  OK    OK    OK  UNNEEDED, same version is already published
tokay2Windows Server 2012 R2 Standard / x64  OK    OK    OK    OK  UNNEEDED, same version is already published
machv2macOS 10.14.6 Mojave / x86_64  OK    OK    OK    OK  UNNEEDED, same version is already published

Summary

Package: ClassifyR
Version: 2.12.0
Command: C:\Users\biocbuild\bbs-3.13-bioc\R\bin\R.exe CMD check --force-multiarch --install=check:ClassifyR.install-out.txt --library=C:\Users\biocbuild\bbs-3.13-bioc\R\library --no-vignettes --timings ClassifyR_2.12.0.tar.gz
StartedAt: 2021-09-19 20:26:04 -0400 (Sun, 19 Sep 2021)
EndedAt: 2021-09-19 20:41:44 -0400 (Sun, 19 Sep 2021)
EllapsedTime: 940.5 seconds
RetCode: 0
Status:   OK  
CheckDir: ClassifyR.Rcheck
Warnings: 0

Command output

##############################################################################
##############################################################################
###
### Running command:
###
###   C:\Users\biocbuild\bbs-3.13-bioc\R\bin\R.exe CMD check --force-multiarch --install=check:ClassifyR.install-out.txt --library=C:\Users\biocbuild\bbs-3.13-bioc\R\library --no-vignettes --timings ClassifyR_2.12.0.tar.gz
###
##############################################################################
##############################################################################


* using log directory 'C:/Users/biocbuild/bbs-3.13-bioc/meat/ClassifyR.Rcheck'
* using R version 4.1.1 (2021-08-10)
* using platform: x86_64-w64-mingw32 (64-bit)
* using session charset: ISO8859-1
* using option '--no-vignettes'
* checking for file 'ClassifyR/DESCRIPTION' ... OK
* checking extension type ... Package
* this is package 'ClassifyR' version '2.12.0'
* checking package namespace information ... OK
* checking package dependencies ... OK
* checking if this is a source package ... OK
* checking if there is a namespace ... OK
* checking for hidden files and directories ... OK
* checking for portable file names ... OK
* checking whether package 'ClassifyR' can be installed ... OK
* checking installed package size ... OK
* checking package directory ... OK
* checking 'build' directory ... OK
* checking DESCRIPTION meta-information ... OK
* checking top-level files ... OK
* checking for left-over files ... OK
* checking index information ... OK
* checking package subdirectories ... OK
* checking R files for non-ASCII characters ... OK
* checking R files for syntax errors ... OK
* loading checks for arch 'i386'
** checking whether the package can be loaded ... OK
** checking whether the package can be loaded with stated dependencies ... OK
** checking whether the package can be unloaded cleanly ... OK
** checking whether the namespace can be loaded with stated dependencies ... OK
** checking whether the namespace can be unloaded cleanly ... OK
* loading checks for arch 'x64'
** checking whether the package can be loaded ... OK
** checking whether the package can be loaded with stated dependencies ... OK
** checking whether the package can be unloaded cleanly ... OK
** checking whether the namespace can be loaded with stated dependencies ... OK
** checking whether the namespace can be unloaded cleanly ... OK
* checking dependencies in R code ... OK
* checking S3 generic/method consistency ... OK
* checking replacement functions ... OK
* checking foreign function calls ... OK
* checking R code for possible problems ... NOTE
.posterior_probs : <anonymous>: no visible global function definition
  for 'dmvnorm'
easyHardClassifierPredict,EasyHardClassifier-MultiAssayExperiment: no
  visible binding for global variable 'measurements'
kTSPclassifier,DataFrame : <anonymous>: no visible global function
  definition for 'Pairs'
plotFeatureClasses,DataFrame : <anonymous>: no visible binding for
  global variable 'measurement'
plotFeatureClasses,DataFrame : <anonymous>: no visible binding for
  global variable '..density..'
plotFeatureClasses,DataFrame : <anonymous>: no visible binding for
  global variable 'legends grouping'
plotFeatureClasses,DataFrame : <anonymous>: no visible binding for
  global variable 'key'
plotFeatureClasses,DataFrame : <anonymous>: no visible binding for
  global variable 'value'
plotFeatureClasses,DataFrame : <anonymous>: no visible binding for
  global variable 'ID'
rankingPlot,list : <anonymous> : <anonymous>: no visible global
  function definition for 'first'
rankingPlot,list : <anonymous> : <anonymous>: no visible global
  function definition for 'second'
rankingPlot,list : <anonymous> : <anonymous> : <anonymous>: no visible
  global function definition for 'first'
rankingPlot,list : <anonymous> : <anonymous> : <anonymous>: no visible
  global function definition for 'second'
runTest,DataFrame: no visible binding for global variable 'setsNodes'
runTestEasyHard,MultiAssayExperiment: no visible binding for global
  variable 'setsNodes'
runTests,DataFrame: no visible binding for global variable 'setsNodes'
runTestsEasyHard,MultiAssayExperiment: no visible binding for global
  variable 'setsNodes'
runTestsEasyHard,MultiAssayExperiment: no visible binding for global
  variable '.iteration'
samplesMetricMap,list: no visible binding for global variable 'Class'
samplesMetricMap,list: no visible binding for global variable 'Group'
samplesMetricMap,list: no visible binding for global variable
  'measurements'
samplesMetricMap,list: no visible binding for global variable 'name'
samplesMetricMap,list: no visible binding for global variable 'type'
samplesMetricMap,list: no visible binding for global variable 'Metric'
samplesMetricMap,matrix: no visible binding for global variable 'Class'
samplesMetricMap,matrix: no visible binding for global variable 'Group'
samplesMetricMap,matrix: no visible binding for global variable
  'measurements'
samplesMetricMap,matrix: no visible binding for global variable 'name'
samplesMetricMap,matrix: no visible binding for global variable 'type'
samplesMetricMap,matrix: no visible binding for global variable
  'Metric'
selectionPlot,list : <anonymous> : <anonymous>: no visible global
  function definition for 'first'
selectionPlot,list : <anonymous> : <anonymous>: no visible global
  function definition for 'second'
selectionPlot,list : <anonymous> : <anonymous> : <anonymous>: no
  visible global function definition for 'first'
selectionPlot,list : <anonymous> : <anonymous> : <anonymous>: no
  visible global function definition for 'second'
selectionPlot,list: no visible binding for global variable 'Freq'
Undefined global functions or variables:
  ..density.. .iteration Class Freq Group ID Metric Pairs dmvnorm first
  key legends grouping measurement measurements name second setsNodes
  type value
Consider adding
  importFrom("base", "grouping")
to your NAMESPACE file.
* checking Rd files ... OK
* checking Rd metadata ... OK
* checking Rd cross-references ... OK
* checking for missing documentation entries ... OK
* checking for code/documentation mismatches ... OK
* checking Rd \usage sections ... OK
* checking Rd contents ... OK
* checking for unstated dependencies in examples ... OK
* checking contents of 'data' directory ... OK
* checking data for non-ASCII characters ... OK
* checking data for ASCII and uncompressed saves ... OK
* checking files in 'vignettes' ... OK
* checking examples ...
** running examples for arch 'i386' ... OK
Examples with CPU (user + system) or elapsed time > 5s
                       user system elapsed
ClassifyResult-class   9.00   1.29   61.72
DMDselection           4.93   0.34    5.28
runTests               3.00   0.53   52.57
distribution           1.86   0.50   36.64
selectionPlot          2.16   0.01   10.39
rankingPlot            1.97   0.00   10.17
previousTrained        1.72   0.02   35.41
previousSelection      1.64   0.03   37.64
elasticNetFeatures     1.05   0.06   33.86
elasticNetGLMinterface 0.97   0.03   34.25
** running examples for arch 'x64' ... OK
Examples with CPU (user + system) or elapsed time > 5s
                       user system elapsed
ClassifyResult-class   8.22   0.69   60.11
DMDselection           5.64   0.12    5.77
runTests               2.98   0.67   56.55
selectionPlot          2.55   0.01   11.53
distribution           1.89   0.47   42.34
rankingPlot            2.28   0.03   11.40
previousSelection      2.04   0.02   40.05
previousTrained        1.95   0.06   39.25
elasticNetFeatures     1.42   0.03   34.35
elasticNetGLMinterface 1.11   0.01   32.75
* checking for unstated dependencies in vignettes ... OK
* checking package vignettes in 'inst/doc' ... OK
* checking running R code from vignettes ... SKIPPED
* checking re-building of vignette outputs ... SKIPPED
* checking PDF version of manual ... OK
* DONE

Status: 1 NOTE
See
  'C:/Users/biocbuild/bbs-3.13-bioc/meat/ClassifyR.Rcheck/00check.log'
for details.



Installation output

ClassifyR.Rcheck/00install.out

##############################################################################
##############################################################################
###
### Running command:
###
###   C:\cygwin\bin\curl.exe -O http://155.52.207.165/BBS/3.13/bioc/src/contrib/ClassifyR_2.12.0.tar.gz && rm -rf ClassifyR.buildbin-libdir && mkdir ClassifyR.buildbin-libdir && C:\Users\biocbuild\bbs-3.13-bioc\R\bin\R.exe CMD INSTALL --merge-multiarch --build --library=ClassifyR.buildbin-libdir ClassifyR_2.12.0.tar.gz && C:\Users\biocbuild\bbs-3.13-bioc\R\bin\R.exe CMD INSTALL ClassifyR_2.12.0.zip && rm ClassifyR_2.12.0.tar.gz ClassifyR_2.12.0.zip
###
##############################################################################
##############################################################################


  % Total    % Received % Xferd  Average Speed   Time    Time     Time  Current
                                 Dload  Upload   Total   Spent    Left  Speed

  0     0    0     0    0     0      0      0 --:--:-- --:--:-- --:--:--     0
100 1006k  100 1006k    0     0  1456k      0 --:--:-- --:--:-- --:--:-- 1459k

install for i386

* installing *source* package 'ClassifyR' ...
** using staged installation
** R
** data
** inst
** byte-compile and prepare package for lazy loading
** help
*** installing help indices
  converting help for package 'ClassifyR'
    finding HTML links ... done
    ClassifyResult-class                    html  
    finding level-2 HTML links ... done

    DLDAinterface                           html  
    DMDselection                            html  
    EasyHardClassifier-class                html  
    FeatureSetCollection-class              html  
    FeatureSetCollectionOrNULL-class        html  
    KolmogorovSmirnovSelection              html  
    KullbackLeiblerSelection                html  
    MixModelsListsSet-class                 html  
    NSCpredictInterface                     html  
    NSCselectionInterface                   html  
    NSCtrainInterface                       html  
    PredictParams-class                     html  
    ROCplot                                 html  
    ResubstituteParams-class                html  
    SVMinterface                            html  
    SelectParams-class                      html  
    SelectResult-class                      html  
    TrainParams-class                       html  
    TransformParams-class                   html  
    asthmaDataset                           html  
    bartlettSelection                       html  
    calcPerformance                         html  
    characterOrDataFrame-class              html  
    classifyInterface                       html  
    differentMeansSelection                 html  
    distribution                            html  
    dlda-class                              html  
    easyHardClassifier                      html  
REDIRECT:topic	 Previous alias or file overwritten by alias: C:/Users/biocbuild/bbs-3.13-bioc/meat/ClassifyR.buildbin-libdir/00LOCK-ClassifyR/00new/ClassifyR/help/easyHardClassifier.html
    easyHardFeatures                        html  
    edgeRselection                          html  
    edgesToHubNetworks                      html  
    elasticNetFeatures                      html  
    elasticNetGLMinterface                  html  
    featureSetSummary                       html  
    fisherDiscriminant                      html  
    forestFeatures                          html  
    functionOrList-class                    html  
    functionOrNULL-class                    html  
    getLocationsAndScales                   html  
    integerOrNumeric-class                  html  
    interactorDifferences                   html  
    kTSPclassifier                          html  
    knnInterface                            html  
    leveneSelection                         html  
    likelihoodRatioSelection                html  
    limmaSelection                          html  
    listOrCharacterOrNULL-class             html  
    listOrNULL-class                        html  
    mixmodels                               html  
    multnet-class                           html  
    naiveBayesKernel                        html  
    networkCorrelationsSelection            html  
    pairsDifferencesSelection               html  
    pamrtrained-class                       html  
    performancePlot                         html  
    plotFeatureClasses                      html  
    previousSelection                       html  
    previousTrained                         html  
    randomForest-class                      html  
    randomForestInterface                   html  
    rankingPlot                             html  
    runTest                                 html  
    runTests                                html  
    samplesMetricMap                        html  
    selectionPlot                           html  
    subtractFromLocation                    html  
    svm-class                               html  
** building package indices
** installing vignettes
** testing if installed package can be loaded from temporary location
** testing if installed package can be loaded from final location
** testing if installed package keeps a record of temporary installation path

install for x64

* installing *source* package 'ClassifyR' ...
** testing if installed package can be loaded
* MD5 sums
packaged installation of 'ClassifyR' as ClassifyR_2.12.0.zip
* DONE (ClassifyR)
* installing to library 'C:/Users/biocbuild/bbs-3.13-bioc/R/library'
package 'ClassifyR' successfully unpacked and MD5 sums checked

Tests output


Example timings

ClassifyR.Rcheck/examples_i386/ClassifyR-Ex.timings

nameusersystemelapsed
ClassifyResult-class 9.00 1.2961.72
DLDAinterface0.060.000.06
DMDselection4.930.345.28
EasyHardClassifier-class0.020.000.02
FeatureSetCollection-class000
FeatureSetCollectionOrNULL-class000
KolmogorovSmirnovSelection2.070.062.13
KullbackLeiblerSelection0.870.000.87
MixModelsListsSet-class0.580.050.89
NSCpredictInterface0.160.000.16
NSCselectionInterface0.070.010.09
NSCtrainInterface0.070.000.06
PredictParams-class000
ROCplot0.590.000.59
ResubstituteParams-class000
SVMinterface0.060.020.08
SelectParams-class0.020.000.02
SelectResult-class000
TrainParams-class000
TransformParams-class000
bartlettSelection1.700.011.72
calcPerformance000
characterOrDataFrame-class0.020.000.01
classifyInterface0.760.050.81
differentMeansSelection2.080.042.13
distribution 1.86 0.5036.64
easyHardClassifier0.470.000.47
easyHardFeatures0.310.000.31
edgeRselection4.140.404.61
edgesToHubNetworks000
elasticNetFeatures 1.05 0.0633.86
elasticNetGLMinterface 0.97 0.0334.25
featureSetSummary0.010.000.02
fisherDiscriminant0.100.000.09
forestFeatures0.150.000.16
functionOrList-class0.020.000.01
functionOrNULL-class000
getLocationsAndScales0.030.000.03
integerOrNumeric-class0.020.000.02
interactorDifferences0.040.000.04
kTSPclassifier0.110.000.11
knnInterface0.030.000.04
leveneSelection1.070.091.15
likelihoodRatioSelection4.280.004.28
limmaSelection0.340.000.35
listOrCharacterOrNULL-class000
listOrNULL-class000
mixmodels0.300.000.34
naiveBayesKernel0.590.000.59
networkCorrelationsSelection0.30.00.3
pairsDifferencesSelection0.320.000.31
performancePlot0.390.000.39
plotFeatureClasses1.840.001.84
previousSelection 1.64 0.0337.64
previousTrained 1.72 0.0235.41
randomForestInterface0.290.000.29
rankingPlot 1.97 0.0010.17
runTest2.750.273.02
runTests 3.00 0.5352.57
samplesMetricMap2.350.002.34
selectionPlot 2.16 0.0110.39
subtractFromLocation000

ClassifyR.Rcheck/examples_x64/ClassifyR-Ex.timings

nameusersystemelapsed
ClassifyResult-class 8.22 0.6960.11
DLDAinterface0.060.000.07
DMDselection5.640.125.77
EasyHardClassifier-class000
FeatureSetCollection-class0.020.000.01
FeatureSetCollectionOrNULL-class000
KolmogorovSmirnovSelection1.920.051.97
KullbackLeiblerSelection0.970.000.97
MixModelsListsSet-class0.520.011.09
NSCpredictInterface0.140.030.18
NSCselectionInterface0.110.000.11
NSCtrainInterface0.060.000.06
PredictParams-class000
ROCplot0.630.000.63
ResubstituteParams-class000
SVMinterface0.080.000.08
SelectParams-class0.010.000.01
SelectResult-class000
TrainParams-class000
TransformParams-class000
bartlettSelection1.780.001.78
calcPerformance000
characterOrDataFrame-class0.020.000.02
classifyInterface0.940.050.98
differentMeansSelection1.530.061.60
distribution 1.89 0.4742.34
easyHardClassifier0.470.000.47
easyHardFeatures0.360.000.36
edgeRselection3.590.133.72
edgesToHubNetworks0.020.000.01
elasticNetFeatures 1.42 0.0334.35
elasticNetGLMinterface 1.11 0.0132.75
featureSetSummary0.010.000.01
fisherDiscriminant0.110.000.11
forestFeatures0.160.000.16
functionOrList-class000
functionOrNULL-class0.010.000.01
getLocationsAndScales0.040.000.04
integerOrNumeric-class0.010.000.01
interactorDifferences0.050.000.05
kTSPclassifier0.120.000.12
knnInterface0.050.020.07
leveneSelection1.340.001.34
likelihoodRatioSelection4.750.024.76
limmaSelection0.390.000.40
listOrCharacterOrNULL-class000
listOrNULL-class000
mixmodels0.270.000.36
naiveBayesKernel0.560.000.56
networkCorrelationsSelection0.240.000.24
pairsDifferencesSelection0.250.000.25
performancePlot0.410.000.41
plotFeatureClasses2.010.002.01
previousSelection 2.04 0.0240.05
previousTrained 1.95 0.0639.25
randomForestInterface0.30.00.3
rankingPlot 2.28 0.0311.40
runTest3.060.053.11
runTests 2.98 0.6756.55
samplesMetricMap3.470.023.49
selectionPlot 2.55 0.0111.53
subtractFromLocation000