Back to Multiple platform build/check report for BioC 3.13
AB[C]DEFGHIJKLMNOPQRSTUVWXYZ

This page was generated on 2021-09-22 15:05:11 -0400 (Wed, 22 Sep 2021).

INSTALL results for CiteFuse on tokay2

To the developers/maintainers of the CiteFuse package:
- Please allow up to 24 hours (and sometimes 48 hours) for your latest push to git@git.bioconductor.org:packages/CiteFuse.git to
reflect on this report. See How and When does the builder pull? When will my changes propagate? here for more information.
- Make sure to use the following settings in order to reproduce any error or warning you see on this page.

raw results

Package 316/2041HostnameOS / ArchINSTALLBUILDCHECKBUILD BIN
CiteFuse 1.4.0  (landing page)
Yingxin Lin
Snapshot Date: 2021-09-21 04:50:12 -0400 (Tue, 21 Sep 2021)
git_url: https://git.bioconductor.org/packages/CiteFuse
git_branch: RELEASE_3_13
git_last_commit: aefd68a
git_last_commit_date: 2021-05-19 12:51:31 -0400 (Wed, 19 May 2021)
nebbiolo1Linux (Ubuntu 20.04.2 LTS) / x86_64  OK    OK    OK  UNNEEDED, same version is already published
tokay2Windows Server 2012 R2 Standard / x64  OK    OK    OK    OK  UNNEEDED, same version is already published
machv2macOS 10.14.6 Mojave / x86_64  OK    OK    OK    OK  UNNEEDED, same version is already published

Summary

Package: CiteFuse
Version: 1.4.0
Command: C:\cygwin\bin\curl.exe -O http://155.52.207.165/BBS/3.13/bioc/src/contrib/CiteFuse_1.4.0.tar.gz && rm -rf CiteFuse.buildbin-libdir && mkdir CiteFuse.buildbin-libdir && C:\Users\biocbuild\bbs-3.13-bioc\R\bin\R.exe CMD INSTALL --merge-multiarch --build --library=CiteFuse.buildbin-libdir CiteFuse_1.4.0.tar.gz && C:\Users\biocbuild\bbs-3.13-bioc\R\bin\R.exe CMD INSTALL CiteFuse_1.4.0.zip && rm CiteFuse_1.4.0.tar.gz CiteFuse_1.4.0.zip
StartedAt: 2021-09-21 10:58:37 -0400 (Tue, 21 Sep 2021)
EndedAt: 2021-09-21 10:59:53 -0400 (Tue, 21 Sep 2021)
EllapsedTime: 76.3 seconds
RetCode: 0
Status:   OK  

Command output

##############################################################################
##############################################################################
###
### Running command:
###
###   C:\cygwin\bin\curl.exe -O http://155.52.207.165/BBS/3.13/bioc/src/contrib/CiteFuse_1.4.0.tar.gz && rm -rf CiteFuse.buildbin-libdir && mkdir CiteFuse.buildbin-libdir && C:\Users\biocbuild\bbs-3.13-bioc\R\bin\R.exe CMD INSTALL --merge-multiarch --build --library=CiteFuse.buildbin-libdir CiteFuse_1.4.0.tar.gz && C:\Users\biocbuild\bbs-3.13-bioc\R\bin\R.exe CMD INSTALL CiteFuse_1.4.0.zip && rm CiteFuse_1.4.0.tar.gz CiteFuse_1.4.0.zip
###
##############################################################################
##############################################################################


  % Total    % Received % Xferd  Average Speed   Time    Time     Time  Current
                                 Dload  Upload   Total   Spent    Left  Speed

  0     0    0     0    0     0      0      0 --:--:-- --:--:-- --:--:--     0
 32 1814k   32  597k    0     0  1390k      0  0:00:01 --:--:--  0:00:01 1391k
100 1814k  100 1814k    0     0  2043k      0 --:--:-- --:--:-- --:--:-- 2043k

install for i386

* installing *source* package 'CiteFuse' ...
** using staged installation
** R
** data
** inst
** byte-compile and prepare package for lazy loading
** help
*** installing help indices
  converting help for package 'CiteFuse'
    finding HTML links ... done
    CITEseq_example                         html  
    CiteFuse                                html  
    DEbubblePlot                            html  
    DEcomparisonPlot                        html  
    DEgenes                                 html  
    DEgenesCross                            html  
    crossSampleDoublets                     html  
    geneADTnetwork                          html  
    igraphClustering                        html  
    importanceADT                           html  
    ligandReceptorTest                      html  
    lr_pair_subset                          html  
    normaliseExprs                          html  
    plotHTO                                 html  
    plotHTOSingle                           html  
    preprocessing                           html  
    readFrom10X                             html  
    reducedDimSNF                           html  
    sce_control_subset                      html  
    sce_ctcl_subset                         html  
    selectDEgenes                           html  
    spectralClustering                      html  
    visImportance                           html  
    visLigandReceptor                       html  
    visualiseDim                            html  
    visualiseExprs                          html  
    visualiseExprsList                      html  
    visualiseKNN                            html  
    withinSampleDoublets                    html  
** building package indices
** installing vignettes
** testing if installed package can be loaded from temporary location
** testing if installed package can be loaded from final location
** testing if installed package keeps a record of temporary installation path

install for x64

* installing *source* package 'CiteFuse' ...
** testing if installed package can be loaded
* MD5 sums
packaged installation of 'CiteFuse' as CiteFuse_1.4.0.zip
* DONE (CiteFuse)
* installing to library 'C:/Users/biocbuild/bbs-3.13-bioc/R/library'
package 'CiteFuse' successfully unpacked and MD5 sums checked