Index of /checkResults/release/bioc-LATEST/CiteFuse/raw-results/nebbiolo1

[ICO]NameLast modifiedSizeDescription

[DIR]Parent Directory  -  
[TXT]buildsrc-out.txt13-Jul-2024 06:38 903  
[   ]buildsrc-summary.dcf13-Jul-2024 06:38 421  
[TXT]checksrc-out.txt13-Jul-2024 06:38 3.4K 
[   ]checksrc-summary.dcf13-Jul-2024 06:38 418  
[TXT]install-out.txt13-Jul-2024 06:38 2.0K 
[   ]install-summary.dcf13-Jul-2024 06:38 261