Index of /checkResults/release/bioc-LATEST/CiteFuse/raw-results/merida1

[ICO]NameLast modifiedSizeDescription

[DIR]Parent Directory  -  
[TXT]buildbin-out.txt20-Jul-2024 06:39 4.5K 
[   ]buildbin-summary.dcf20-Jul-2024 06:39 537  
[TXT]buildsrc-out.txt20-Jul-2024 06:39 913  
[   ]buildsrc-summary.dcf20-Jul-2024 06:39 431  
[TXT]checksrc-out.txt20-Jul-2024 06:39 3.8K 
[   ]checksrc-summary.dcf20-Jul-2024 06:39 448  
[TXT]install-out.txt20-Jul-2024 06:39 2.4K 
[   ]install-summary.dcf20-Jul-2024 06:39 272