Index of /checkResults/release/bioc-LATEST/CiteFuse/raw-results/kjohnson1

[ICO]NameLast modifiedSizeDescription

[DIR]Parent Directory  -  
[TXT]buildbin-out.txt17-Jul-2024 06:42 4.4K 
[   ]buildbin-summary.dcf17-Jul-2024 06:42 536  
[TXT]buildsrc-out.txt17-Jul-2024 06:42 913  
[   ]buildsrc-summary.dcf17-Jul-2024 06:42 431  
[TXT]checksrc-out.txt17-Jul-2024 06:42 3.5K 
[   ]checksrc-summary.dcf17-Jul-2024 06:42 448  
[TXT]install-out.txt17-Jul-2024 06:42 2.4K 
[   ]install-summary.dcf17-Jul-2024 06:42 271