Back to Multiple platform build/check report for BioC 3.19:   simplified   long
AB[C]DEFGHIJKLMNOPQRSTUVWXYZ

This page was generated on 2024-06-11 14:39 -0400 (Tue, 11 Jun 2024).

HostnameOSArch (*)R versionInstalled pkgs
nebbiolo1Linux (Ubuntu 22.04.3 LTS)x86_644.4.0 (2024-04-24) -- "Puppy Cup" 4757
palomino3Windows Server 2022 Datacenterx644.4.0 (2024-04-24 ucrt) -- "Puppy Cup" 4491
lconwaymacOS 12.7.1 Montereyx86_644.4.0 (2024-04-24) -- "Puppy Cup" 4522
kjohnson3macOS 13.6.5 Venturaarm644.4.0 (2024-04-24) -- "Puppy Cup" 4468
Click on any hostname to see more info about the system (e.g. compilers)      (*) as reported by 'uname -p', except on Windows and Mac OS X

Package 358/2300HostnameOS / ArchINSTALLBUILDCHECKBUILD BIN
CiteFuse 1.16.0  (landing page)
Yingxin Lin
Snapshot Date: 2024-06-09 14:00 -0400 (Sun, 09 Jun 2024)
git_url: https://git.bioconductor.org/packages/CiteFuse
git_branch: RELEASE_3_19
git_last_commit: 4c3d04b
git_last_commit_date: 2024-04-30 11:23:01 -0400 (Tue, 30 Apr 2024)
nebbiolo1Linux (Ubuntu 22.04.3 LTS) / x86_64  OK    OK    OK  UNNEEDED, same version is already published
palomino3Windows Server 2022 Datacenter / x64  OK    OK    OK    OK  UNNEEDED, same version is already published
lconwaymacOS 12.7.1 Monterey / x86_64  OK    OK    OK    OK  UNNEEDED, same version is already published
kjohnson3macOS 13.6.5 Ventura / arm64  OK    OK    OK    OK  UNNEEDED, same version is already published


CHECK results for CiteFuse on nebbiolo1

To the developers/maintainers of the CiteFuse package:
- Allow up to 24 hours (and sometimes 48 hours) for your latest push to git@git.bioconductor.org:packages/CiteFuse.git to reflect on this report. See Troubleshooting Build Report for more information.
- Use the following Renviron settings to reproduce errors and warnings.
- If 'R CMD check' started to fail recently on the Linux builder(s) over a missing dependency, add the missing dependency to 'Suggests:' in your DESCRIPTION file. See Renviron.bioc for more information.

raw results


Summary

Package: CiteFuse
Version: 1.16.0
Command: /home/biocbuild/bbs-3.19-bioc/R/bin/R CMD check --install=check:CiteFuse.install-out.txt --library=/home/biocbuild/bbs-3.19-bioc/R/site-library --timings CiteFuse_1.16.0.tar.gz
StartedAt: 2024-06-09 21:33:37 -0400 (Sun, 09 Jun 2024)
EndedAt: 2024-06-09 21:40:03 -0400 (Sun, 09 Jun 2024)
EllapsedTime: 385.8 seconds
RetCode: 0
Status:   OK  
CheckDir: CiteFuse.Rcheck
Warnings: 0

Command output

##############################################################################
##############################################################################
###
### Running command:
###
###   /home/biocbuild/bbs-3.19-bioc/R/bin/R CMD check --install=check:CiteFuse.install-out.txt --library=/home/biocbuild/bbs-3.19-bioc/R/site-library --timings CiteFuse_1.16.0.tar.gz
###
##############################################################################
##############################################################################


* using log directory ‘/home/biocbuild/bbs-3.19-bioc/meat/CiteFuse.Rcheck’
* using R version 4.4.0 (2024-04-24)
* using platform: x86_64-pc-linux-gnu
* R was compiled by
    gcc (Ubuntu 11.4.0-1ubuntu1~22.04) 11.4.0
    GNU Fortran (Ubuntu 11.4.0-1ubuntu1~22.04) 11.4.0
* running under: Ubuntu 22.04.4 LTS
* using session charset: UTF-8
* checking for file ‘CiteFuse/DESCRIPTION’ ... OK
* checking extension type ... Package
* this is package ‘CiteFuse’ version ‘1.16.0’
* package encoding: UTF-8
* checking package namespace information ... OK
* checking package dependencies ... OK
* checking if this is a source package ... OK
* checking if there is a namespace ... OK
* checking for hidden files and directories ... OK
* checking for portable file names ... OK
* checking for sufficient/correct file permissions ... OK
* checking whether package ‘CiteFuse’ can be installed ... OK
* used C++ compiler: ‘g++ (Ubuntu 11.4.0-1ubuntu1~22.04) 11.4.0’
* checking installed package size ... OK
* checking package directory ... OK
* checking ‘build’ directory ... OK
* checking DESCRIPTION meta-information ... OK
* checking top-level files ... OK
* checking for left-over files ... OK
* checking index information ... OK
* checking package subdirectories ... OK
* checking code files for non-ASCII characters ... OK
* checking R files for syntax errors ... OK
* checking whether the package can be loaded ... OK
* checking whether the package can be loaded with stated dependencies ... OK
* checking whether the package can be unloaded cleanly ... OK
* checking whether the namespace can be loaded with stated dependencies ... OK
* checking whether the namespace can be unloaded cleanly ... OK
* checking loading without being on the library search path ... OK
* checking dependencies in R code ... OK
* checking S3 generic/method consistency ... OK
* checking replacement functions ... OK
* checking foreign function calls ... OK
* checking R code for possible problems ... OK
* checking Rd files ... OK
* checking Rd metadata ... OK
* checking Rd cross-references ... OK
* checking for missing documentation entries ... OK
* checking for code/documentation mismatches ... OK
* checking Rd \usage sections ... OK
* checking Rd contents ... OK
* checking for unstated dependencies in examples ... OK
* checking contents of ‘data’ directory ... OK
* checking data for non-ASCII characters ... OK
* checking data for ASCII and uncompressed saves ... OK
* checking line endings in C/C++/Fortran sources/headers ... OK
* checking compiled code ... NOTE
Note: information on .o files is not available
* checking files in ‘vignettes’ ... OK
* checking examples ... OK
* checking for unstated dependencies in vignettes ... OK
* checking package vignettes ... OK
* checking re-building of vignette outputs ... OK
* checking PDF version of manual ... OK
* DONE

Status: 1 NOTE
See
  ‘/home/biocbuild/bbs-3.19-bioc/meat/CiteFuse.Rcheck/00check.log’
for details.


Installation output

CiteFuse.Rcheck/00install.out

##############################################################################
##############################################################################
###
### Running command:
###
###   /home/biocbuild/bbs-3.19-bioc/R/bin/R CMD INSTALL CiteFuse
###
##############################################################################
##############################################################################


* installing to library ‘/home/biocbuild/bbs-3.19-bioc/R/site-library’
* installing *source* package ‘CiteFuse’ ...
** using staged installation
** libs
using C++ compiler: ‘g++ (Ubuntu 11.4.0-1ubuntu1~22.04) 11.4.0’
g++ -std=gnu++17 -I"/home/biocbuild/bbs-3.19-bioc/R/include" -DNDEBUG  -I'/home/biocbuild/bbs-3.19-bioc/R/site-library/Rcpp/include' -I/usr/local/include    -fpic  -g -O2  -Wall  -c RcppExports.cpp -o RcppExports.o
g++ -std=gnu++17 -I"/home/biocbuild/bbs-3.19-bioc/R/include" -DNDEBUG  -I'/home/biocbuild/bbs-3.19-bioc/R/site-library/Rcpp/include' -I/usr/local/include    -fpic  -g -O2  -Wall  -c backend.cpp -o backend.o
g++ -std=gnu++17 -I"/home/biocbuild/bbs-3.19-bioc/R/include" -DNDEBUG  -I'/home/biocbuild/bbs-3.19-bioc/R/site-library/Rcpp/include' -I/usr/local/include    -fpic  -g -O2  -Wall  -c lr2propr.cpp -o lr2propr.o
g++ -std=gnu++17 -shared -L/home/biocbuild/bbs-3.19-bioc/R/lib -L/usr/local/lib -o CiteFuse.so RcppExports.o backend.o lr2propr.o -L/home/biocbuild/bbs-3.19-bioc/R/lib -lR
installing to /home/biocbuild/bbs-3.19-bioc/R/site-library/00LOCK-CiteFuse/00new/CiteFuse/libs
** R
** data
** inst
** byte-compile and prepare package for lazy loading
** help
*** installing help indices
** building package indices
** installing vignettes
** testing if installed package can be loaded from temporary location
** checking absolute paths in shared objects and dynamic libraries
** testing if installed package can be loaded from final location
** testing if installed package keeps a record of temporary installation path
* DONE (CiteFuse)

Tests output


Example timings

CiteFuse.Rcheck/CiteFuse-Ex.timings

nameusersystemelapsed
CiteFuse1.4670.0231.490
DEbubblePlot2.1790.0442.223
DEcomparisonPlot1.9560.0321.988
DEgenes1.0550.0361.091
DEgenesCross3.3620.0513.414
crossSampleDoublets1.0240.0161.040
geneADTnetwork1.7480.0831.832
igraphClustering0.4560.0120.468
importanceADT1.3070.0311.338
ligandReceptorTest1.090.001.09
normaliseExprs0.6940.0030.697
plotHTO3.5040.0123.516
preprocessing0.5600.0160.576
readFrom10X0.0010.0000.001
reducedDimSNF0.9300.0120.942
selectDEgenes1.0460.0081.054
spectralClustering0.4710.0010.471
visImportance2.1100.0392.151
visLigandReceptor1.9890.1002.089
visualiseDim1.0640.0081.072
visualiseExprs1.5540.0151.569
visualiseExprsList1.0250.0001.025
visualiseKNN0.5330.0030.537
withinSampleDoublets0.9840.0040.987