Back to Multiple platform build/check report for BioC 3.13
AB[C]DEFGHIJKLMNOPQRSTUVWXYZ

This page was generated on 2021-09-22 15:05:39 -0400 (Wed, 22 Sep 2021).

BUILD BIN results for CiteFuse on machv2

To the developers/maintainers of the CiteFuse package:
- Please allow up to 24 hours (and sometimes 48 hours) for your latest push to git@git.bioconductor.org:packages/CiteFuse.git to
reflect on this report. See How and When does the builder pull? When will my changes propagate? here for more information.
- Make sure to use the following settings in order to reproduce any error or warning you see on this page.

raw results

Package 316/2041HostnameOS / ArchINSTALLBUILDCHECKBUILD BIN
CiteFuse 1.4.0  (landing page)
Yingxin Lin
Snapshot Date: 2021-09-21 04:50:12 -0400 (Tue, 21 Sep 2021)
git_url: https://git.bioconductor.org/packages/CiteFuse
git_branch: RELEASE_3_13
git_last_commit: aefd68a
git_last_commit_date: 2021-05-19 12:51:31 -0400 (Wed, 19 May 2021)
nebbiolo1Linux (Ubuntu 20.04.2 LTS) / x86_64  OK    OK    OK  UNNEEDED, same version is already published
tokay2Windows Server 2012 R2 Standard / x64  OK    OK    OK    OK  UNNEEDED, same version is already published
machv2macOS 10.14.6 Mojave / x86_64  OK    OK    OK    OK  UNNEEDED, same version is already published

Summary

Package: CiteFuse
Version: 1.4.0
Command: rm -rf CiteFuse.buildbin-libdir && mkdir CiteFuse.buildbin-libdir && /Users/biocbuild/BBS/utils/build-universal.sh CiteFuse_1.4.0.tar.gz /Library/Frameworks/R.framework/Versions/Current/Resources/bin/R CiteFuse.buildbin-libdir
StartedAt: 2021-09-22 01:59:51 -0400 (Wed, 22 Sep 2021)
EndedAt: 2021-09-22 02:00:51 -0400 (Wed, 22 Sep 2021)
EllapsedTime: 59.9 seconds
RetCode: 0
Status:   OK  
PackageFile: CiteFuse_1.4.0.tgz
PackageFileSize: 3.23 MiB

Command output

##############################################################################
##############################################################################
###
### Running command:
###
###   rm -rf CiteFuse.buildbin-libdir && mkdir CiteFuse.buildbin-libdir && /Users/biocbuild/BBS/utils/build-universal.sh CiteFuse_1.4.0.tar.gz /Library/Frameworks/R.framework/Versions/Current/Resources/bin/R CiteFuse.buildbin-libdir
###
##############################################################################
##############################################################################


>>>>>>> 
>>>>>>> INSTALLATION WITH 'R CMD INSTALL --preclean --no-multiarch --library=CiteFuse.buildbin-libdir CiteFuse_1.4.0.tar.gz'
>>>>>>> 

* installing *source* package ‘CiteFuse’ ...
** using staged installation
** R
** data
** inst
** byte-compile and prepare package for lazy loading
** help
*** installing help indices
** building package indices
** installing vignettes
** testing if installed package can be loaded from temporary location
** testing if installed package can be loaded from final location
** testing if installed package keeps a record of temporary installation path
* DONE (CiteFuse)