Back to Multiple platform build/check report for BioC 3.13
AB[C]DEFGHIJKLMNOPQRSTUVWXYZ

This page was generated on 2021-09-24 15:06:05 -0400 (Fri, 24 Sep 2021).

CHECK results for ChromSCape on tokay2

To the developers/maintainers of the ChromSCape package:
- Please allow up to 24 hours (and sometimes 48 hours) for your latest push to git@git.bioconductor.org:packages/ChromSCape.git to
reflect on this report. See How and When does the builder pull? When will my changes propagate? here for more information.
- Make sure to use the following settings in order to reproduce any error or warning you see on this page.

raw results

Package 306/2041HostnameOS / ArchINSTALLBUILDCHECKBUILD BIN
ChromSCape 1.2.62  (landing page)
Pacome Prompsy
Snapshot Date: 2021-09-23 04:50:12 -0400 (Thu, 23 Sep 2021)
git_url: https://git.bioconductor.org/packages/ChromSCape
git_branch: RELEASE_3_13
git_last_commit: 752d173
git_last_commit_date: 2021-09-14 04:58:21 -0400 (Tue, 14 Sep 2021)
nebbiolo1Linux (Ubuntu 20.04.2 LTS) / x86_64  OK    OK    OK  UNNEEDED, same version is already published
tokay2Windows Server 2012 R2 Standard / x64  OK    OK    OK    OK  UNNEEDED, same version is already published
machv2macOS 10.14.6 Mojave / x86_64  OK    OK    OK    OK  UNNEEDED, same version is already published

Summary

Package: ChromSCape
Version: 1.2.62
Command: C:\Users\biocbuild\bbs-3.13-bioc\R\bin\R.exe CMD check --force-multiarch --install=check:ChromSCape.install-out.txt --library=C:\Users\biocbuild\bbs-3.13-bioc\R\library --no-vignettes --timings ChromSCape_1.2.62.tar.gz
StartedAt: 2021-09-23 20:22:08 -0400 (Thu, 23 Sep 2021)
EndedAt: 2021-09-23 20:50:27 -0400 (Thu, 23 Sep 2021)
EllapsedTime: 1699.9 seconds
RetCode: 0
Status:   OK  
CheckDir: ChromSCape.Rcheck
Warnings: 0

Command output

##############################################################################
##############################################################################
###
### Running command:
###
###   C:\Users\biocbuild\bbs-3.13-bioc\R\bin\R.exe CMD check --force-multiarch --install=check:ChromSCape.install-out.txt --library=C:\Users\biocbuild\bbs-3.13-bioc\R\library --no-vignettes --timings ChromSCape_1.2.62.tar.gz
###
##############################################################################
##############################################################################


* using log directory 'C:/Users/biocbuild/bbs-3.13-bioc/meat/ChromSCape.Rcheck'
* using R version 4.1.1 (2021-08-10)
* using platform: x86_64-w64-mingw32 (64-bit)
* using session charset: ISO8859-1
* using option '--no-vignettes'
* checking for file 'ChromSCape/DESCRIPTION' ... OK
* this is package 'ChromSCape' version '1.2.62'
* package encoding: UTF-8
* checking package namespace information ... OK
* checking package dependencies ... OK
* checking if this is a source package ... OK
* checking if there is a namespace ... OK
* checking for hidden files and directories ... NOTE
Found the following hidden files and directories:
  .BBSoptions
These were most likely included in error. See section 'Package
structure' in the 'Writing R Extensions' manual.
* checking for portable file names ... OK
* checking whether package 'ChromSCape' can be installed ... OK
* checking installed package size ... NOTE
  installed size is  7.0Mb
  sub-directories of 1Mb or more:
    data   1.3Mb
    libs   2.0Mb
    www    2.0Mb
* checking package directory ... OK
* checking 'build' directory ... OK
* checking DESCRIPTION meta-information ... OK
* checking top-level files ... OK
* checking for left-over files ... OK
* checking index information ... OK
* checking package subdirectories ... OK
* checking R files for non-ASCII characters ... OK
* checking R files for syntax errors ... OK
* loading checks for arch 'i386'
** checking whether the package can be loaded ... OK
** checking whether the package can be loaded with stated dependencies ... OK
** checking whether the package can be unloaded cleanly ... OK
** checking whether the namespace can be loaded with stated dependencies ... OK
** checking whether the namespace can be unloaded cleanly ... OK
* loading checks for arch 'x64'
** checking whether the package can be loaded ... OK
** checking whether the package can be loaded with stated dependencies ... OK
** checking whether the package can be unloaded cleanly ... OK
** checking whether the namespace can be loaded with stated dependencies ... OK
** checking whether the namespace can be unloaded cleanly ... OK
* checking dependencies in R code ... OK
* checking S3 generic/method consistency ... OK
* checking replacement functions ... OK
* checking foreign function calls ... OK
* checking R code for possible problems ... NOTE
CompareWilcox: no visible binding for global variable 'annot.'
bams_to_matrix_indexes: no visible binding for global variable
  'files_dir_list'
filter_correlated_cell_scExp: no visible binding for global variable
  'run_tsne'
generate_analysis: no visible binding for global variable 'k'
generate_analysis: no visible binding for global variable
  'clusterConsensus'
get_most_variable_cyto: no visible binding for global variable
  'cytoBand'
get_most_variable_cyto: no visible binding for global variable
  'Fri_cyto'
num_cell_after_QC_filt_scExp: no visible binding for global variable
  'sample_id'
num_cell_after_QC_filt_scExp: no visible binding for global variable
  'total_counts'
num_cell_scExp: no visible binding for global variable 'sample_id'
num_cell_scExp: no visible binding for global variable 'total_counts'
plot_gain_or_loss_barplots: no visible binding for global variable
  'Gain_or_Loss'
plot_gain_or_loss_barplots: no visible binding for global variable
  'ncells'
plot_gain_or_loss_barplots: no visible binding for global variable
  'cytoBand'
plot_most_contributing_features: no visible binding for global variable
  'genes'
plot_pie_most_contributing_chr: no visible binding for global variable
  'absolute_value'
plot_reduced_dim_scExp: no visible binding for global variable 'V1'
plot_reduced_dim_scExp: no visible binding for global variable 'V2'
plot_reduced_dim_scExp: no visible binding for global variable
  'cluster'
subset_bam_call_peaks: no visible binding for global variable
  'merged_bam'
Undefined global functions or variables:
  Fri_cyto Gain_or_Loss V1 V2 absolute_value annot. cluster
  clusterConsensus cytoBand files_dir_list genes k merged_bam ncells
  run_tsne sample_id total_counts
* checking Rd files ... NOTE
prepare_Rd: raw_counts_to_sparse_matrix.Rd:6-8: Dropping empty section \source
* checking Rd metadata ... OK
* checking Rd cross-references ... OK
* checking for missing documentation entries ... OK
* checking for code/documentation mismatches ... OK
* checking Rd \usage sections ... OK
* checking Rd contents ... OK
* checking for unstated dependencies in examples ... OK
* checking contents of 'data' directory ... OK
* checking data for non-ASCII characters ... OK
* checking data for ASCII and uncompressed saves ... OK
* checking line endings in C/C++/Fortran sources/headers ... OK
* checking compiled code ... NOTE
Note: information on .o files for i386 is not available
Note: information on .o files for x64 is not available
File 'C:/Users/biocbuild/bbs-3.13-bioc/R/library/ChromSCape/libs/i386/ChromSCape.dll':
  Found 'abort', possibly from 'abort' (C), 'runtime' (Fortran)
  Found 'exit', possibly from 'exit' (C), 'stop' (Fortran)
  Found 'printf', possibly from 'printf' (C)
File 'C:/Users/biocbuild/bbs-3.13-bioc/R/library/ChromSCape/libs/x64/ChromSCape.dll':
  Found 'abort', possibly from 'abort' (C), 'runtime' (Fortran)
  Found 'exit', possibly from 'exit' (C), 'stop' (Fortran)
  Found 'printf', possibly from 'printf' (C)

Compiled code should not call entry points which might terminate R nor
write to stdout/stderr instead of to the console, nor use Fortran I/O
nor system RNGs. The detected symbols are linked into the code but
might come from libraries and not actually be called.

See 'Writing portable packages' in the 'Writing R Extensions' manual.
* checking files in 'vignettes' ... OK
* checking examples ...
** running examples for arch 'i386' ... OK
Examples with CPU (user + system) or elapsed time > 5s
                               user system elapsed
plot_gain_or_loss_barplots    56.21   0.41   56.61
calculate_CNA                 26.77   0.44   27.20
get_most_variable_cyto        27.00   0.01   27.01
plot_reduced_dim_scExp_CNA    26.10   0.07   26.16
calculate_cyto_mat            25.50   0.11   25.63
get_cyto_features             25.46   0.00   25.45
calculate_gain_or_loss        24.45   0.08   24.53
calculate_logRatio_CNA        24.13   0.15   24.28
CompareedgeRGLM               14.67   0.61   15.30
num_cell_after_cor_filt_scExp 10.06   0.02   10.08
filter_correlated_cell_scExp   8.99   0.00    8.97
import_scExp                   7.15   0.02    7.17
create_scDataset_raw           6.57   0.35    6.92
CompareWilcox                  4.25   0.60   69.98
differential_analysis_scExp    3.89   0.31  122.87
peaks_to_bins                  2.89   0.12    5.89
** running examples for arch 'x64' ... OK
Examples with CPU (user + system) or elapsed time > 5s
                               user system elapsed
plot_gain_or_loss_barplots    60.05   0.05   60.10
get_most_variable_cyto        31.11   0.03   31.14
plot_reduced_dim_scExp_CNA    30.75   0.01   30.77
calculate_CNA                 29.93   0.39   30.33
calculate_gain_or_loss        28.91   0.11   29.01
calculate_cyto_mat            28.52   0.07   28.58
calculate_logRatio_CNA        27.48   0.12   27.61
get_cyto_features             26.84   0.02   26.86
CompareedgeRGLM               13.50   0.27   13.79
filter_correlated_cell_scExp  11.70   0.00   11.70
num_cell_after_cor_filt_scExp 11.28   0.01   11.33
create_scDataset_raw           8.08   0.58    8.65
import_scExp                   7.38   0.03    7.41
differential_analysis_scExp    5.33   0.23  137.17
CompareWilcox                  4.09   0.26   64.16
peaks_to_bins                  3.55   0.11    6.36
* checking for unstated dependencies in 'tests' ... OK
* checking tests ...
** running tests for arch 'i386' ...
  Running 'testthat.R'
 OK
** running tests for arch 'x64' ...
  Running 'testthat.R'
 OK
* checking for unstated dependencies in vignettes ... OK
* checking package vignettes in 'inst/doc' ... OK
* checking running R code from vignettes ... SKIPPED
* checking re-building of vignette outputs ... SKIPPED
* checking PDF version of manual ... OK
* DONE

Status: 5 NOTEs
See
  'C:/Users/biocbuild/bbs-3.13-bioc/meat/ChromSCape.Rcheck/00check.log'
for details.



Installation output

ChromSCape.Rcheck/00install.out

##############################################################################
##############################################################################
###
### Running command:
###
###   C:\cygwin\bin\curl.exe -O http://155.52.207.165/BBS/3.13/bioc/src/contrib/ChromSCape_1.2.62.tar.gz && rm -rf ChromSCape.buildbin-libdir && mkdir ChromSCape.buildbin-libdir && C:\Users\biocbuild\bbs-3.13-bioc\R\bin\R.exe CMD INSTALL --merge-multiarch --build --library=ChromSCape.buildbin-libdir ChromSCape_1.2.62.tar.gz && C:\Users\biocbuild\bbs-3.13-bioc\R\bin\R.exe CMD INSTALL ChromSCape_1.2.62.zip && rm ChromSCape_1.2.62.tar.gz ChromSCape_1.2.62.zip
###
##############################################################################
##############################################################################


  % Total    % Received % Xferd  Average Speed   Time    Time     Time  Current
                                 Dload  Upload   Total   Spent    Left  Speed

  0     0    0     0    0     0      0      0 --:--:-- --:--:-- --:--:--     0
 40 3339k   40 1348k    0     0  1816k      0  0:00:01 --:--:--  0:00:01 1814k
100 3339k  100 3339k    0     0  2365k      0  0:00:01  0:00:01 --:--:-- 2366k

install for i386

* installing *source* package 'ChromSCape' ...
** using staged installation
** libs
"C:/rtools40/mingw32/bin/"g++ -std=gnu++11  -I"C:/Users/BIOCBU~1/BBS-3~1.13-/R/include" -DNDEBUG  -I'C:/Users/biocbuild/bbs-3.13-bioc/R/library/Rcpp/include'   -I"c:/extsoft/include"     -O2 -Wall  -mfpmath=sse -msse2 -mstackrealign  -c RcppExports.cpp -o RcppExports.o
"C:/rtools40/mingw32/bin/"g++ -std=gnu++11  -I"C:/Users/BIOCBU~1/BBS-3~1.13-/R/include" -DNDEBUG  -I'C:/Users/biocbuild/bbs-3.13-bioc/R/library/Rcpp/include'   -I"c:/extsoft/include"     -O2 -Wall  -mfpmath=sse -msse2 -mstackrealign  -c as_dist.cpp -o as_dist.o
C:/rtools40/mingw32/bin/g++ -std=gnu++11 -shared -s -static-libgcc -o ChromSCape.dll tmp.def RcppExports.o as_dist.o -Lc:/extsoft/lib/i386 -Lc:/extsoft/lib -LC:/Users/BIOCBU~1/BBS-3~1.13-/R/bin/i386 -lR
installing to C:/Users/biocbuild/bbs-3.13-bioc/meat/ChromSCape.buildbin-libdir/00LOCK-ChromSCape/00new/ChromSCape/libs/i386
** R
** data
** inst
** byte-compile and prepare package for lazy loading
** help
*** installing help indices
  converting help for package 'ChromSCape'
    finding HTML links ... done
    CompareWilcox                           html  
    CompareedgeRGLM                         html  
    DA_custom                               html  
    DA_one_vs_rest_fun                      html  
    DA_pairwise                             html  
    H1proportion                            html  
    annotToCol2                             html  
    annotation_from_merged_peaks            html  
    anocol_binary                           html  
    anocol_categorical                      html  
    bams_to_matrix_indexes                  html  
    beds_to_matrix_indexes                  html  
    calculate_CNA                           html  
    calculate_cyto_mat                      html  
    calculate_gain_or_loss                  html  
    calculate_logRatio_CNA                  html  
    call_macs2_merge_peaks                  html  
    changeRange                             html  
    check_correct_datamatrix                html  
    choose_cluster_scExp                    html  
    choose_perplexity                       html  
    col2hex                                 html  
    colors_scExp                            html  
    combine_datamatrix                      html  
    combine_enrichmentTests                 html  
    concatenate_scBed_into_clusters         html  
    consensus_clustering_scExp              html  
    correlation_and_hierarchical_clust_scExp
                                            html  
    count_coverage                          html  
    create_project_folder                   html  
    create_sample_name_mat                  html  
    create_scDataset_raw                    html  
    create_scExp                            html  
    define_feature                          html  
    detect_samples                          html  
    differential_analysis_scExp             html  
    distPearson                             html  
    enrichmentTest                          html  
    exclude_features_scExp                  html  
    feature_annotation_scExp                html  
    filter_correlated_cell_scExp            html  
    filter_genes_with_refined_peak_annotation
                                            html  
    filter_scExp                            html  
    find_top_features                       html  
    gene_set_enrichment_analysis_scExp      html  
    generate_analysis                       html  
    generate_count_matrix                   html  
    generate_coverage_tracks                html  
    generate_feature_names                  html  
    getExperimentNames                      html  
    getMainExperiment                       html  
    get_color_dataframe_from_input          html  
    get_cyto_features                       html  
    get_genomic_coordinates                 html  
    get_most_variable_cyto                  html  
    gg_fill_hue                             html  
    groupMat                                html  
    has_genomic_coordinates                 html  
    hclustAnnotHeatmapPlot                  html  
    hg38.GeneTSS                            html  
    hg38.chromosomes                        html  
    hg38.cytoBand                           html  
    imageCol                                html  
    import_count_input_files                html  
    import_scExp                            html  
    index_peaks_barcodes_to_matrix_indexes
                                            html  
    inter_correlation_scExp                 html  
    intra_correlation_scExp                 html  
    launchApp                               html  
    load_MSIGdb                             html  
    merge_MACS2_peaks                       html  
    mm10.GeneTSS                            html  
    mm10.chromosomes                        html  
    mm10.cytoBand                           html  
    normalize_scExp                         html  
    num_cell_after_QC_filt_scExp            html  
    num_cell_after_cor_filt_scExp           html  
    num_cell_before_cor_filt_scExp          html  
    num_cell_in_cluster_scExp               html  
    num_cell_scExp                          html  
    pca_irlba_for_sparseMatrix              html  
    peaks_to_bins                           html  
    plot_cluster_consensus_scExp            html  
    plot_coverage_BigWig                    html  
    plot_differential_H1_scExp              html  
    plot_differential_summary_scExp         html  
    plot_differential_volcano_scExp         html  
    plot_distribution_scExp                 html  
    plot_gain_or_loss_barplots              html  
    plot_heatmap_scExp                      html  
    plot_inter_correlation_scExp            html  
    plot_intra_correlation_scExp            html  
    plot_most_contributing_features         html  
    plot_pie_most_contributing_chr          html  
    plot_reduced_dim_scExp                  html  
    plot_reduced_dim_scExp_CNA              html  
    preprocess_CPM                          html  
    preprocess_RPKM                         html  
    preprocess_TFIDF                        html  
    preprocess_TPM                          html  
    preprocess_feature_size_only            html  
    raw_counts_to_sparse_matrix             html  
    rawfile_ToBigWig                        html  
    read_count_mat_with_separated_chr_start_end
                                            html  
    read_sparse_matrix                      html  
    reduce_dim_batch_correction             html  
    reduce_dims_scExp                       html  
    remove_chr_M_fun                        html  
    remove_non_canonical_fun                html  
    results_enrichmentTest                  html  
    retrieve_top_bot_features_pca           html  
    run_pairwise_tests                      html  
    run_tsne_scExp                          html  
    scExp                                   html  
    separate_BAM_into_clusters              html  
    separator_count_mat                     html  
    smoothBin                               html  
    subsample_scExp                         html  
    subset_bam_call_peaks                   html  
    swapAltExp_sameColData                  html  
    table_enriched_genes_scExp              html  
    warning_DA                              html  
    warning_filter_correlated_cell_scExp    html  
    warning_plot_reduced_dim_scExp          html  
    warning_raw_counts_to_sparse_matrix     html  
    wrapper_Signac_FeatureMatrix            html  
** building package indices
** installing vignettes
** testing if installed package can be loaded from temporary location
** testing if installed package can be loaded from final location
** testing if installed package keeps a record of temporary installation path

install for x64

* installing *source* package 'ChromSCape' ...
** libs
"C:/rtools40/mingw64/bin/"g++ -std=gnu++11  -I"C:/Users/BIOCBU~1/BBS-3~1.13-/R/include" -DNDEBUG  -I'C:/Users/biocbuild/bbs-3.13-bioc/R/library/Rcpp/include'   -I"C:/extsoft/include"     -O2 -Wall  -mfpmath=sse -msse2 -mstackrealign  -c RcppExports.cpp -o RcppExports.o
"C:/rtools40/mingw64/bin/"g++ -std=gnu++11  -I"C:/Users/BIOCBU~1/BBS-3~1.13-/R/include" -DNDEBUG  -I'C:/Users/biocbuild/bbs-3.13-bioc/R/library/Rcpp/include'   -I"C:/extsoft/include"     -O2 -Wall  -mfpmath=sse -msse2 -mstackrealign  -c as_dist.cpp -o as_dist.o
C:/rtools40/mingw64/bin/g++ -std=gnu++11 -shared -s -static-libgcc -o ChromSCape.dll tmp.def RcppExports.o as_dist.o -LC:/extsoft/lib/x64 -LC:/extsoft/lib -LC:/Users/BIOCBU~1/BBS-3~1.13-/R/bin/x64 -lR
installing to C:/Users/biocbuild/bbs-3.13-bioc/meat/ChromSCape.buildbin-libdir/ChromSCape/libs/x64
** testing if installed package can be loaded
* MD5 sums
packaged installation of 'ChromSCape' as ChromSCape_1.2.62.zip
* DONE (ChromSCape)
* installing to library 'C:/Users/biocbuild/bbs-3.13-bioc/R/library'
package 'ChromSCape' successfully unpacked and MD5 sums checked

Tests output

ChromSCape.Rcheck/tests_i386/testthat.Rout


R version 4.1.1 (2021-08-10) -- "Kick Things"
Copyright (C) 2021 The R Foundation for Statistical Computing
Platform: i386-w64-mingw32/i386 (32-bit)

R is free software and comes with ABSOLUTELY NO WARRANTY.
You are welcome to redistribute it under certain conditions.
Type 'license()' or 'licence()' for distribution details.

R is a collaborative project with many contributors.
Type 'contributors()' for more information and
'citation()' on how to cite R or R packages in publications.

Type 'demo()' for some demos, 'help()' for on-line help, or
'help.start()' for an HTML browser interface to help.
Type 'q()' to quit R.

> library(testthat)
> library(ChromSCape)
> 
> test_check("ChromSCape")
[ FAIL 0 | WARN 0 | SKIP 0 | PASS 11 ]
> 
> proc.time()
   user  system elapsed 
  37.87    3.34   70.21 

ChromSCape.Rcheck/tests_x64/testthat.Rout


R version 4.1.1 (2021-08-10) -- "Kick Things"
Copyright (C) 2021 The R Foundation for Statistical Computing
Platform: x86_64-w64-mingw32/x64 (64-bit)

R is free software and comes with ABSOLUTELY NO WARRANTY.
You are welcome to redistribute it under certain conditions.
Type 'license()' or 'licence()' for distribution details.

R is a collaborative project with many contributors.
Type 'contributors()' for more information and
'citation()' on how to cite R or R packages in publications.

Type 'demo()' for some demos, 'help()' for on-line help, or
'help.start()' for an HTML browser interface to help.
Type 'q()' to quit R.

> library(testthat)
> library(ChromSCape)
> 
> test_check("ChromSCape")
[ FAIL 0 | WARN 0 | SKIP 0 | PASS 11 ]
> 
> proc.time()
   user  system elapsed 
  41.07    2.53   75.14 

Example timings

ChromSCape.Rcheck/examples_i386/ChromSCape-Ex.timings

nameusersystemelapsed
CompareWilcox 4.25 0.6069.98
CompareedgeRGLM14.67 0.6115.30
annotToCol21.450.041.50
calculate_CNA26.77 0.4427.20
calculate_cyto_mat25.50 0.1125.63
calculate_gain_or_loss24.45 0.0824.53
calculate_logRatio_CNA24.13 0.1524.28
choose_cluster_scExp4.150.144.30
colors_scExp0.330.000.32
consensus_clustering_scExp3.450.103.55
correlation_and_hierarchical_clust_scExp0.570.030.59
create_project_folder0.000.010.02
create_scDataset_raw6.570.356.92
create_scExp1.020.111.13
define_feature0.190.000.18
detect_samples0.920.000.88
differential_analysis_scExp 3.89 0.31122.87
exclude_features_scExp1.560.051.61
feature_annotation_scExp2.780.072.86
filter_correlated_cell_scExp8.990.008.97
filter_scExp1.360.101.46
find_top_features0.360.010.37
gene_set_enrichment_analysis_scExp0.170.000.17
generate_analysis000
generate_coverage_tracks000
getExperimentNames0.230.000.24
getMainExperiment0.280.030.31
get_cyto_features25.46 0.0025.45
get_genomic_coordinates1.060.071.13
get_most_variable_cyto27.00 0.0127.01
has_genomic_coordinates1.810.031.85
import_scExp7.150.027.17
inter_correlation_scExp0.570.000.57
intra_correlation_scExp0.720.010.73
launchApp000
normalize_scExp1.060.051.11
num_cell_after_QC_filt_scExp1.170.031.20
num_cell_after_cor_filt_scExp10.06 0.0210.08
num_cell_before_cor_filt_scExp0.220.000.22
num_cell_in_cluster_scExp0.950.000.95
num_cell_scExp1.070.031.10
peaks_to_bins2.890.125.89
plot_cluster_consensus_scExp0.750.040.78
plot_coverage_BigWig0.730.010.75
plot_differential_H1_scExp0.190.020.20
plot_differential_summary_scExp0.220.000.22
plot_differential_volcano_scExp0.440.030.47
plot_distribution_scExp0.540.000.54
plot_gain_or_loss_barplots56.21 0.4156.61
plot_heatmap_scExp0.350.020.38
plot_inter_correlation_scExp0.650.010.65
plot_intra_correlation_scExp0.850.161.02
plot_most_contributing_features0.550.040.59
plot_pie_most_contributing_chr0.350.020.36
plot_reduced_dim_scExp2.210.202.42
plot_reduced_dim_scExp_CNA26.10 0.0726.16
preprocess_CPM0.980.071.06
preprocess_RPKM0.910.111.02
preprocess_TFIDF0.960.071.02
preprocess_TPM1.250.091.34
preprocess_feature_size_only1.000.061.07
read_sparse_matrix000
reduce_dims_scExp4.220.164.37
scExp1.120.051.17
subsample_scExp1.490.091.58
subset_bam_call_peaks000
swapAltExp_sameColData0.390.000.39
table_enriched_genes_scExp0.180.000.19
wrapper_Signac_FeatureMatrix000

ChromSCape.Rcheck/examples_x64/ChromSCape-Ex.timings

nameusersystemelapsed
CompareWilcox 4.09 0.2664.16
CompareedgeRGLM13.50 0.2713.79
annotToCol21.490.041.53
calculate_CNA29.93 0.3930.33
calculate_cyto_mat28.52 0.0728.58
calculate_gain_or_loss28.91 0.1129.01
calculate_logRatio_CNA27.48 0.1227.61
choose_cluster_scExp3.940.114.05
colors_scExp0.260.000.27
consensus_clustering_scExp3.470.083.54
correlation_and_hierarchical_clust_scExp0.360.010.38
create_project_folder000
create_scDataset_raw8.080.588.65
create_scExp1.230.031.27
define_feature0.220.020.23
detect_samples1.220.001.16
differential_analysis_scExp 5.33 0.23137.17
exclude_features_scExp1.690.041.72
feature_annotation_scExp3.000.103.11
filter_correlated_cell_scExp11.7 0.011.7
filter_scExp1.660.001.66
find_top_features0.340.000.34
gene_set_enrichment_analysis_scExp0.130.020.14
generate_analysis000
generate_coverage_tracks000
getExperimentNames0.180.000.19
getMainExperiment0.270.010.28
get_cyto_features26.84 0.0226.86
get_genomic_coordinates1.50.01.5
get_most_variable_cyto31.11 0.0331.14
has_genomic_coordinates1.950.052.00
import_scExp7.380.037.41
inter_correlation_scExp0.520.000.51
intra_correlation_scExp0.900.030.94
launchApp000
normalize_scExp1.220.001.22
num_cell_after_QC_filt_scExp1.190.001.18
num_cell_after_cor_filt_scExp11.28 0.0111.33
num_cell_before_cor_filt_scExp0.120.000.13
num_cell_in_cluster_scExp0.630.020.64
num_cell_scExp0.980.011.00
peaks_to_bins3.550.116.36
plot_cluster_consensus_scExp0.810.000.81
plot_coverage_BigWig0.660.000.66
plot_differential_H1_scExp0.160.000.15
plot_differential_summary_scExp0.140.000.14
plot_differential_volcano_scExp0.230.000.24
plot_distribution_scExp0.480.000.48
plot_gain_or_loss_barplots60.05 0.0560.10
plot_heatmap_scExp0.310.000.31
plot_inter_correlation_scExp0.570.000.56
plot_intra_correlation_scExp0.510.030.55
plot_most_contributing_features0.390.020.40
plot_pie_most_contributing_chr0.250.000.25
plot_reduced_dim_scExp2.440.002.44
plot_reduced_dim_scExp_CNA30.75 0.0130.77
preprocess_CPM0.980.021.00
preprocess_RPKM1.020.031.04
preprocess_TFIDF1.060.001.07
preprocess_TPM1.130.051.17
preprocess_feature_size_only1.110.011.12
read_sparse_matrix000
reduce_dims_scExp4.250.034.30
scExp1.130.001.12
subsample_scExp1.480.021.50
subset_bam_call_peaks000
swapAltExp_sameColData0.310.000.31
table_enriched_genes_scExp0.150.000.14
wrapper_Signac_FeatureMatrix000