Back to Multiple platform build/check report for BioC 3.13
AB[C]DEFGHIJKLMNOPQRSTUVWXYZ

This page was generated on 2021-09-22 15:04:48 -0400 (Wed, 22 Sep 2021).

BUILD results for ChromSCape on nebbiolo1

To the developers/maintainers of the ChromSCape package:
- Please allow up to 24 hours (and sometimes 48 hours) for your latest push to git@git.bioconductor.org:packages/ChromSCape.git to
reflect on this report. See How and When does the builder pull? When will my changes propagate? here for more information.
- Make sure to use the following settings in order to reproduce any error or warning you see on this page.

raw results

Package 306/2041HostnameOS / ArchINSTALLBUILDCHECKBUILD BIN
ChromSCape 1.2.62  (landing page)
Pacome Prompsy
Snapshot Date: 2021-09-21 04:50:12 -0400 (Tue, 21 Sep 2021)
git_url: https://git.bioconductor.org/packages/ChromSCape
git_branch: RELEASE_3_13
git_last_commit: 752d173
git_last_commit_date: 2021-09-14 04:58:21 -0400 (Tue, 14 Sep 2021)
nebbiolo1Linux (Ubuntu 20.04.2 LTS) / x86_64  OK    OK    OK  UNNEEDED, same version is already published
tokay2Windows Server 2012 R2 Standard / x64  OK    OK    OK    OK  UNNEEDED, same version is already published
machv2macOS 10.14.6 Mojave / x86_64  OK    OK    OK    OK  UNNEEDED, same version is already published

Summary

Package: ChromSCape
Version: 1.2.62
Command: /home/biocbuild/bbs-3.13-bioc/R/bin/R CMD build --keep-empty-dirs --no-resave-data ChromSCape
StartedAt: 2021-09-21 06:56:34 -0400 (Tue, 21 Sep 2021)
EndedAt: 2021-09-21 06:57:40 -0400 (Tue, 21 Sep 2021)
EllapsedTime: 66.3 seconds
RetCode: 0
Status:   OK  
PackageFile: ChromSCape_1.2.62.tar.gz
PackageFileSize: 5.116 MiB

Command output

##############################################################################
##############################################################################
###
### Running command:
###
###   /home/biocbuild/bbs-3.13-bioc/R/bin/R CMD build --keep-empty-dirs --no-resave-data ChromSCape
###
##############################################################################
##############################################################################


* checking for file ‘ChromSCape/DESCRIPTION’ ... OK
* preparing ‘ChromSCape’:
* checking DESCRIPTION meta-information ... OK
* cleaning src
* installing the package to build vignettes
* creating vignettes ... OK
* cleaning src
* checking for LF line-endings in source and make files and shell scripts
* checking for empty or unneeded directories
* looking to see if a ‘data/datalist’ file should be added
* building ‘ChromSCape_1.2.62.tar.gz’