Back to Multiple platform build/check report for BioC 3.13
AB[C]DEFGHIJKLMNOPQRSTUVWXYZ

This page was generated on 2021-09-24 15:06:36 -0400 (Fri, 24 Sep 2021).

BUILD results for ChromSCape on machv2

To the developers/maintainers of the ChromSCape package:
- Please allow up to 24 hours (and sometimes 48 hours) for your latest push to git@git.bioconductor.org:packages/ChromSCape.git to
reflect on this report. See How and When does the builder pull? When will my changes propagate? here for more information.
- Make sure to use the following settings in order to reproduce any error or warning you see on this page.

raw results

Package 306/2041HostnameOS / ArchINSTALLBUILDCHECKBUILD BIN
ChromSCape 1.2.62  (landing page)
Pacome Prompsy
Snapshot Date: 2021-09-23 04:50:12 -0400 (Thu, 23 Sep 2021)
git_url: https://git.bioconductor.org/packages/ChromSCape
git_branch: RELEASE_3_13
git_last_commit: 752d173
git_last_commit_date: 2021-09-14 04:58:21 -0400 (Tue, 14 Sep 2021)
nebbiolo1Linux (Ubuntu 20.04.2 LTS) / x86_64  OK    OK    OK  UNNEEDED, same version is already published
tokay2Windows Server 2012 R2 Standard / x64  OK    OK    OK    OK  UNNEEDED, same version is already published
machv2macOS 10.14.6 Mojave / x86_64  OK    OK    OK    OK  UNNEEDED, same version is already published

Summary

Package: ChromSCape
Version: 1.2.62
Command: /Library/Frameworks/R.framework/Versions/Current/Resources/bin/R CMD build --keep-empty-dirs --no-resave-data ChromSCape
StartedAt: 2021-09-23 11:14:30 -0400 (Thu, 23 Sep 2021)
EndedAt: 2021-09-23 11:15:58 -0400 (Thu, 23 Sep 2021)
EllapsedTime: 88.5 seconds
RetCode: 0
Status:   OK  
PackageFile: ChromSCape_1.2.62.tar.gz
PackageFileSize: 5.116 MiB

Command output

##############################################################################
##############################################################################
###
### Running command:
###
###   /Library/Frameworks/R.framework/Versions/Current/Resources/bin/R CMD build --keep-empty-dirs --no-resave-data ChromSCape
###
##############################################################################
##############################################################################


* checking for file ‘ChromSCape/DESCRIPTION’ ... OK
* preparing ‘ChromSCape’:
* checking DESCRIPTION meta-information ... OK
* cleaning src
* installing the package to build vignettes
* creating vignettes ... OK
* cleaning src
* checking for LF line-endings in source and make files and shell scripts
* checking for empty or unneeded directories
* looking to see if a ‘data/datalist’ file should be added
* building ‘ChromSCape_1.2.62.tar.gz’