Back to Multiple platform build/check report for BioC 3.13
AB[C]DEFGHIJKLMNOPQRSTUVWXYZ

This page was generated on 2021-09-17 15:06:00 -0400 (Fri, 17 Sep 2021).

BUILD BIN results for ChIPseqR on tokay2

To the developers/maintainers of the ChIPseqR package:
- Please allow up to 24 hours (and sometimes 48 hours) for your latest push to git@git.bioconductor.org:packages/ChIPseqR.git to
reflect on this report. See How and When does the builder pull? When will my changes propagate? here for more information.
- Make sure to use the following settings in order to reproduce any error or warning you see on this page.

raw results

Package 298/2041HostnameOS / ArchINSTALLBUILDCHECKBUILD BIN
ChIPseqR 1.46.0  (landing page)
Peter Humburg
Snapshot Date: 2021-09-16 04:50:11 -0400 (Thu, 16 Sep 2021)
git_url: https://git.bioconductor.org/packages/ChIPseqR
git_branch: RELEASE_3_13
git_last_commit: d242683
git_last_commit_date: 2021-05-19 11:44:14 -0400 (Wed, 19 May 2021)
nebbiolo1Linux (Ubuntu 20.04.2 LTS) / x86_64  OK    OK    OK  UNNEEDED, same version is already published
tokay2Windows Server 2012 R2 Standard / x64  OK    OK    OK    OK  UNNEEDED, same version is already published
machv2macOS 10.14.6 Mojave / x86_64  OK    OK    OK    OK  UNNEEDED, same version is already published

Summary

Package: ChIPseqR
Version: 1.46.0
Command: rm -rf ChIPseqR.buildbin-libdir && mkdir ChIPseqR.buildbin-libdir && C:\Users\biocbuild\bbs-3.13-bioc\R\bin\R.exe CMD INSTALL --merge-multiarch --build --library=ChIPseqR.buildbin-libdir ChIPseqR_1.46.0.tar.gz
StartedAt: 2021-09-17 08:37:21 -0400 (Fri, 17 Sep 2021)
EndedAt: 2021-09-17 08:38:41 -0400 (Fri, 17 Sep 2021)
EllapsedTime: 80.1 seconds
RetCode: 0
Status:   OK  
PackageFile: ChIPseqR_1.46.0.zip
PackageFileSize: 1.454 MiB

Command output

##############################################################################
##############################################################################
###
### Running command:
###
###   rm -rf ChIPseqR.buildbin-libdir && mkdir ChIPseqR.buildbin-libdir && C:\Users\biocbuild\bbs-3.13-bioc\R\bin\R.exe CMD INSTALL --merge-multiarch --build --library=ChIPseqR.buildbin-libdir ChIPseqR_1.46.0.tar.gz
###
##############################################################################
##############################################################################



install for i386

* installing *source* package 'ChIPseqR' ...
** using staged installation
** libs
"C:/rtools40/mingw32/bin/"gcc  -I"C:/Users/BIOCBU~1/BBS-3~1.13-/R/include" -DNDEBUG     -I"c:/extsoft/include"     -O2 -Wall  -std=gnu99 -mfpmath=sse -msse2 -mstackrealign  -c startScore.c -o startScore.o
startScore.c: In function '_ratioStat_pois':
startScore.c:66:15: warning: unused variable 'tmp_stat' [-Wunused-variable]
  double stat, tmp_stat;
               ^~~~~~~~
C:/rtools40/mingw32/bin/gcc -shared -s -static-libgcc -o ChIPseqR.dll tmp.def startScore.o -Lc:/extsoft/lib/i386 -Lc:/extsoft/lib -LC:/Users/BIOCBU~1/BBS-3~1.13-/R/bin/i386 -lR
installing to C:/Users/biocbuild/bbs-3.13-bioc/meat/ChIPseqR.buildbin-libdir/00LOCK-ChIPseqR/00new/ChIPseqR/libs/i386
** R
** inst
** byte-compile and prepare package for lazy loading
** help
*** installing help indices
  converting help for package 'ChIPseqR'
    finding HTML links ... done
    BindScore                               html  
    ChIPseqR-package                        html  
    RLEBindScore-class                      html  
    finding level-2 HTML links ... done

    RLEReadCounts-class                     html  
    ReadCounts                              html  
    accessors                               html  
    alignFeature                            html  
    callBindingSites                        html  
    compress-BindScore                      html  
    compress-ReadCounts                     html  
    compress-methods                        html  
    decompress-methods                      html  
    decompress                              html  
    exportBindSequence                      html  
    getBindCor                              html  
    getBindLen                              html  
    getCutoff                               html  
    internal                                html  
    pickPeak                                html  
    plot-BindScore                          html  
    plot-ReadCounts                         html  
    plotReads                               html  
    plotWindow                              html  
    pos2gff                                 html  
    simpleNucCall                           html  
    startScore                              html  
    strandPileup                            html  
    windowCounts                            html  
** building package indices
** installing vignettes
** testing if installed package can be loaded from temporary location
** testing if installed package can be loaded from final location
** testing if installed package keeps a record of temporary installation path

install for x64

* installing *source* package 'ChIPseqR' ...
** libs
"C:/rtools40/mingw64/bin/"gcc  -I"C:/Users/BIOCBU~1/BBS-3~1.13-/R/include" -DNDEBUG     -I"C:/extsoft/include"     -O2 -Wall  -std=gnu99 -mfpmath=sse -msse2 -mstackrealign  -c startScore.c -o startScore.o
startScore.c: In function '_ratioStat_pois':
startScore.c:66:15: warning: unused variable 'tmp_stat' [-Wunused-variable]
  double stat, tmp_stat;
               ^~~~~~~~
C:/rtools40/mingw64/bin/gcc -shared -s -static-libgcc -o ChIPseqR.dll tmp.def startScore.o -LC:/extsoft/lib/x64 -LC:/extsoft/lib -LC:/Users/BIOCBU~1/BBS-3~1.13-/R/bin/x64 -lR
installing to C:/Users/biocbuild/bbs-3.13-bioc/meat/ChIPseqR.buildbin-libdir/ChIPseqR/libs/x64
** testing if installed package can be loaded
* MD5 sums
packaged installation of 'ChIPseqR' as ChIPseqR_1.46.0.zip
* DONE (ChIPseqR)