Back to Multiple platform build/check report for BioC 3.13
AB[C]DEFGHIJKLMNOPQRSTUVWXYZ

This page was generated on 2021-09-17 15:05:37 -0400 (Fri, 17 Sep 2021).

INSTALL results for ChIPseqR on nebbiolo1

To the developers/maintainers of the ChIPseqR package:
- Please allow up to 24 hours (and sometimes 48 hours) for your latest push to git@git.bioconductor.org:packages/ChIPseqR.git to
reflect on this report. See How and When does the builder pull? When will my changes propagate? here for more information.
- Make sure to use the following settings in order to reproduce any error or warning you see on this page.

raw results

Package 298/2041HostnameOS / ArchINSTALLBUILDCHECKBUILD BIN
ChIPseqR 1.46.0  (landing page)
Peter Humburg
Snapshot Date: 2021-09-16 04:50:11 -0400 (Thu, 16 Sep 2021)
git_url: https://git.bioconductor.org/packages/ChIPseqR
git_branch: RELEASE_3_13
git_last_commit: d242683
git_last_commit_date: 2021-05-19 11:44:14 -0400 (Wed, 19 May 2021)
nebbiolo1Linux (Ubuntu 20.04.2 LTS) / x86_64  OK    OK    OK  UNNEEDED, same version is already published
tokay2Windows Server 2012 R2 Standard / x64  OK    OK    OK    OK  UNNEEDED, same version is already published
machv2macOS 10.14.6 Mojave / x86_64  OK    OK    OK    OK  UNNEEDED, same version is already published

Summary

Package: ChIPseqR
Version: 1.46.0
Command: /home/biocbuild/bbs-3.13-bioc/R/bin/R CMD INSTALL ChIPseqR
StartedAt: 2021-09-16 06:14:52 -0400 (Thu, 16 Sep 2021)
EndedAt: 2021-09-16 06:15:23 -0400 (Thu, 16 Sep 2021)
EllapsedTime: 31.4 seconds
RetCode: 0
Status:   OK  

Command output

##############################################################################
##############################################################################
###
### Running command:
###
###   /home/biocbuild/bbs-3.13-bioc/R/bin/R CMD INSTALL ChIPseqR
###
##############################################################################
##############################################################################


* installing to library ‘/home/biocbuild/bbs-3.13-bioc/R/library’
* installing *source* package ‘ChIPseqR’ ...
** using staged installation
** libs
gcc -I"/home/biocbuild/bbs-3.13-bioc/R/include" -DNDEBUG   -I/usr/local/include   -fpic  -g -O2  -Wall -c startScore.c -o startScore.o
startScore.c: In function ‘_ratioStat_pois’:
startScore.c:66:15: warning: unused variable ‘tmp_stat’ [-Wunused-variable]
   66 |  double stat, tmp_stat;
      |               ^~~~~~~~
gcc -shared -L/home/biocbuild/bbs-3.13-bioc/R/lib -L/usr/local/lib -o ChIPseqR.so startScore.o -L/home/biocbuild/bbs-3.13-bioc/R/lib -lR
installing to /home/biocbuild/bbs-3.13-bioc/R/library/00LOCK-ChIPseqR/00new/ChIPseqR/libs
** R
** inst
** byte-compile and prepare package for lazy loading
** help
*** installing help indices
** building package indices
** installing vignettes
** testing if installed package can be loaded from temporary location
** checking absolute paths in shared objects and dynamic libraries
** testing if installed package can be loaded from final location
** testing if installed package keeps a record of temporary installation path
* DONE (ChIPseqR)