Back to Multiple platform build/check report for BioC 3.13
AB[C]DEFGHIJKLMNOPQRSTUVWXYZ

This page was generated on 2021-09-13 15:06:20 -0400 (Mon, 13 Sep 2021).

BUILD BIN results for ChIPseeker on tokay2

To the developers/maintainers of the ChIPseeker package:
- Please allow up to 24 hours (and sometimes 48 hours) for your latest push to git@git.bioconductor.org:packages/ChIPseeker.git to
reflect on this report. See How and When does the builder pull? When will my changes propagate? here for more information.
- Make sure to use the following settings in order to reproduce any error or warning you see on this page.

raw results

Package 296/2041HostnameOS / ArchINSTALLBUILDCHECKBUILD BIN
ChIPseeker 1.28.3  (landing page)
Guangchuang Yu
Snapshot Date: 2021-09-12 04:50:10 -0400 (Sun, 12 Sep 2021)
git_url: https://git.bioconductor.org/packages/ChIPseeker
git_branch: RELEASE_3_13
git_last_commit: 2c3e718
git_last_commit_date: 2021-05-21 05:08:25 -0400 (Fri, 21 May 2021)
nebbiolo1Linux (Ubuntu 20.04.2 LTS) / x86_64  OK    OK    OK  UNNEEDED, same version is already published
tokay2Windows Server 2012 R2 Standard / x64  OK    OK    OK    OK  UNNEEDED, same version is already published
machv2macOS 10.14.6 Mojave / x86_64  OK    OK    OK    OK  UNNEEDED, same version is already published

Summary

Package: ChIPseeker
Version: 1.28.3
Command: rm -rf ChIPseeker.buildbin-libdir && mkdir ChIPseeker.buildbin-libdir && C:\Users\biocbuild\bbs-3.13-bioc\R\bin\R.exe CMD INSTALL --merge-multiarch --build --library=ChIPseeker.buildbin-libdir ChIPseeker_1.28.3.tar.gz
StartedAt: 2021-09-13 08:01:15 -0400 (Mon, 13 Sep 2021)
EndedAt: 2021-09-13 08:02:23 -0400 (Mon, 13 Sep 2021)
EllapsedTime: 68.3 seconds
RetCode: 0
Status:   OK  
PackageFile: ChIPseeker_1.28.3.zip
PackageFileSize: 6.681 MiB

Command output

##############################################################################
##############################################################################
###
### Running command:
###
###   rm -rf ChIPseeker.buildbin-libdir && mkdir ChIPseeker.buildbin-libdir && C:\Users\biocbuild\bbs-3.13-bioc\R\bin\R.exe CMD INSTALL --merge-multiarch --build --library=ChIPseeker.buildbin-libdir ChIPseeker_1.28.3.tar.gz
###
##############################################################################
##############################################################################



install for i386

* installing *source* package 'ChIPseeker' ...
** using staged installation
** R
** data
** inst
** byte-compile and prepare package for lazy loading
** help
*** installing help indices
  converting help for package 'ChIPseeker'
    finding HTML links ... done
    ChIPseeker-package                      html  
    annotatePeak                            html  
    as.GRanges                              html  
    as.data.frame.csAnno                    html  
    covplot                                 html  
    csAnno-class                            html  
    dotFun                                  html  
    downloadGEObedFiles                     html  
    downloadGSMbedFiles                     html  
    dropAnno                                html  
    enrichAnnoOverlap                       html  
    enrichPeakOverlap                       html  
    getBioRegion                            html  
    getGEOInfo                              html  
    getGEOgenomeVersion                     html  
    getGEOspecies                           html  
    getGeneAnno                             html  
    getGenomicAnnotation                    html  
    getNearestFeatureIndicesAndDistances    html  
    getPromoters                            html  
    getSampleFiles                          html  
    getTagMatrix                            html  
    info                                    html  
    overlap                                 html  
    peakHeatmap                             html  
    plotAnnoBar-methods                     html  
    plotAnnoBar                             html  
    plotAnnoPie-methods                     html  
    plotAnnoPie                             html  
    plotAvgProf                             html  
    plotAvgProf2                            html  
    plotDistToTSS-methods                   html  
    plotDistToTSS.data.frame                html  
    readPeakFile                            html  
    reexports                               html  
    seq2gene                                html  
    show-methods                            html  
    shuffle                                 html  
    tagHeatmap                              html  
    upsetplot-methods                       html  
    vennpie-methods                         html  
    vennplot                                html  
    vennplot.peakfile                       html  
** building package indices
** installing vignettes
** testing if installed package can be loaded from temporary location
** testing if installed package can be loaded from final location
** testing if installed package keeps a record of temporary installation path

install for x64

* installing *source* package 'ChIPseeker' ...
** testing if installed package can be loaded
* MD5 sums
packaged installation of 'ChIPseeker' as ChIPseeker_1.28.3.zip
* DONE (ChIPseeker)