Back to Multiple platform build/check report for BioC 3.13
AB[C]DEFGHIJKLMNOPQRSTUVWXYZ

This page was generated on 2021-08-02 15:05:07 -0400 (Mon, 02 Aug 2021).

INSTALL results for ChIPQC on tokay2

To the developers/maintainers of the ChIPQC package:
- Please allow up to 24 hours (and sometimes 48 hours) for your latest push to git@git.bioconductor.org:packages/ChIPQC.git to
reflect on this report. See How and When does the builder pull? When will my changes propagate? here for more information.
- Make sure to use the following settings in order to reproduce any error or warning you see on this page.

raw results

Package 295/2041HostnameOS / ArchINSTALLBUILDCHECKBUILD BIN
ChIPQC 1.28.0  (landing page)
Tom Carroll , Rory Stark
Snapshot Date: 2021-08-01 04:50:10 -0400 (Sun, 01 Aug 2021)
URL: https://git.bioconductor.org/packages/ChIPQC
Branch: RELEASE_3_13
Last Commit: 047a9a4
Last Changed Date: 2021-05-19 12:04:03 -0400 (Wed, 19 May 2021)
nebbiolo1Linux (Ubuntu 20.04.2 LTS) / x86_64  OK    OK    WARNINGS  UNNEEDED, same version is already published
tokay2Windows Server 2012 R2 Standard / x64  OK    OK    WARNINGS    OK  UNNEEDED, same version is already published
machv2macOS 10.14.6 Mojave / x86_64  OK    OK    WARNINGS    OK  UNNEEDED, same version is already published

Summary

Package: ChIPQC
Version: 1.28.0
Command: C:\cygwin\bin\curl.exe -O http://155.52.207.165/BBS/3.13/bioc/src/contrib/ChIPQC_1.28.0.tar.gz && rm -rf ChIPQC.buildbin-libdir && mkdir ChIPQC.buildbin-libdir && C:\Users\biocbuild\bbs-3.13-bioc\R\bin\R.exe CMD INSTALL --merge-multiarch --build --library=ChIPQC.buildbin-libdir ChIPQC_1.28.0.tar.gz && C:\Users\biocbuild\bbs-3.13-bioc\R\bin\R.exe CMD INSTALL ChIPQC_1.28.0.zip && rm ChIPQC_1.28.0.tar.gz ChIPQC_1.28.0.zip
StartedAt: 2021-08-01 10:59:20 -0400 (Sun, 01 Aug 2021)
EndedAt: 2021-08-01 11:02:00 -0400 (Sun, 01 Aug 2021)
EllapsedTime: 159.7 seconds
RetCode: 0
Status:   OK  

Command output

##############################################################################
##############################################################################
###
### Running command:
###
###   C:\cygwin\bin\curl.exe -O http://155.52.207.165/BBS/3.13/bioc/src/contrib/ChIPQC_1.28.0.tar.gz && rm -rf ChIPQC.buildbin-libdir && mkdir ChIPQC.buildbin-libdir && C:\Users\biocbuild\bbs-3.13-bioc\R\bin\R.exe CMD INSTALL --merge-multiarch --build --library=ChIPQC.buildbin-libdir ChIPQC_1.28.0.tar.gz && C:\Users\biocbuild\bbs-3.13-bioc\R\bin\R.exe CMD INSTALL ChIPQC_1.28.0.zip && rm ChIPQC_1.28.0.tar.gz ChIPQC_1.28.0.zip
###
##############################################################################
##############################################################################


  % Total    % Received % Xferd  Average Speed   Time    Time     Time  Current
                                 Dload  Upload   Total   Spent    Left  Speed

  0     0    0     0    0     0      0      0 --:--:-- --:--:-- --:--:--     0
100 1074k  100 1074k    0     0  4351k      0 --:--:-- --:--:-- --:--:-- 4368k

install for i386

* installing *source* package 'ChIPQC' ...
** using staged installation
** R
** data
** inst
** byte-compile and prepare package for lazy loading
** help
*** installing help indices
  converting help for package 'ChIPQC'
    finding HTML links ... done
    ChIPQC-data                             html  
    finding level-2 HTML links ... done

    ChIPQC-package                          html  
    ChIPQC                                  html  
    ChIPQCexperiment-class                  html  
    ChIPQCreport                            html  
    ChIPQCsample-class                      html  
    FragmentLengthCrossCoverage-methods     html  
    Normalisedaveragepeaksignal-methods     html  
    QCannotation-methods                    html  
    QCcontrol-methods                       html  
    QCdba-methods                           html  
    QCmetadata-methods                      html  
    QCmetrics-methods                       html  
    QCsample-methods                        html  
    ReadLengthCrossCoverage-methods         html  
    RelativeCrossCoverage-methods           html  
    averagepeaksignal-methods               html  
    coveragehistogram-methods               html  
    crosscoverage-methods                   html  
    duplicateRate-methods                   html  
    duplicates-methods                      html  
    flagtagcounts-methods                   html  
    fragmentlength-methods                  html  
    frip-methods                            html  
    mapped-methods                          html  
    peaks-methods                           html  
    plotCC-methods                          html  
    plotCorHeatmap-methods                  html  
    plotCoverageHist-methods                html  
    plotFribl-methods                       html  
    plotFrip-methods                        html  
    plotPeakProfile-methods                 html  
    plotPrincomp-methods                    html  
    plotRap-methods                         html  
    plotRegi-methods                        html  
    plotSSD-methods                         html  
    readlength-methods                      html  
    reads-methods                           html  
    regi-methods                            html  
    ribl-methods                            html  
    rip-methods                             html  
    ssd-methods                             html  
** building package indices
** installing vignettes
   'ChIPQC.Rnw' 
** testing if installed package can be loaded from temporary location
** testing if installed package can be loaded from final location
** testing if installed package keeps a record of temporary installation path

install for x64

* installing *source* package 'ChIPQC' ...
** testing if installed package can be loaded
* MD5 sums
packaged installation of 'ChIPQC' as ChIPQC_1.28.0.zip
* DONE (ChIPQC)
* installing to library 'C:/Users/biocbuild/bbs-3.13-bioc/R/library'
package 'ChIPQC' successfully unpacked and MD5 sums checked