Back to Multiple platform build/check report for BioC 3.13
AB[C]DEFGHIJKLMNOPQRSTUVWXYZ

This page was generated on 2021-09-17 15:06:32 -0400 (Fri, 17 Sep 2021).

BUILD BIN results for ChIPComp on machv2

To the developers/maintainers of the ChIPComp package:
- Please allow up to 24 hours (and sometimes 48 hours) for your latest push to git@git.bioconductor.org:packages/ChIPComp.git to
reflect on this report. See How and When does the builder pull? When will my changes propagate? here for more information.
- Make sure to use the following settings in order to reproduce any error or warning you see on this page.

raw results

Package 291/2041HostnameOS / ArchINSTALLBUILDCHECKBUILD BIN
ChIPComp 1.22.0  (landing page)
Li Chen
Snapshot Date: 2021-09-16 04:50:11 -0400 (Thu, 16 Sep 2021)
git_url: https://git.bioconductor.org/packages/ChIPComp
git_branch: RELEASE_3_13
git_last_commit: 2b6dc05
git_last_commit_date: 2021-05-19 12:15:10 -0400 (Wed, 19 May 2021)
nebbiolo1Linux (Ubuntu 20.04.2 LTS) / x86_64  OK    OK    OK  UNNEEDED, same version is already published
tokay2Windows Server 2012 R2 Standard / x64  OK    OK    OK    OK  UNNEEDED, same version is already published
machv2macOS 10.14.6 Mojave / x86_64  OK    OK    OK    OK  UNNEEDED, same version is already published

Summary

Package: ChIPComp
Version: 1.22.0
Command: rm -rf ChIPComp.buildbin-libdir && mkdir ChIPComp.buildbin-libdir && /Users/biocbuild/BBS/utils/build-universal.sh ChIPComp_1.22.0.tar.gz /Library/Frameworks/R.framework/Versions/Current/Resources/bin/R ChIPComp.buildbin-libdir
StartedAt: 2021-09-17 02:01:46 -0400 (Fri, 17 Sep 2021)
EndedAt: 2021-09-17 02:02:54 -0400 (Fri, 17 Sep 2021)
EllapsedTime: 68.3 seconds
RetCode: 0
Status:   OK  
PackageFile: ChIPComp_1.22.0.tgz
PackageFileSize: 630.4 KiB

Command output

##############################################################################
##############################################################################
###
### Running command:
###
###   rm -rf ChIPComp.buildbin-libdir && mkdir ChIPComp.buildbin-libdir && /Users/biocbuild/BBS/utils/build-universal.sh ChIPComp_1.22.0.tar.gz /Library/Frameworks/R.framework/Versions/Current/Resources/bin/R ChIPComp.buildbin-libdir
###
##############################################################################
##############################################################################


>>>>>>> 
>>>>>>> INSTALLATION WITH 'R CMD INSTALL --preclean --no-multiarch --library=ChIPComp.buildbin-libdir ChIPComp_1.22.0.tar.gz'
>>>>>>> 

* installing *source* package ‘ChIPComp’ ...
** using staged installation
** libs
clang -mmacosx-version-min=10.13 -I"/Library/Frameworks/R.framework/Resources/include" -DNDEBUG   -I/usr/local/include   -fPIC  -Wall -g -O2  -c mva.c -o mva.o
clang -mmacosx-version-min=10.13 -dynamiclib -Wl,-headerpad_max_install_names -undefined dynamic_lookup -single_module -multiply_defined suppress -L/Library/Frameworks/R.framework/Resources/lib -L/usr/local/lib -o ChIPComp.so mva.o -F/Library/Frameworks/R.framework/.. -framework R -Wl,-framework -Wl,CoreFoundation
installing to /Users/biocbuild/bbs-3.13-bioc/meat/ChIPComp.buildbin-libdir/00LOCK-ChIPComp/00new/ChIPComp/libs
** R
** data
** inst
** byte-compile and prepare package for lazy loading
** help
*** installing help indices
** building package indices
** installing vignettes
** testing if installed package can be loaded from temporary location
** checking absolute paths in shared objects and dynamic libraries
** testing if installed package can be loaded from final location
** testing if installed package keeps a record of temporary installation path
* DONE (ChIPComp)


>>>>>>> 
>>>>>>> FIXING LINKS FOR ChIPComp.buildbin-libdir/ChIPComp/libs/ChIPComp.so
>>>>>>> 

install_name_tool -change "/usr/local/lib/libgcc_s.1.dylib" "/Library/Frameworks/R.framework/Versions/4.1/Resources/lib/libgcc_s.1.dylib" "ChIPComp.buildbin-libdir/ChIPComp/libs/ChIPComp.so"
install_name_tool -change "/usr/local/lib/libgfortran.5.dylib" "/Library/Frameworks/R.framework/Versions/4.1/Resources/lib/libgfortran.5.dylib" "ChIPComp.buildbin-libdir/ChIPComp/libs/ChIPComp.so"
install_name_tool -change "/usr/local/lib/libquadmath.0.dylib" "/Library/Frameworks/R.framework/Versions/4.1/Resources/lib/libquadmath.0.dylib" "ChIPComp.buildbin-libdir/ChIPComp/libs/ChIPComp.so"