Back to Multiple platform build/check report for BioC 3.13
AB[C]DEFGHIJKLMNOPQRSTUVWXYZ

This page was generated on 2021-09-22 15:05:39 -0400 (Wed, 22 Sep 2021).

BUILD results for ChIC on machv2

To the developers/maintainers of the ChIC package:
- Please allow up to 24 hours (and sometimes 48 hours) for your latest push to git@git.bioconductor.org:packages/ChIC.git to
reflect on this report. See How and When does the builder pull? When will my changes propagate? here for more information.
- Make sure to use the following settings in order to reproduce any error or warning you see on this page.

raw results

Package 287/2041HostnameOS / ArchINSTALLBUILDCHECKBUILD BIN
ChIC 1.12.0  (landing page)
Carmen Maria Livi
Snapshot Date: 2021-09-21 04:50:12 -0400 (Tue, 21 Sep 2021)
git_url: https://git.bioconductor.org/packages/ChIC
git_branch: RELEASE_3_13
git_last_commit: 11f21c4
git_last_commit_date: 2021-05-19 12:35:03 -0400 (Wed, 19 May 2021)
nebbiolo1Linux (Ubuntu 20.04.2 LTS) / x86_64  OK    OK    OK  UNNEEDED, same version is already published
tokay2Windows Server 2012 R2 Standard / x64... NOT SUPPORTED ...
machv2macOS 10.14.6 Mojave / x86_64  OK    OK    OK    OK  UNNEEDED, same version is already published

Summary

Package: ChIC
Version: 1.12.0
Command: /Library/Frameworks/R.framework/Versions/Current/Resources/bin/R CMD build --keep-empty-dirs --no-resave-data ChIC
StartedAt: 2021-09-21 11:12:41 -0400 (Tue, 21 Sep 2021)
EndedAt: 2021-09-21 11:17:23 -0400 (Tue, 21 Sep 2021)
EllapsedTime: 282.2 seconds
RetCode: 0
Status:   OK  
PackageFile: ChIC_1.12.0.tar.gz
PackageFileSize: 1.059 MiB

Command output

##############################################################################
##############################################################################
###
### Running command:
###
###   /Library/Frameworks/R.framework/Versions/Current/Resources/bin/R CMD build --keep-empty-dirs --no-resave-data ChIC
###
##############################################################################
##############################################################################


* checking for file ‘ChIC/DESCRIPTION’ ... OK
* preparing ‘ChIC’:
* checking DESCRIPTION meta-information ... OK
* installing the package to build vignettes
* creating vignettes ... OK
* checking for LF line-endings in source and make files and shell scripts
* checking for empty or unneeded directories
Omitted ‘LazyData’ from DESCRIPTION
* building ‘ChIC_1.12.0.tar.gz’